BEGIN:VCALENDAR
VERSION:2.0
PRODID:-//Outcalt Event Center Ski Hi Event Complex - ECPv6.15.17.1//NONSGML v1.0//EN
CALSCALE:GREGORIAN
METHOD:PUBLISH
X-WR-CALNAME:Outcalt Event Center Ski Hi Event Complex
X-ORIGINAL-URL:https://skihicomplex.com
X-WR-CALDESC:Events for Outcalt Event Center Ski Hi Event Complex
REFRESH-INTERVAL;VALUE=DURATION:PT1H
X-Robots-Tag:noindex
X-PUBLISHED-TTL:PT1H
BEGIN:VTIMEZONE
TZID:America/Denver
BEGIN:DAYLIGHT
TZOFFSETFROM:-0700
TZOFFSETTO:-0600
TZNAME:MDT
DTSTART:20240310T090000
END:DAYLIGHT
BEGIN:STANDARD
TZOFFSETFROM:-0600
TZOFFSETTO:-0700
TZNAME:MST
DTSTART:20241103T080000
END:STANDARD
BEGIN:DAYLIGHT
TZOFFSETFROM:-0700
TZOFFSETTO:-0600
TZNAME:MDT
DTSTART:20250309T090000
END:DAYLIGHT
BEGIN:STANDARD
TZOFFSETFROM:-0600
TZOFFSETTO:-0700
TZNAME:MST
DTSTART:20251102T080000
END:STANDARD
BEGIN:DAYLIGHT
TZOFFSETFROM:-0700
TZOFFSETTO:-0600
TZNAME:MDT
DTSTART:20260308T090000
END:DAYLIGHT
BEGIN:STANDARD
TZOFFSETFROM:-0600
TZOFFSETTO:-0700
TZNAME:MST
DTSTART:20261101T080000
END:STANDARD
END:VTIMEZONE
BEGIN:VEVENT
DTSTART;VALUE=DATE:20250521
DTEND;VALUE=DATE:20250522
DTSTAMP:20260420T055832
CREATED:20250528T181220Z
LAST-MODIFIED:20250528T181220Z
UID:10001210-1747785600-1747871999@skihicomplex.com
SUMMARY:Private Event
DESCRIPTION:
URL:https://skihicomplex.com/event/private-event-67/
LOCATION:Outcalt Event & Conference at SLV Ski Hi Complex
CATEGORIES:Meeting Room - Yellow
END:VEVENT
BEGIN:VEVENT
DTSTART;VALUE=DATE:20250520
DTEND;VALUE=DATE:20250521
DTSTAMP:20260420T055832
CREATED:20250413T053803Z
LAST-MODIFIED:20250413T053803Z
UID:10001185-1747699200-1747785599@skihicomplex.com
SUMMARY:Cattle & Grain Marketing Strategies
DESCRIPTION:
URL:https://skihicomplex.com/event/cattle-grain-marketing-strategies/
LOCATION:Outcalt Event & Conference at SLV Ski Hi Complex
CATEGORIES:Meeting Room - Green
END:VEVENT
BEGIN:VEVENT
DTSTART;TZID=America/Denver:20250518T160000
DTEND;TZID=America/Denver:20250518T180000
DTSTAMP:20260420T055832
CREATED:20250413T053732Z
LAST-MODIFIED:20250413T053732Z
UID:10001184-1747584000-1747591200@skihicomplex.com
SUMMARY:Dance Lessons
DESCRIPTION:
URL:https://skihicomplex.com/event/dance-lessons-5/
LOCATION:Outcalt Event & Conference at SLV Ski Hi Complex
CATEGORIES:Banquet Room
ATTACH;FMTTYPE=application/pdf:https://eadn-wc05-13503014.nxedge.io/wp-content/uploads/2025/04/Ski-Hi-Complex-Dance-Lessons-1-1.pdf
END:VEVENT
BEGIN:VEVENT
DTSTART;VALUE=DATE:20250518
DTEND;VALUE=DATE:20250519
DTSTAMP:20260420T055832
CREATED:20250430T185708Z
LAST-MODIFIED:20250430T185708Z
UID:10001200-1747526400-1747612799@skihicomplex.com
SUMMARY:Private Event
DESCRIPTION:
URL:https://skihicomplex.com/event/private-event-64/
LOCATION:Outcalt Event & Conference at SLV Ski Hi Complex
CATEGORIES:Meeting Room - Yellow
END:VEVENT
BEGIN:VEVENT
DTSTART;VALUE=DATE:20250517
DTEND;VALUE=DATE:20250518
DTSTAMP:20260420T055833
CREATED:20250413T053508Z
LAST-MODIFIED:20250413T053508Z
UID:10001182-1747440000-1747526399@skihicomplex.com
SUMMARY:Private Event
DESCRIPTION:
URL:https://skihicomplex.com/event/private-event-56/
LOCATION:Outcalt Event & Conference at SLV Ski Hi Complex
CATEGORIES:Banquet Room
END:VEVENT
BEGIN:VEVENT
DTSTART;TZID=America/Denver:20250515T110000
DTEND;TZID=America/Denver:20250515T130000
DTSTAMP:20260420T055833
CREATED:20241007T175401Z
LAST-MODIFIED:20241009T175356Z
UID:10000677-1747306800-1747314000@skihicomplex.com
SUMMARY:Commodity Food Distribution
DESCRIPTION:This event is hosted outside on the South side of the Ski Hi Complex on Sherman Ave.
URL:https://skihicomplex.com/event/commodity-supplemental-food-assistance-program/2025-05-15/
LOCATION:Outcalt Event & Conference at SLV Ski Hi Complex
CATEGORIES:Rodeo Arena
ATTACH;FMTTYPE=image/png:https://eadn-wc05-13503014.nxedge.io/wp-content/uploads/2024/10/CareandShare.FinalLogo-2023-2C.png
END:VEVENT
BEGIN:VEVENT
DTSTART;VALUE=DATE:20250515
DTEND;VALUE=DATE:20250516
DTSTAMP:20260420T055833
CREATED:20250227T185729Z
LAST-MODIFIED:20250227T185729Z
UID:10001123-1747267200-1747353599@skihicomplex.com
SUMMARY:Recipe for Hope Fundraiser - Invitation Only
DESCRIPTION:
URL:https://skihicomplex.com/event/recipe-for-hope-fundraiser-invitation-only/
LOCATION:Outcalt Event & Conference at SLV Ski Hi Complex
CATEGORIES:Banquet Room
END:VEVENT
BEGIN:VEVENT
DTSTART;VALUE=DATE:20250514
DTEND;VALUE=DATE:20250515
DTSTAMP:20260420T055833
CREATED:20250413T053448Z
LAST-MODIFIED:20250413T053448Z
UID:10001181-1747180800-1747267199@skihicomplex.com
SUMMARY:Unavailable
DESCRIPTION:
URL:https://skihicomplex.com/event/unavailable-8/
LOCATION:Outcalt Event & Conference at SLV Ski Hi Complex
CATEGORIES:Banquet Room
END:VEVENT
BEGIN:VEVENT
DTSTART;TZID=America/Denver:20250512T190000
DTEND;TZID=America/Denver:20250512T210000
DTSTAMP:20260420T055833
CREATED:20241007T174237Z
LAST-MODIFIED:20241010T180540Z
UID:10000985-1747076400-1747083600@skihicomplex.com
SUMMARY:San Luis Valley Fair Board Meeting
DESCRIPTION:
URL:https://skihicomplex.com/event/san-luis-valley-fair-board-meeting/2025-05-12/
LOCATION:Outcalt Event & Conference at SLV Ski Hi Complex
CATEGORIES:Meeting Room - Yellow
END:VEVENT
BEGIN:VEVENT
DTSTART;TZID=America/Denver:20250511T140000
DTEND;TZID=America/Denver:20250511T170000
DTSTAMP:20260420T055833
CREATED:20250226T203959Z
LAST-MODIFIED:20250413T052706Z
UID:10001173-1746972000-1746982800@skihicomplex.com
SUMMARY:Spring in the Valley Rodeo
DESCRIPTION:
URL:https://skihicomplex.com/event/spring-in-the-valley-rodeo/2025-05-11/
LOCATION:Outcalt Event & Conference at SLV Ski Hi Complex
CATEGORIES:Rodeo Arena
END:VEVENT
BEGIN:VEVENT
DTSTART;TZID=America/Denver:20250510T140000
DTEND;TZID=America/Denver:20250510T170000
DTSTAMP:20260420T055833
CREATED:20250226T203959Z
LAST-MODIFIED:20250413T052706Z
UID:10001106-1746885600-1746896400@skihicomplex.com
SUMMARY:Spring in the Valley Rodeo
DESCRIPTION:
URL:https://skihicomplex.com/event/spring-in-the-valley-rodeo/2025-05-10/
LOCATION:Outcalt Event & Conference at SLV Ski Hi Complex
CATEGORIES:Rodeo Arena
END:VEVENT
BEGIN:VEVENT
DTSTART;TZID=America/Denver:20250509T090000
DTEND;TZID=America/Denver:20250509T140000
DTSTAMP:20260420T055833
CREATED:20250413T053404Z
LAST-MODIFIED:20250413T053404Z
UID:10001180-1746781200-1746799200@skihicomplex.com
SUMMARY:Celebrating Aging Conference
DESCRIPTION:
URL:https://skihicomplex.com/event/celebrating-aging-conference-4/
LOCATION:Outcalt Event & Conference at SLV Ski Hi Complex
CATEGORIES:Meeting Room - Green
ATTACH;FMTTYPE=image/png:https://eadn-wc05-13503014.nxedge.io/wp-content/uploads/2025/04/2025-Celebrating-Aging-Conference-Poster.png
END:VEVENT
BEGIN:VEVENT
DTSTART;TZID=America/Denver:20250509T090000
DTEND;TZID=America/Denver:20250509T140000
DTSTAMP:20260420T055833
CREATED:20250413T053203Z
LAST-MODIFIED:20250413T053203Z
UID:10001179-1746781200-1746799200@skihicomplex.com
SUMMARY:Celebrating Aging Conference
DESCRIPTION:
URL:https://skihicomplex.com/event/celebrating-aging-conference-3/
LOCATION:Outcalt Event & Conference at SLV Ski Hi Complex
CATEGORIES:Meeting Room - Yellow
ATTACH;FMTTYPE=image/png:https://eadn-wc05-13503014.nxedge.io/wp-content/uploads/2025/04/2025-Celebrating-Aging-Conference-Poster.png
END:VEVENT
BEGIN:VEVENT
DTSTART;TZID=America/Denver:20250509T090000
DTEND;TZID=America/Denver:20250509T140000
DTSTAMP:20260420T055833
CREATED:20250413T053128Z
LAST-MODIFIED:20250413T053128Z
UID:10001178-1746781200-1746799200@skihicomplex.com
SUMMARY:Celebrating Aging Conference
DESCRIPTION:
URL:https://skihicomplex.com/event/celebrating-aging-conference-2/
LOCATION:Outcalt Event & Conference at SLV Ski Hi Complex
CATEGORIES:Meeting Room - Orange
ATTACH;FMTTYPE=image/png:https://eadn-wc05-13503014.nxedge.io/wp-content/uploads/2025/04/2025-Celebrating-Aging-Conference-Poster.png
END:VEVENT
BEGIN:VEVENT
DTSTART;TZID=America/Denver:20250509T090000
DTEND;TZID=America/Denver:20250509T140000
DTSTAMP:20260420T055833
CREATED:20250413T053050Z
LAST-MODIFIED:20250413T053050Z
UID:10001177-1746781200-1746799200@skihicomplex.com
SUMMARY:Celebrating Aging Conference
DESCRIPTION:
URL:https://skihicomplex.com/event/celebrating-aging-conference/
LOCATION:Outcalt Event & Conference at SLV Ski Hi Complex
CATEGORIES:Banquet Room
ATTACH;FMTTYPE=image/png:https://eadn-wc05-13503014.nxedge.io/wp-content/uploads/2025/04/2025-Celebrating-Aging-Conference-Poster.png
END:VEVENT
BEGIN:VEVENT
DTSTART;VALUE=DATE:20250507
DTEND;VALUE=DATE:20250508
DTSTAMP:20260420T055833
CREATED:20250413T052856Z
LAST-MODIFIED:20250413T052856Z
UID:10001176-1746576000-1746662399@skihicomplex.com
SUMMARY:Delta Center Graduation Dinner
DESCRIPTION:
URL:https://skihicomplex.com/event/delta-center-graduation-dinner/
LOCATION:Outcalt Event & Conference at SLV Ski Hi Complex
CATEGORIES:Meeting Room - Yellow
END:VEVENT
BEGIN:VEVENT
DTSTART;VALUE=DATE:20250507
DTEND;VALUE=DATE:20250508
DTSTAMP:20260420T055833
CREATED:20250413T052827Z
LAST-MODIFIED:20250413T052827Z
UID:10001175-1746576000-1746662399@skihicomplex.com
SUMMARY:SLV BOCES - Teacher of the Year Banquet
DESCRIPTION:
URL:https://skihicomplex.com/event/slv-boces-teacher-of-the-year-banquet/
LOCATION:Outcalt Event & Conference at SLV Ski Hi Complex
CATEGORIES:Banquet Room
END:VEVENT
BEGIN:VEVENT
DTSTART;VALUE=DATE:20250506
DTEND;VALUE=DATE:20250507
DTSTAMP:20260420T055833
CREATED:20241010T175223Z
LAST-MODIFIED:20241010T183351Z
UID:10001008-1746489600-1746575999@skihicomplex.com
SUMMARY:Private Event
DESCRIPTION:
URL:https://skihicomplex.com/event/private-event-10/2025-05-06/
LOCATION:Outcalt Event & Conference at SLV Ski Hi Complex
CATEGORIES:Meeting Room - Orange
END:VEVENT
BEGIN:VEVENT
DTSTART;TZID=America/Denver:20250504T160000
DTEND;TZID=America/Denver:20250504T180000
DTSTAMP:20260420T055833
CREATED:20250413T053654Z
LAST-MODIFIED:20250413T053654Z
UID:10001183-1746374400-1746381600@skihicomplex.com
SUMMARY:Dance Lessons
DESCRIPTION:
URL:https://skihicomplex.com/event/dance-lessons-4/
LOCATION:Outcalt Event & Conference at SLV Ski Hi Complex
CATEGORIES:Banquet Room
ATTACH;FMTTYPE=application/pdf:https://eadn-wc05-13503014.nxedge.io/wp-content/uploads/2025/04/Ski-Hi-Complex-Dance-Lessons-1.pdf
END:VEVENT
BEGIN:VEVENT
DTSTART;VALUE=DATE:20250503
DTEND;VALUE=DATE:20250504
DTSTAMP:20260420T055833
CREATED:20250430T185615Z
LAST-MODIFIED:20250430T185615Z
UID:10001199-1746230400-1746316799@skihicomplex.com
SUMMARY:Private Event
DESCRIPTION:
URL:https://skihicomplex.com/event/private-event-63/
LOCATION:Outcalt Event & Conference at SLV Ski Hi Complex
CATEGORIES:Event Center
END:VEVENT
BEGIN:VEVENT
DTSTART;VALUE=DATE:20250503
DTEND;VALUE=DATE:20250504
DTSTAMP:20260420T055833
CREATED:20250430T185555Z
LAST-MODIFIED:20250430T185555Z
UID:10001198-1746230400-1746316799@skihicomplex.com
SUMMARY:Private Event
DESCRIPTION:
URL:https://skihicomplex.com/event/private-event-62/
LOCATION:Outcalt Event & Conference at SLV Ski Hi Complex
CATEGORIES:Banquet Room
END:VEVENT
BEGIN:VEVENT
DTSTART;TZID=America/Denver:20250501T170000
DTEND;TZID=America/Denver:20250501T190000
DTSTAMP:20260420T055833
CREATED:20241010T174434Z
LAST-MODIFIED:20241017T155836Z
UID:10000975-1746118800-1746126000@skihicomplex.com
SUMMARY:Open Walking
DESCRIPTION:
URL:https://skihicomplex.com/event/open-walking/2025-05-01/
LOCATION:Outcalt Event & Conference at SLV Ski Hi Complex
CATEGORIES:Event Center
ATTACH;FMTTYPE=image/png:https://eadn-wc05-13503014.nxedge.io/wp-content/uploads/2024/10/Open-Walking-24-25.png
END:VEVENT
BEGIN:VEVENT
DTSTART;TZID=America/Denver:20250501T070000
DTEND;TZID=America/Denver:20250501T100000
DTSTAMP:20260420T055833
CREATED:20241010T173756Z
LAST-MODIFIED:20241016T224605Z
UID:10000875-1746082800-1746093600@skihicomplex.com
SUMMARY:Opening Walking
DESCRIPTION:
URL:https://skihicomplex.com/event/opening-walking/2025-05-01/
LOCATION:Outcalt Event & Conference at SLV Ski Hi Complex
CATEGORIES:Event Center
ATTACH;FMTTYPE=image/png:https://eadn-wc05-13503014.nxedge.io/wp-content/uploads/2024/10/Open-Walking-24-25.png
END:VEVENT
BEGIN:VEVENT
DTSTART;VALUE=DATE:20250501
DTEND;VALUE=DATE:20250502
DTSTAMP:20260420T055833
CREATED:20250430T185533Z
LAST-MODIFIED:20250430T185533Z
UID:10001197-1746057600-1746143999@skihicomplex.com
SUMMARY:Private Event
DESCRIPTION:
URL:https://skihicomplex.com/event/private-event-61/
LOCATION:Outcalt Event & Conference at SLV Ski Hi Complex
CATEGORIES:Meeting Room - Green
END:VEVENT
BEGIN:VEVENT
DTSTART;TZID=America/Denver:20250430T170000
DTEND;TZID=America/Denver:20250430T190000
DTSTAMP:20260420T055833
CREATED:20241010T174434Z
LAST-MODIFIED:20241017T155836Z
UID:10000974-1746032400-1746039600@skihicomplex.com
SUMMARY:Open Walking
DESCRIPTION:
URL:https://skihicomplex.com/event/open-walking/2025-04-30/
LOCATION:Outcalt Event & Conference at SLV Ski Hi Complex
CATEGORIES:Event Center
ATTACH;FMTTYPE=image/png:https://eadn-wc05-13503014.nxedge.io/wp-content/uploads/2024/10/Open-Walking-24-25.png
END:VEVENT
BEGIN:VEVENT
DTSTART;TZID=America/Denver:20250430T070000
DTEND;TZID=America/Denver:20250430T100000
DTSTAMP:20260420T055833
CREATED:20241010T173756Z
LAST-MODIFIED:20241016T224605Z
UID:10000874-1745996400-1746007200@skihicomplex.com
SUMMARY:Opening Walking
DESCRIPTION:
URL:https://skihicomplex.com/event/opening-walking/2025-04-30/
LOCATION:Outcalt Event & Conference at SLV Ski Hi Complex
CATEGORIES:Event Center
ATTACH;FMTTYPE=image/png:https://eadn-wc05-13503014.nxedge.io/wp-content/uploads/2024/10/Open-Walking-24-25.png
END:VEVENT
BEGIN:VEVENT
DTSTART;TZID=America/Denver:20250429T170000
DTEND;TZID=America/Denver:20250429T190000
DTSTAMP:20260420T055833
CREATED:20241010T174434Z
LAST-MODIFIED:20241017T155836Z
UID:10000973-1745946000-1745953200@skihicomplex.com
SUMMARY:Open Walking
DESCRIPTION:
URL:https://skihicomplex.com/event/open-walking/2025-04-29/
LOCATION:Outcalt Event & Conference at SLV Ski Hi Complex
CATEGORIES:Event Center
ATTACH;FMTTYPE=image/png:https://eadn-wc05-13503014.nxedge.io/wp-content/uploads/2024/10/Open-Walking-24-25.png
END:VEVENT
BEGIN:VEVENT
DTSTART;TZID=America/Denver:20250429T070000
DTEND;TZID=America/Denver:20250429T100000
DTSTAMP:20260420T055833
CREATED:20241010T173756Z
LAST-MODIFIED:20241016T224605Z
UID:10000873-1745910000-1745920800@skihicomplex.com
SUMMARY:Opening Walking
DESCRIPTION:
URL:https://skihicomplex.com/event/opening-walking/2025-04-29/
LOCATION:Outcalt Event & Conference at SLV Ski Hi Complex
CATEGORIES:Event Center
ATTACH;FMTTYPE=image/png:https://eadn-wc05-13503014.nxedge.io/wp-content/uploads/2024/10/Open-Walking-24-25.png
END:VEVENT
BEGIN:VEVENT
DTSTART;VALUE=DATE:20250429
DTEND;VALUE=DATE:20250430
DTSTAMP:20260420T055833
CREATED:20250430T185509Z
LAST-MODIFIED:20250430T185509Z
UID:10001196-1745884800-1745971199@skihicomplex.com
SUMMARY:Private Event
DESCRIPTION:
URL:https://skihicomplex.com/event/private-event-60/
LOCATION:Outcalt Event & Conference at SLV Ski Hi Complex
CATEGORIES:Meeting Room - Green
END:VEVENT
BEGIN:VEVENT
DTSTART;TZID=America/Denver:20250428T170000
DTEND;TZID=America/Denver:20250428T190000
DTSTAMP:20260420T055833
CREATED:20241010T174434Z
LAST-MODIFIED:20241017T155836Z
UID:10000972-1745859600-1745866800@skihicomplex.com
SUMMARY:Open Walking
DESCRIPTION:
URL:https://skihicomplex.com/event/open-walking/2025-04-28/
LOCATION:Outcalt Event & Conference at SLV Ski Hi Complex
CATEGORIES:Event Center
ATTACH;FMTTYPE=image/png:https://eadn-wc05-13503014.nxedge.io/wp-content/uploads/2024/10/Open-Walking-24-25.png
END:VEVENT
END:VCALENDAR