BEGIN:VCALENDAR
VERSION:2.0
PRODID:-//Outcalt Event Center Ski Hi Event Complex - ECPv6.15.17.1//NONSGML v1.0//EN
CALSCALE:GREGORIAN
METHOD:PUBLISH
X-WR-CALNAME:Outcalt Event Center Ski Hi Event Complex
X-ORIGINAL-URL:https://skihicomplex.com
X-WR-CALDESC:Events for Outcalt Event Center Ski Hi Event Complex
REFRESH-INTERVAL;VALUE=DURATION:PT1H
X-Robots-Tag:noindex
X-PUBLISHED-TTL:PT1H
BEGIN:VTIMEZONE
TZID:America/Denver
BEGIN:DAYLIGHT
TZOFFSETFROM:-0700
TZOFFSETTO:-0600
TZNAME:MDT
DTSTART:20240310T090000
END:DAYLIGHT
BEGIN:STANDARD
TZOFFSETFROM:-0600
TZOFFSETTO:-0700
TZNAME:MST
DTSTART:20241103T080000
END:STANDARD
BEGIN:DAYLIGHT
TZOFFSETFROM:-0700
TZOFFSETTO:-0600
TZNAME:MDT
DTSTART:20250309T090000
END:DAYLIGHT
BEGIN:STANDARD
TZOFFSETFROM:-0600
TZOFFSETTO:-0700
TZNAME:MST
DTSTART:20251102T080000
END:STANDARD
BEGIN:DAYLIGHT
TZOFFSETFROM:-0700
TZOFFSETTO:-0600
TZNAME:MDT
DTSTART:20260308T090000
END:DAYLIGHT
BEGIN:STANDARD
TZOFFSETFROM:-0600
TZOFFSETTO:-0700
TZNAME:MST
DTSTART:20261101T080000
END:STANDARD
END:VTIMEZONE
BEGIN:VEVENT
DTSTART;VALUE=DATE:20250220
DTEND;VALUE=DATE:20250223
DTSTAMP:20260420T190935
CREATED:20250217T160557Z
LAST-MODIFIED:20250217T160557Z
UID:10001056-1740009600-1740268799@skihicomplex.com
SUMMARY:Annie's Project
DESCRIPTION:
URL:https://skihicomplex.com/event/annies-project/
LOCATION:Outcalt Event & Conference at SLV Ski Hi Complex
CATEGORIES:Meeting Room - Orange
END:VEVENT
BEGIN:VEVENT
DTSTART;TZID=America/Denver:20250219T170000
DTEND;TZID=America/Denver:20250219T190000
DTSTAMP:20260420T190935
CREATED:20241010T174434Z
LAST-MODIFIED:20241017T155836Z
UID:10000934-1739984400-1739991600@skihicomplex.com
SUMMARY:Open Walking
DESCRIPTION:
URL:https://skihicomplex.com/event/open-walking/2025-02-19/
LOCATION:Outcalt Event & Conference at SLV Ski Hi Complex
CATEGORIES:Event Center
ATTACH;FMTTYPE=image/png:https://eadn-wc05-13503014.nxedge.io/wp-content/uploads/2024/10/Open-Walking-24-25.png
END:VEVENT
BEGIN:VEVENT
DTSTART;TZID=America/Denver:20250219T093000
DTEND;TZID=America/Denver:20250219T120000
DTSTAMP:20260420T190935
CREATED:20250226T201925Z
LAST-MODIFIED:20250226T201925Z
UID:10001094-1739957400-1739966400@skihicomplex.com
SUMMARY:All Valley Law Enforcement Meeting
DESCRIPTION:
URL:https://skihicomplex.com/event/all-valley-law-enforcement-meeting-2/2025-02-19/
LOCATION:Outcalt Event & Conference at SLV Ski Hi Complex
CATEGORIES:Meeting Room - Orange
END:VEVENT
BEGIN:VEVENT
DTSTART;TZID=America/Denver:20250219T070000
DTEND;TZID=America/Denver:20250219T100000
DTSTAMP:20260420T190935
CREATED:20241010T173756Z
LAST-MODIFIED:20241016T224605Z
UID:10000834-1739948400-1739959200@skihicomplex.com
SUMMARY:Opening Walking
DESCRIPTION:
URL:https://skihicomplex.com/event/opening-walking/2025-02-19/
LOCATION:Outcalt Event & Conference at SLV Ski Hi Complex
CATEGORIES:Event Center
ATTACH;FMTTYPE=image/png:https://eadn-wc05-13503014.nxedge.io/wp-content/uploads/2024/10/Open-Walking-24-25.png
END:VEVENT
BEGIN:VEVENT
DTSTART;TZID=America/Denver:20250218T170000
DTEND;TZID=America/Denver:20250218T190000
DTSTAMP:20260420T190935
CREATED:20241010T174434Z
LAST-MODIFIED:20241017T155836Z
UID:10000933-1739898000-1739905200@skihicomplex.com
SUMMARY:Open Walking
DESCRIPTION:
URL:https://skihicomplex.com/event/open-walking/2025-02-18/
LOCATION:Outcalt Event & Conference at SLV Ski Hi Complex
CATEGORIES:Event Center
ATTACH;FMTTYPE=image/png:https://eadn-wc05-13503014.nxedge.io/wp-content/uploads/2024/10/Open-Walking-24-25.png
END:VEVENT
BEGIN:VEVENT
DTSTART;TZID=America/Denver:20250218T100000
DTEND;TZID=America/Denver:20250218T120000
DTSTAMP:20260420T190935
CREATED:20241007T174350Z
LAST-MODIFIED:20250217T160945Z
UID:10000991-1739872800-1739880000@skihicomplex.com
SUMMARY:All Valley Law Enforcement Meeting
DESCRIPTION:
URL:https://skihicomplex.com/event/all-valley-law-enforcement-meeting/2025-02-18/
LOCATION:Outcalt Event & Conference at SLV Ski Hi Complex
CATEGORIES:Meeting Room - Orange
END:VEVENT
BEGIN:VEVENT
DTSTART;TZID=America/Denver:20250218T070000
DTEND;TZID=America/Denver:20250218T100000
DTSTAMP:20260420T190935
CREATED:20241010T173756Z
LAST-MODIFIED:20241016T224605Z
UID:10000833-1739862000-1739872800@skihicomplex.com
SUMMARY:Opening Walking
DESCRIPTION:
URL:https://skihicomplex.com/event/opening-walking/2025-02-18/
LOCATION:Outcalt Event & Conference at SLV Ski Hi Complex
CATEGORIES:Event Center
ATTACH;FMTTYPE=image/png:https://eadn-wc05-13503014.nxedge.io/wp-content/uploads/2024/10/Open-Walking-24-25.png
END:VEVENT
BEGIN:VEVENT
DTSTART;TZID=America/Denver:20250217T170000
DTEND;TZID=America/Denver:20250217T190000
DTSTAMP:20260420T190935
CREATED:20241010T174434Z
LAST-MODIFIED:20241017T155836Z
UID:10000932-1739811600-1739818800@skihicomplex.com
SUMMARY:Open Walking
DESCRIPTION:
URL:https://skihicomplex.com/event/open-walking/2025-02-17/
LOCATION:Outcalt Event & Conference at SLV Ski Hi Complex
CATEGORIES:Event Center
ATTACH;FMTTYPE=image/png:https://eadn-wc05-13503014.nxedge.io/wp-content/uploads/2024/10/Open-Walking-24-25.png
END:VEVENT
BEGIN:VEVENT
DTSTART;TZID=America/Denver:20250217T070000
DTEND;TZID=America/Denver:20250217T100000
DTSTAMP:20260420T190935
CREATED:20241010T173756Z
LAST-MODIFIED:20241016T224605Z
UID:10000832-1739775600-1739786400@skihicomplex.com
SUMMARY:Opening Walking
DESCRIPTION:
URL:https://skihicomplex.com/event/opening-walking/2025-02-17/
LOCATION:Outcalt Event & Conference at SLV Ski Hi Complex
CATEGORIES:Event Center
ATTACH;FMTTYPE=image/png:https://eadn-wc05-13503014.nxedge.io/wp-content/uploads/2024/10/Open-Walking-24-25.png
END:VEVENT
BEGIN:VEVENT
DTSTART;VALUE=DATE:20250217
DTEND;VALUE=DATE:20250218
DTSTAMP:20260420T190935
CREATED:20250217T161114Z
LAST-MODIFIED:20250217T161114Z
UID:10001058-1739750400-1739836799@skihicomplex.com
SUMMARY:Private Event
DESCRIPTION:
URL:https://skihicomplex.com/event/private-event-33/
LOCATION:Outcalt Event & Conference at SLV Ski Hi Complex
CATEGORIES:Event Center
END:VEVENT
BEGIN:VEVENT
DTSTART;VALUE=DATE:20250217
DTEND;VALUE=DATE:20250218
DTSTAMP:20260420T190935
CREATED:20250217T161054Z
LAST-MODIFIED:20250217T161054Z
UID:10001057-1739750400-1739836799@skihicomplex.com
SUMMARY:Private Event
DESCRIPTION:
URL:https://skihicomplex.com/event/private-event-32/
LOCATION:Outcalt Event & Conference at SLV Ski Hi Complex
CATEGORIES:Banquet Room
END:VEVENT
BEGIN:VEVENT
DTSTART;TZID=America/Denver:20250213T170000
DTEND;TZID=America/Denver:20250213T190000
DTSTAMP:20260420T190935
CREATED:20241010T174434Z
LAST-MODIFIED:20241017T155836Z
UID:10000931-1739466000-1739473200@skihicomplex.com
SUMMARY:Open Walking
DESCRIPTION:
URL:https://skihicomplex.com/event/open-walking/2025-02-13/
LOCATION:Outcalt Event & Conference at SLV Ski Hi Complex
CATEGORIES:Event Center
ATTACH;FMTTYPE=image/png:https://eadn-wc05-13503014.nxedge.io/wp-content/uploads/2024/10/Open-Walking-24-25.png
END:VEVENT
BEGIN:VEVENT
DTSTART;TZID=America/Denver:20250213T070000
DTEND;TZID=America/Denver:20250213T100000
DTSTAMP:20260420T190935
CREATED:20241010T173756Z
LAST-MODIFIED:20241016T224605Z
UID:10000831-1739430000-1739440800@skihicomplex.com
SUMMARY:Opening Walking
DESCRIPTION:
URL:https://skihicomplex.com/event/opening-walking/2025-02-13/
LOCATION:Outcalt Event & Conference at SLV Ski Hi Complex
CATEGORIES:Event Center
ATTACH;FMTTYPE=image/png:https://eadn-wc05-13503014.nxedge.io/wp-content/uploads/2024/10/Open-Walking-24-25.png
END:VEVENT
BEGIN:VEVENT
DTSTART;VALUE=DATE:20250213
DTEND;VALUE=DATE:20250214
DTSTAMP:20260420T190935
CREATED:20250217T161540Z
LAST-MODIFIED:20250217T161540Z
UID:10001067-1739404800-1739491199@skihicomplex.com
SUMMARY:Empowering Leaders
DESCRIPTION:
URL:https://skihicomplex.com/event/empowering-leaders-2/
LOCATION:Outcalt Event & Conference at SLV Ski Hi Complex
CATEGORIES:Meeting Room - Green
END:VEVENT
BEGIN:VEVENT
DTSTART;VALUE=DATE:20250213
DTEND;VALUE=DATE:20250214
DTSTAMP:20260420T190935
CREATED:20250217T161518Z
LAST-MODIFIED:20250217T161518Z
UID:10001066-1739404800-1739491199@skihicomplex.com
SUMMARY:Empowering Leaders
DESCRIPTION:
URL:https://skihicomplex.com/event/empowering-leaders/
LOCATION:Outcalt Event & Conference at SLV Ski Hi Complex
CATEGORIES:Meeting Room - Yellow
END:VEVENT
BEGIN:VEVENT
DTSTART;TZID=America/Denver:20250212T170000
DTEND;TZID=America/Denver:20250212T190000
DTSTAMP:20260420T190935
CREATED:20241010T174434Z
LAST-MODIFIED:20241017T155836Z
UID:10000930-1739379600-1739386800@skihicomplex.com
SUMMARY:Open Walking
DESCRIPTION:
URL:https://skihicomplex.com/event/open-walking/2025-02-12/
LOCATION:Outcalt Event & Conference at SLV Ski Hi Complex
CATEGORIES:Event Center
ATTACH;FMTTYPE=image/png:https://eadn-wc05-13503014.nxedge.io/wp-content/uploads/2024/10/Open-Walking-24-25.png
END:VEVENT
BEGIN:VEVENT
DTSTART;TZID=America/Denver:20250212T070000
DTEND;TZID=America/Denver:20250212T100000
DTSTAMP:20260420T190935
CREATED:20241010T173756Z
LAST-MODIFIED:20241016T224605Z
UID:10000830-1739343600-1739354400@skihicomplex.com
SUMMARY:Opening Walking
DESCRIPTION:
URL:https://skihicomplex.com/event/opening-walking/2025-02-12/
LOCATION:Outcalt Event & Conference at SLV Ski Hi Complex
CATEGORIES:Event Center
ATTACH;FMTTYPE=image/png:https://eadn-wc05-13503014.nxedge.io/wp-content/uploads/2024/10/Open-Walking-24-25.png
END:VEVENT
BEGIN:VEVENT
DTSTART;TZID=America/Denver:20250211T170000
DTEND;TZID=America/Denver:20250211T190000
DTSTAMP:20260420T190935
CREATED:20241010T174434Z
LAST-MODIFIED:20241017T155836Z
UID:10000929-1739293200-1739300400@skihicomplex.com
SUMMARY:Open Walking
DESCRIPTION:
URL:https://skihicomplex.com/event/open-walking/2025-02-11/
LOCATION:Outcalt Event & Conference at SLV Ski Hi Complex
CATEGORIES:Event Center
ATTACH;FMTTYPE=image/png:https://eadn-wc05-13503014.nxedge.io/wp-content/uploads/2024/10/Open-Walking-24-25.png
END:VEVENT
BEGIN:VEVENT
DTSTART;TZID=America/Denver:20250211T070000
DTEND;TZID=America/Denver:20250211T100000
DTSTAMP:20260420T190935
CREATED:20241010T173756Z
LAST-MODIFIED:20241016T224605Z
UID:10000829-1739257200-1739268000@skihicomplex.com
SUMMARY:Opening Walking
DESCRIPTION:
URL:https://skihicomplex.com/event/opening-walking/2025-02-11/
LOCATION:Outcalt Event & Conference at SLV Ski Hi Complex
CATEGORIES:Event Center
ATTACH;FMTTYPE=image/png:https://eadn-wc05-13503014.nxedge.io/wp-content/uploads/2024/10/Open-Walking-24-25.png
END:VEVENT
BEGIN:VEVENT
DTSTART;VALUE=DATE:20250211
DTEND;VALUE=DATE:20250214
DTSTAMP:20260420T190935
CREATED:20241015T005853Z
LAST-MODIFIED:20241015T005853Z
UID:10001035-1739232000-1739491199@skihicomplex.com
SUMMARY:Elementary Ag Festival
DESCRIPTION:
URL:https://skihicomplex.com/event/elementary-ag-festival-2/
LOCATION:Outcalt Event & Conference at SLV Ski Hi Complex
CATEGORIES:Event Center
END:VEVENT
BEGIN:VEVENT
DTSTART;VALUE=DATE:20250211
DTEND;VALUE=DATE:20250212
DTSTAMP:20260420T190935
CREATED:20250217T164359Z
LAST-MODIFIED:20250217T164359Z
UID:10001083-1739232000-1739318399@skihicomplex.com
SUMMARY:Private Event
DESCRIPTION:
URL:https://skihicomplex.com/event/private-event-38/
LOCATION:Outcalt Event & Conference at SLV Ski Hi Complex
CATEGORIES:Meeting Room - Orange
END:VEVENT
BEGIN:VEVENT
DTSTART;VALUE=DATE:20250211
DTEND;VALUE=DATE:20250212
DTSTAMP:20260420T190935
CREATED:20250217T161453Z
LAST-MODIFIED:20250217T161453Z
UID:10001065-1739232000-1739318399@skihicomplex.com
SUMMARY:Daniels Fund Interviews
DESCRIPTION:
URL:https://skihicomplex.com/event/daniels-fund-interviews-3/
LOCATION:Outcalt Event & Conference at SLV Ski Hi Complex
CATEGORIES:Meeting Room - Green
END:VEVENT
BEGIN:VEVENT
DTSTART;VALUE=DATE:20250211
DTEND;VALUE=DATE:20250212
DTSTAMP:20260420T190935
CREATED:20250217T161431Z
LAST-MODIFIED:20250217T161431Z
UID:10001064-1739232000-1739318399@skihicomplex.com
SUMMARY:Daniels Fund Interviews
DESCRIPTION:
URL:https://skihicomplex.com/event/daniels-fund-interviews-2/
LOCATION:Outcalt Event & Conference at SLV Ski Hi Complex
CATEGORIES:Meeting Room - Yellow
END:VEVENT
BEGIN:VEVENT
DTSTART;VALUE=DATE:20250211
DTEND;VALUE=DATE:20250212
DTSTAMP:20260420T190935
CREATED:20250217T161409Z
LAST-MODIFIED:20250217T161409Z
UID:10001063-1739232000-1739318399@skihicomplex.com
SUMMARY:Daniels Fund Interviews
DESCRIPTION:
URL:https://skihicomplex.com/event/daniels-fund-interviews/
LOCATION:Outcalt Event & Conference at SLV Ski Hi Complex
CATEGORIES:Meeting Room - Orange
END:VEVENT
BEGIN:VEVENT
DTSTART;TZID=America/Denver:20250210T190000
DTEND;TZID=America/Denver:20250210T210000
DTSTAMP:20260420T190935
CREATED:20241007T174237Z
LAST-MODIFIED:20241010T180540Z
UID:10000982-1739214000-1739221200@skihicomplex.com
SUMMARY:San Luis Valley Fair Board Meeting
DESCRIPTION:
URL:https://skihicomplex.com/event/san-luis-valley-fair-board-meeting/2025-02-10/
LOCATION:Outcalt Event & Conference at SLV Ski Hi Complex
CATEGORIES:Meeting Room - Yellow
END:VEVENT
BEGIN:VEVENT
DTSTART;TZID=America/Denver:20250210T170000
DTEND;TZID=America/Denver:20250210T190000
DTSTAMP:20260420T190935
CREATED:20241010T174434Z
LAST-MODIFIED:20241017T155836Z
UID:10000928-1739206800-1739214000@skihicomplex.com
SUMMARY:Open Walking
DESCRIPTION:
URL:https://skihicomplex.com/event/open-walking/2025-02-10/
LOCATION:Outcalt Event & Conference at SLV Ski Hi Complex
CATEGORIES:Event Center
ATTACH;FMTTYPE=image/png:https://eadn-wc05-13503014.nxedge.io/wp-content/uploads/2024/10/Open-Walking-24-25.png
END:VEVENT
BEGIN:VEVENT
DTSTART;TZID=America/Denver:20250210T070000
DTEND;TZID=America/Denver:20250210T100000
DTSTAMP:20260420T190935
CREATED:20241010T173756Z
LAST-MODIFIED:20241016T224605Z
UID:10000828-1739170800-1739181600@skihicomplex.com
SUMMARY:Opening Walking
DESCRIPTION:
URL:https://skihicomplex.com/event/opening-walking/2025-02-10/
LOCATION:Outcalt Event & Conference at SLV Ski Hi Complex
CATEGORIES:Event Center
ATTACH;FMTTYPE=image/png:https://eadn-wc05-13503014.nxedge.io/wp-content/uploads/2024/10/Open-Walking-24-25.png
END:VEVENT
BEGIN:VEVENT
DTSTART;VALUE=DATE:20250208
DTEND;VALUE=DATE:20250209
DTSTAMP:20260420T190935
CREATED:20250217T161636Z
LAST-MODIFIED:20250217T161636Z
UID:10001069-1738972800-1739059199@skihicomplex.com
SUMMARY:Lincoln Day Dinner
DESCRIPTION:
URL:https://skihicomplex.com/event/lincoln-day-dinner/
LOCATION:Outcalt Event & Conference at SLV Ski Hi Complex
CATEGORIES:Banquet Room
END:VEVENT
BEGIN:VEVENT
DTSTART;TZID=America/Denver:20250206T170000
DTEND;TZID=America/Denver:20250206T190000
DTSTAMP:20260420T190935
CREATED:20241010T174434Z
LAST-MODIFIED:20241017T155836Z
UID:10000927-1738861200-1738868400@skihicomplex.com
SUMMARY:Open Walking
DESCRIPTION:
URL:https://skihicomplex.com/event/open-walking/2025-02-06/
LOCATION:Outcalt Event & Conference at SLV Ski Hi Complex
CATEGORIES:Event Center
ATTACH;FMTTYPE=image/png:https://eadn-wc05-13503014.nxedge.io/wp-content/uploads/2024/10/Open-Walking-24-25.png
END:VEVENT
BEGIN:VEVENT
DTSTART;TZID=America/Denver:20250206T070000
DTEND;TZID=America/Denver:20250206T100000
DTSTAMP:20260420T190935
CREATED:20241010T173756Z
LAST-MODIFIED:20241016T224605Z
UID:10000827-1738825200-1738836000@skihicomplex.com
SUMMARY:Opening Walking
DESCRIPTION:
URL:https://skihicomplex.com/event/opening-walking/2025-02-06/
LOCATION:Outcalt Event & Conference at SLV Ski Hi Complex
CATEGORIES:Event Center
ATTACH;FMTTYPE=image/png:https://eadn-wc05-13503014.nxedge.io/wp-content/uploads/2024/10/Open-Walking-24-25.png
END:VEVENT
END:VCALENDAR