BEGIN:VCALENDAR
VERSION:2.0
PRODID:-//Outcalt Event Center Ski Hi Event Complex - ECPv6.15.17.1//NONSGML v1.0//EN
CALSCALE:GREGORIAN
METHOD:PUBLISH
X-WR-CALNAME:Outcalt Event Center Ski Hi Event Complex
X-ORIGINAL-URL:https://skihicomplex.com
X-WR-CALDESC:Events for Outcalt Event Center Ski Hi Event Complex
REFRESH-INTERVAL;VALUE=DURATION:PT1H
X-Robots-Tag:noindex
X-PUBLISHED-TTL:PT1H
BEGIN:VTIMEZONE
TZID:America/Denver
BEGIN:DAYLIGHT
TZOFFSETFROM:-0700
TZOFFSETTO:-0600
TZNAME:MDT
DTSTART:20240310T090000
END:DAYLIGHT
BEGIN:STANDARD
TZOFFSETFROM:-0600
TZOFFSETTO:-0700
TZNAME:MST
DTSTART:20241103T080000
END:STANDARD
BEGIN:DAYLIGHT
TZOFFSETFROM:-0700
TZOFFSETTO:-0600
TZNAME:MDT
DTSTART:20250309T090000
END:DAYLIGHT
BEGIN:STANDARD
TZOFFSETFROM:-0600
TZOFFSETTO:-0700
TZNAME:MST
DTSTART:20251102T080000
END:STANDARD
BEGIN:DAYLIGHT
TZOFFSETFROM:-0700
TZOFFSETTO:-0600
TZNAME:MDT
DTSTART:20260308T090000
END:DAYLIGHT
BEGIN:STANDARD
TZOFFSETFROM:-0600
TZOFFSETTO:-0700
TZNAME:MST
DTSTART:20261101T080000
END:STANDARD
END:VTIMEZONE
BEGIN:VEVENT
DTSTART;VALUE=DATE:20250624
DTEND;VALUE=DATE:20250625
DTSTAMP:20260419T211804
CREATED:20250413T055109Z
LAST-MODIFIED:20250618T221453Z
UID:10001193-1750723200-1750809599@skihicomplex.com
SUMMARY:ServSafe Class
DESCRIPTION:
URL:https://skihicomplex.com/event/servsafe-class-3/
LOCATION:Outcalt Event & Conference at SLV Ski Hi Complex
CATEGORIES:Meeting Room - Green
END:VEVENT
BEGIN:VEVENT
DTSTART;VALUE=DATE:20250623
DTEND;VALUE=DATE:20250624
DTSTAMP:20260419T211804
CREATED:20250528T182005Z
LAST-MODIFIED:20250528T182005Z
UID:10001219-1750636800-1750723199@skihicomplex.com
SUMMARY:Private Event
DESCRIPTION:
URL:https://skihicomplex.com/event/private-event-76/
LOCATION:Outcalt Event & Conference at SLV Ski Hi Complex
CATEGORIES:Meeting Room - Orange
END:VEVENT
BEGIN:VEVENT
DTSTART;VALUE=DATE:20250623
DTEND;VALUE=DATE:20250624
DTSTAMP:20260419T211804
CREATED:20250528T181945Z
LAST-MODIFIED:20250528T181945Z
UID:10001218-1750636800-1750723199@skihicomplex.com
SUMMARY:Private Event
DESCRIPTION:
URL:https://skihicomplex.com/event/private-event-75/
LOCATION:Outcalt Event & Conference at SLV Ski Hi Complex
CATEGORIES:Banquet Room
END:VEVENT
BEGIN:VEVENT
DTSTART;VALUE=DATE:20250621
DTEND;VALUE=DATE:20250623
DTSTAMP:20260419T211804
CREATED:20250506T154428Z
LAST-MODIFIED:20250506T154428Z
UID:10001208-1750464000-1750636799@skihicomplex.com
SUMMARY:Ranch Roping
DESCRIPTION:
URL:https://skihicomplex.com/event/ranch-roping/
LOCATION:Outcalt Event & Conference at SLV Ski Hi Complex
CATEGORIES:Rodeo Arena
END:VEVENT
BEGIN:VEVENT
DTSTART;VALUE=DATE:20250621
DTEND;VALUE=DATE:20250622
DTSTAMP:20260419T211804
CREATED:20241015T011138Z
LAST-MODIFIED:20241015T011138Z
UID:10001047-1750464000-1750550399@skihicomplex.com
SUMMARY:Rocky Mountain Elk Foundation Banquet
DESCRIPTION:
URL:https://skihicomplex.com/event/rocky-mountain-elk-foundation-banquet-2/
LOCATION:Outcalt Event & Conference at SLV Ski Hi Complex
CATEGORIES:Meeting Room - Green
END:VEVENT
BEGIN:VEVENT
DTSTART;VALUE=DATE:20250621
DTEND;VALUE=DATE:20250622
DTSTAMP:20260419T211804
CREATED:20241015T011114Z
LAST-MODIFIED:20241015T011114Z
UID:10001046-1750464000-1750550399@skihicomplex.com
SUMMARY:Rocky Mountain Elk Foundation Banquet
DESCRIPTION:
URL:https://skihicomplex.com/event/rocky-mountain-elk-foundation-banquet/
LOCATION:Outcalt Event & Conference at SLV Ski Hi Complex
CATEGORIES:Banquet Room
END:VEVENT
BEGIN:VEVENT
DTSTART;VALUE=DATE:20250620
DTEND;VALUE=DATE:20250622
DTSTAMP:20260419T211804
CREATED:20250226T210004Z
LAST-MODIFIED:20250226T210004Z
UID:10001121-1750377600-1750550399@skihicomplex.com
SUMMARY:Private Event
DESCRIPTION:
URL:https://skihicomplex.com/event/private-event-45/
LOCATION:Outcalt Event & Conference at SLV Ski Hi Complex
CATEGORIES:Event Center
END:VEVENT
BEGIN:VEVENT
DTSTART;TZID=America/Denver:20250619T110000
DTEND;TZID=America/Denver:20250619T130000
DTSTAMP:20260419T211804
CREATED:20241007T175401Z
LAST-MODIFIED:20241009T175356Z
UID:10000678-1750330800-1750338000@skihicomplex.com
SUMMARY:Commodity Food Distribution
DESCRIPTION:This event is hosted outside on the South side of the Ski Hi Complex on Sherman Ave.
URL:https://skihicomplex.com/event/commodity-supplemental-food-assistance-program/2025-06-19/
LOCATION:Outcalt Event & Conference at SLV Ski Hi Complex
CATEGORIES:Rodeo Arena
ATTACH;FMTTYPE=image/png:https://eadn-wc05-13503014.nxedge.io/wp-content/uploads/2024/10/CareandShare.FinalLogo-2023-2C.png
END:VEVENT
BEGIN:VEVENT
DTSTART;VALUE=DATE:20250619
DTEND;VALUE=DATE:20250620
DTSTAMP:20260419T211804
CREATED:20250618T221420Z
LAST-MODIFIED:20250618T221420Z
UID:10001241-1750291200-1750377599@skihicomplex.com
SUMMARY:Private Event
DESCRIPTION:
URL:https://skihicomplex.com/event/private-event-84/
LOCATION:Outcalt Event & Conference at SLV Ski Hi Complex
CATEGORIES:Meeting Room - Green
END:VEVENT
BEGIN:VEVENT
DTSTART;TZID=America/Denver:20250618T093000
DTEND;TZID=America/Denver:20250618T120000
DTSTAMP:20260419T211804
CREATED:20250226T201925Z
LAST-MODIFIED:20250226T201925Z
UID:10001098-1750239000-1750248000@skihicomplex.com
SUMMARY:All Valley Law Enforcement Meeting
DESCRIPTION:
URL:https://skihicomplex.com/event/all-valley-law-enforcement-meeting-2/2025-06-18/
LOCATION:Outcalt Event & Conference at SLV Ski Hi Complex
CATEGORIES:Meeting Room - Orange
END:VEVENT
BEGIN:VEVENT
DTSTART;VALUE=DATE:20250618
DTEND;VALUE=DATE:20250619
DTSTAMP:20260419T211804
CREATED:20250618T221357Z
LAST-MODIFIED:20250618T221357Z
UID:10001240-1750204800-1750291199@skihicomplex.com
SUMMARY:Private Event
DESCRIPTION:
URL:https://skihicomplex.com/event/private-event-83/
LOCATION:Outcalt Event & Conference at SLV Ski Hi Complex
CATEGORIES:Meeting Room - Orange
END:VEVENT
BEGIN:VEVENT
DTSTART;TZID=America/Denver:20250616T080000
DTEND;TZID=America/Denver:20250616T170000
DTSTAMP:20260419T211804
CREATED:20250430T190001Z
LAST-MODIFIED:20250430T190001Z
UID:10001201-1750060800-1750093200@skihicomplex.com
SUMMARY:Private Event
DESCRIPTION:
URL:https://skihicomplex.com/event/private-event-28/
LOCATION:Outcalt Event & Conference at SLV Ski Hi Complex
CATEGORIES:Meeting Room - Green
END:VEVENT
BEGIN:VEVENT
DTSTART;VALUE=DATE:20250616
DTEND;VALUE=DATE:20250617
DTSTAMP:20260419T211804
CREATED:20250618T221337Z
LAST-MODIFIED:20250618T221337Z
UID:10001239-1750032000-1750118399@skihicomplex.com
SUMMARY:Private Event
DESCRIPTION:
URL:https://skihicomplex.com/event/private-event-82/
LOCATION:Outcalt Event & Conference at SLV Ski Hi Complex
CATEGORIES:Meeting Room - Orange
END:VEVENT
BEGIN:VEVENT
DTSTART;VALUE=DATE:20250613
DTEND;VALUE=DATE:20250615
DTSTAMP:20260419T211804
CREATED:20250528T181923Z
LAST-MODIFIED:20250528T181923Z
UID:10001217-1749772800-1749945599@skihicomplex.com
SUMMARY:Private Event
DESCRIPTION:
URL:https://skihicomplex.com/event/private-event-74/
LOCATION:Outcalt Event & Conference at SLV Ski Hi Complex
CATEGORIES:Event Center
END:VEVENT
BEGIN:VEVENT
DTSTART;VALUE=DATE:20250612
DTEND;VALUE=DATE:20250614
DTSTAMP:20260419T211804
CREATED:20250413T055008Z
LAST-MODIFIED:20250413T055008Z
UID:10001192-1749686400-1749859199@skihicomplex.com
SUMMARY:SLV AHEC - Neonatal Symposium
DESCRIPTION:
URL:https://skihicomplex.com/event/slv-ahec-neonatal-symposium/
LOCATION:Outcalt Event & Conference at SLV Ski Hi Complex
CATEGORIES:Banquet Room
END:VEVENT
BEGIN:VEVENT
DTSTART;VALUE=DATE:20250611
DTEND;VALUE=DATE:20250612
DTSTAMP:20260419T211804
CREATED:20250618T221259Z
LAST-MODIFIED:20250618T221259Z
UID:10001238-1749600000-1749686399@skihicomplex.com
SUMMARY:Private Event
DESCRIPTION:
URL:https://skihicomplex.com/event/private-event-81/
LOCATION:Outcalt Event & Conference at SLV Ski Hi Complex
CATEGORIES:Meeting Room - Green
END:VEVENT
BEGIN:VEVENT
DTSTART;VALUE=DATE:20250611
DTEND;VALUE=DATE:20250612
DTSTAMP:20260419T211804
CREATED:20250618T221234Z
LAST-MODIFIED:20250618T221234Z
UID:10001237-1749600000-1749686399@skihicomplex.com
SUMMARY:Private Event
DESCRIPTION:
URL:https://skihicomplex.com/event/private-event-80/
LOCATION:Outcalt Event & Conference at SLV Ski Hi Complex
CATEGORIES:Meeting Room - Yellow
END:VEVENT
BEGIN:VEVENT
DTSTART;VALUE=DATE:20250611
DTEND;VALUE=DATE:20250612
DTSTAMP:20260419T211804
CREATED:20250528T181703Z
LAST-MODIFIED:20250528T181703Z
UID:10001216-1749600000-1749686399@skihicomplex.com
SUMMARY:Private Event
DESCRIPTION:
URL:https://skihicomplex.com/event/private-event-73/
LOCATION:Outcalt Event & Conference at SLV Ski Hi Complex
CATEGORIES:Meeting Room - Orange
END:VEVENT
BEGIN:VEVENT
DTSTART;VALUE=DATE:20250611
DTEND;VALUE=DATE:20250612
DTSTAMP:20260419T211804
CREATED:20250413T054843Z
LAST-MODIFIED:20250413T054843Z
UID:10001191-1749600000-1749686399@skihicomplex.com
SUMMARY:Wenta Nip Customer Appreciation
DESCRIPTION:
URL:https://skihicomplex.com/event/wenta-nip-customer-appreciation/
LOCATION:Outcalt Event & Conference at SLV Ski Hi Complex
CATEGORIES:Banquet Room
END:VEVENT
BEGIN:VEVENT
DTSTART;VALUE=DATE:20250610
DTEND;VALUE=DATE:20250612
DTSTAMP:20260419T211804
CREATED:20250528T181641Z
LAST-MODIFIED:20250528T181641Z
UID:10001215-1749513600-1749686399@skihicomplex.com
SUMMARY:Private Event
DESCRIPTION:
URL:https://skihicomplex.com/event/private-event-72/
LOCATION:Outcalt Event & Conference at SLV Ski Hi Complex
CATEGORIES:Meeting Room - Green
END:VEVENT
BEGIN:VEVENT
DTSTART;VALUE=DATE:20250610
DTEND;VALUE=DATE:20250611
DTSTAMP:20260419T211804
CREATED:20250618T221159Z
LAST-MODIFIED:20250618T221159Z
UID:10001236-1749513600-1749599999@skihicomplex.com
SUMMARY:Private Event
DESCRIPTION:
URL:https://skihicomplex.com/event/private-event-79/
LOCATION:Outcalt Event & Conference at SLV Ski Hi Complex
CATEGORIES:Event Center
END:VEVENT
BEGIN:VEVENT
DTSTART;VALUE=DATE:20250610
DTEND;VALUE=DATE:20250611
DTSTAMP:20260419T211804
CREATED:20250226T205219Z
LAST-MODIFIED:20250226T205219Z
UID:10001113-1749513600-1749599999@skihicomplex.com
SUMMARY:SLV Rural Electrical Coop Annual Meeting
DESCRIPTION:
URL:https://skihicomplex.com/event/slv-rural-electrical-coop-annual-meeting/
LOCATION:Outcalt Event & Conference at SLV Ski Hi Complex
CATEGORIES:Banquet Room
END:VEVENT
BEGIN:VEVENT
DTSTART;TZID=America/Denver:20250609T190000
DTEND;TZID=America/Denver:20250609T210000
DTSTAMP:20260419T211804
CREATED:20241007T174237Z
LAST-MODIFIED:20241010T180540Z
UID:10000986-1749495600-1749502800@skihicomplex.com
SUMMARY:San Luis Valley Fair Board Meeting
DESCRIPTION:
URL:https://skihicomplex.com/event/san-luis-valley-fair-board-meeting/2025-06-09/
LOCATION:Outcalt Event & Conference at SLV Ski Hi Complex
CATEGORIES:Meeting Room - Yellow
END:VEVENT
BEGIN:VEVENT
DTSTART;VALUE=DATE:20250607
DTEND;VALUE=DATE:20250608
DTSTAMP:20260419T211804
CREATED:20250528T181458Z
LAST-MODIFIED:20250528T181458Z
UID:10001214-1749254400-1749340799@skihicomplex.com
SUMMARY:Private Event
DESCRIPTION:
URL:https://skihicomplex.com/event/private-event-71/
LOCATION:Outcalt Event & Conference at SLV Ski Hi Complex
CATEGORIES:Meeting Room - Yellow
END:VEVENT
BEGIN:VEVENT
DTSTART;VALUE=DATE:20250607
DTEND;VALUE=DATE:20250608
DTSTAMP:20260419T211804
CREATED:20250528T181410Z
LAST-MODIFIED:20250528T181410Z
UID:10001213-1749254400-1749340799@skihicomplex.com
SUMMARY:Private Event
DESCRIPTION:
URL:https://skihicomplex.com/event/private-event-70/
LOCATION:Outcalt Event & Conference at SLV Ski Hi Complex
CATEGORIES:Meeting Room - Orange
END:VEVENT
BEGIN:VEVENT
DTSTART;TZID=America/Denver:20250606T190000
DTEND;TZID=America/Denver:20250606T230000
DTSTAMP:20260419T211804
CREATED:20250506T154244Z
LAST-MODIFIED:20250522T142040Z
UID:10001207-1749236400-1749250800@skihicomplex.com
SUMMARY:Dance - Featuring: The Buckshot Band
DESCRIPTION:
URL:https://skihicomplex.com/event/dance-featuring-the-buckshot-band/
LOCATION:Outcalt Event & Conference at SLV Ski Hi Complex
CATEGORIES:Event Center
ATTACH;FMTTYPE=image/png:https://eadn-wc05-13503014.nxedge.io/wp-content/uploads/2025/05/Ski-Hi-complex-presents.png
END:VEVENT
BEGIN:VEVENT
DTSTART;VALUE=DATE:20250604
DTEND;VALUE=DATE:20250605
DTSTAMP:20260419T211804
CREATED:20250528T181336Z
LAST-MODIFIED:20250528T181336Z
UID:10001212-1748995200-1749081599@skihicomplex.com
SUMMARY:Private Event
DESCRIPTION:
URL:https://skihicomplex.com/event/private-event-69/
LOCATION:Outcalt Event & Conference at SLV Ski Hi Complex
CATEGORIES:Meeting Room - Orange
END:VEVENT
BEGIN:VEVENT
DTSTART;VALUE=DATE:20250603
DTEND;VALUE=DATE:20250604
DTSTAMP:20260419T211804
CREATED:20250528T181305Z
LAST-MODIFIED:20250528T181305Z
UID:10001211-1748908800-1748995199@skihicomplex.com
SUMMARY:Private Event
DESCRIPTION:
URL:https://skihicomplex.com/event/private-event-68/
LOCATION:Outcalt Event & Conference at SLV Ski Hi Complex
CATEGORIES:Meeting Room - Orange
END:VEVENT
BEGIN:VEVENT
DTSTART;VALUE=DATE:20250603
DTEND;VALUE=DATE:20250604
DTSTAMP:20260419T211804
CREATED:20241015T011014Z
LAST-MODIFIED:20241015T011014Z
UID:10001044-1748908800-1748995199@skihicomplex.com
SUMMARY:Monte Vista Coop Annual Meeting
DESCRIPTION:
URL:https://skihicomplex.com/event/monte-vista-coop-annual-meeting/
LOCATION:Outcalt Event & Conference at SLV Ski Hi Complex
CATEGORIES:Banquet Room
END:VEVENT
BEGIN:VEVENT
DTSTART;TZID=America/Denver:20250601T140000
DTEND;TZID=America/Denver:20250601T170000
DTSTAMP:20260419T211804
CREATED:20250226T203959Z
LAST-MODIFIED:20250413T052706Z
UID:10001174-1748786400-1748797200@skihicomplex.com
SUMMARY:Spring in the Valley Rodeo
DESCRIPTION:
URL:https://skihicomplex.com/event/spring-in-the-valley-rodeo/2025-06-01/
LOCATION:Outcalt Event & Conference at SLV Ski Hi Complex
CATEGORIES:Rodeo Arena
END:VEVENT
END:VCALENDAR