BEGIN:VCALENDAR
VERSION:2.0
PRODID:-//Outcalt Event Center Ski Hi Event Complex - ECPv6.15.17.1//NONSGML v1.0//EN
CALSCALE:GREGORIAN
METHOD:PUBLISH
X-WR-CALNAME:Outcalt Event Center Ski Hi Event Complex
X-ORIGINAL-URL:https://skihicomplex.com
X-WR-CALDESC:Events for Outcalt Event Center Ski Hi Event Complex
REFRESH-INTERVAL;VALUE=DURATION:PT1H
X-Robots-Tag:noindex
X-PUBLISHED-TTL:PT1H
BEGIN:VTIMEZONE
TZID:America/Denver
BEGIN:DAYLIGHT
TZOFFSETFROM:-0700
TZOFFSETTO:-0600
TZNAME:MDT
DTSTART:20240310T090000
END:DAYLIGHT
BEGIN:STANDARD
TZOFFSETFROM:-0600
TZOFFSETTO:-0700
TZNAME:MST
DTSTART:20241103T080000
END:STANDARD
BEGIN:DAYLIGHT
TZOFFSETFROM:-0700
TZOFFSETTO:-0600
TZNAME:MDT
DTSTART:20250309T090000
END:DAYLIGHT
BEGIN:STANDARD
TZOFFSETFROM:-0600
TZOFFSETTO:-0700
TZNAME:MST
DTSTART:20251102T080000
END:STANDARD
BEGIN:DAYLIGHT
TZOFFSETFROM:-0700
TZOFFSETTO:-0600
TZNAME:MDT
DTSTART:20260308T090000
END:DAYLIGHT
BEGIN:STANDARD
TZOFFSETFROM:-0600
TZOFFSETTO:-0700
TZNAME:MST
DTSTART:20261101T080000
END:STANDARD
END:VTIMEZONE
BEGIN:VEVENT
DTSTART;VALUE=DATE:20250306
DTEND;VALUE=DATE:20250307
DTSTAMP:20260420T153401
CREATED:20241015T010351Z
LAST-MODIFIED:20241015T010351Z
UID:10001037-1741219200-1741305599@skihicomplex.com
SUMMARY:Private Event
DESCRIPTION:
URL:https://skihicomplex.com/event/private-event-26/
LOCATION:Outcalt Event & Conference at SLV Ski Hi Complex
CATEGORIES:Event Center
END:VEVENT
BEGIN:VEVENT
DTSTART;TZID=America/Denver:20250305T170000
DTEND;TZID=America/Denver:20250305T190000
DTSTAMP:20260420T153401
CREATED:20241010T174434Z
LAST-MODIFIED:20241017T155836Z
UID:10000942-1741194000-1741201200@skihicomplex.com
SUMMARY:Open Walking
DESCRIPTION:
URL:https://skihicomplex.com/event/open-walking/2025-03-05/
LOCATION:Outcalt Event & Conference at SLV Ski Hi Complex
CATEGORIES:Event Center
ATTACH;FMTTYPE=image/png:https://eadn-wc05-13503014.nxedge.io/wp-content/uploads/2024/10/Open-Walking-24-25.png
END:VEVENT
BEGIN:VEVENT
DTSTART;TZID=America/Denver:20250305T070000
DTEND;TZID=America/Denver:20250305T100000
DTSTAMP:20260420T153401
CREATED:20241010T173756Z
LAST-MODIFIED:20241016T224605Z
UID:10000842-1741158000-1741168800@skihicomplex.com
SUMMARY:Opening Walking
DESCRIPTION:
URL:https://skihicomplex.com/event/opening-walking/2025-03-05/
LOCATION:Outcalt Event & Conference at SLV Ski Hi Complex
CATEGORIES:Event Center
ATTACH;FMTTYPE=image/png:https://eadn-wc05-13503014.nxedge.io/wp-content/uploads/2024/10/Open-Walking-24-25.png
END:VEVENT
BEGIN:VEVENT
DTSTART;TZID=America/Denver:20250304T170000
DTEND;TZID=America/Denver:20250304T190000
DTSTAMP:20260420T153401
CREATED:20241010T174434Z
LAST-MODIFIED:20241017T155836Z
UID:10000941-1741107600-1741114800@skihicomplex.com
SUMMARY:Open Walking
DESCRIPTION:
URL:https://skihicomplex.com/event/open-walking/2025-03-04/
LOCATION:Outcalt Event & Conference at SLV Ski Hi Complex
CATEGORIES:Event Center
ATTACH;FMTTYPE=image/png:https://eadn-wc05-13503014.nxedge.io/wp-content/uploads/2024/10/Open-Walking-24-25.png
END:VEVENT
BEGIN:VEVENT
DTSTART;TZID=America/Denver:20250304T070000
DTEND;TZID=America/Denver:20250304T100000
DTSTAMP:20260420T153401
CREATED:20241010T173756Z
LAST-MODIFIED:20241016T224605Z
UID:10000841-1741071600-1741082400@skihicomplex.com
SUMMARY:Opening Walking
DESCRIPTION:
URL:https://skihicomplex.com/event/opening-walking/2025-03-04/
LOCATION:Outcalt Event & Conference at SLV Ski Hi Complex
CATEGORIES:Event Center
ATTACH;FMTTYPE=image/png:https://eadn-wc05-13503014.nxedge.io/wp-content/uploads/2024/10/Open-Walking-24-25.png
END:VEVENT
BEGIN:VEVENT
DTSTART;VALUE=DATE:20250304
DTEND;VALUE=DATE:20250305
DTSTAMP:20260420T153401
CREATED:20241010T175223Z
LAST-MODIFIED:20241010T183351Z
UID:10001006-1741046400-1741132799@skihicomplex.com
SUMMARY:Private Event
DESCRIPTION:
URL:https://skihicomplex.com/event/private-event-10/2025-03-04/
LOCATION:Outcalt Event & Conference at SLV Ski Hi Complex
CATEGORIES:Meeting Room - Orange
END:VEVENT
BEGIN:VEVENT
DTSTART;TZID=America/Denver:20250303T170000
DTEND;TZID=America/Denver:20250303T190000
DTSTAMP:20260420T153401
CREATED:20241010T174434Z
LAST-MODIFIED:20241017T155836Z
UID:10000940-1741021200-1741028400@skihicomplex.com
SUMMARY:Open Walking
DESCRIPTION:
URL:https://skihicomplex.com/event/open-walking/2025-03-03/
LOCATION:Outcalt Event & Conference at SLV Ski Hi Complex
CATEGORIES:Event Center
ATTACH;FMTTYPE=image/png:https://eadn-wc05-13503014.nxedge.io/wp-content/uploads/2024/10/Open-Walking-24-25.png
END:VEVENT
BEGIN:VEVENT
DTSTART;TZID=America/Denver:20250303T070000
DTEND;TZID=America/Denver:20250303T100000
DTSTAMP:20260420T153401
CREATED:20241010T173756Z
LAST-MODIFIED:20241016T224605Z
UID:10000840-1740985200-1740996000@skihicomplex.com
SUMMARY:Opening Walking
DESCRIPTION:
URL:https://skihicomplex.com/event/opening-walking/2025-03-03/
LOCATION:Outcalt Event & Conference at SLV Ski Hi Complex
CATEGORIES:Event Center
ATTACH;FMTTYPE=image/png:https://eadn-wc05-13503014.nxedge.io/wp-content/uploads/2024/10/Open-Walking-24-25.png
END:VEVENT
BEGIN:VEVENT
DTSTART;TZID=America/Denver:20250302T160000
DTEND;TZID=America/Denver:20250302T180000
DTSTAMP:20260420T153401
CREATED:20250217T162143Z
LAST-MODIFIED:20250217T162143Z
UID:10001076-1740931200-1740938400@skihicomplex.com
SUMMARY:Dance Lessons
DESCRIPTION:
URL:https://skihicomplex.com/event/dance-lessons/
LOCATION:Outcalt Event & Conference at SLV Ski Hi Complex
CATEGORIES:Banquet Room
ATTACH;FMTTYPE=application/pdf:https://eadn-wc05-13503014.nxedge.io/wp-content/uploads/2025/02/Ski-Hi-Complex-Dance-Lessons.pdf
END:VEVENT
BEGIN:VEVENT
DTSTART;VALUE=DATE:20250228
DTEND;VALUE=DATE:20250301
DTSTAMP:20260420T153401
CREATED:20250217T161311Z
LAST-MODIFIED:20250217T161311Z
UID:10001062-1740700800-1740787199@skihicomplex.com
SUMMARY:PTX Trimble Customer Appreciation
DESCRIPTION:
URL:https://skihicomplex.com/event/ptx-trimble-customer-appreciation/
LOCATION:Outcalt Event & Conference at SLV Ski Hi Complex
CATEGORIES:Meeting Room - Green
END:VEVENT
BEGIN:VEVENT
DTSTART;TZID=America/Denver:20250227T170000
DTEND;TZID=America/Denver:20250227T190000
DTSTAMP:20260420T153401
CREATED:20241010T174434Z
LAST-MODIFIED:20241017T155836Z
UID:10000939-1740675600-1740682800@skihicomplex.com
SUMMARY:Open Walking
DESCRIPTION:
URL:https://skihicomplex.com/event/open-walking/2025-02-27/
LOCATION:Outcalt Event & Conference at SLV Ski Hi Complex
CATEGORIES:Event Center
ATTACH;FMTTYPE=image/png:https://eadn-wc05-13503014.nxedge.io/wp-content/uploads/2024/10/Open-Walking-24-25.png
END:VEVENT
BEGIN:VEVENT
DTSTART;TZID=America/Denver:20250227T070000
DTEND;TZID=America/Denver:20250227T100000
DTSTAMP:20260420T153401
CREATED:20241010T173756Z
LAST-MODIFIED:20241016T224605Z
UID:10000839-1740639600-1740650400@skihicomplex.com
SUMMARY:Opening Walking
DESCRIPTION:
URL:https://skihicomplex.com/event/opening-walking/2025-02-27/
LOCATION:Outcalt Event & Conference at SLV Ski Hi Complex
CATEGORIES:Event Center
ATTACH;FMTTYPE=image/png:https://eadn-wc05-13503014.nxedge.io/wp-content/uploads/2024/10/Open-Walking-24-25.png
END:VEVENT
BEGIN:VEVENT
DTSTART;VALUE=DATE:20250227
DTEND;VALUE=DATE:20250228
DTSTAMP:20260420T153401
CREATED:20250217T161239Z
LAST-MODIFIED:20250217T161239Z
UID:10001061-1740614400-1740700799@skihicomplex.com
SUMMARY:Plant Nutrient Solutions - Farmer Meeting
DESCRIPTION:
URL:https://skihicomplex.com/event/plant-nutrient-solutions-farmer-meeting-2/
LOCATION:Outcalt Event & Conference at SLV Ski Hi Complex
CATEGORIES:Meeting Room - Yellow
END:VEVENT
BEGIN:VEVENT
DTSTART;VALUE=DATE:20250227
DTEND;VALUE=DATE:20250228
DTSTAMP:20260420T153401
CREATED:20250217T161213Z
LAST-MODIFIED:20250217T161213Z
UID:10001060-1740614400-1740700799@skihicomplex.com
SUMMARY:Plant Nutrient Solutions - Farmer Meeting
DESCRIPTION:
URL:https://skihicomplex.com/event/plant-nutrient-solutions-farmer-meeting/
LOCATION:Outcalt Event & Conference at SLV Ski Hi Complex
CATEGORIES:Meeting Room - Orange
END:VEVENT
BEGIN:VEVENT
DTSTART;TZID=America/Denver:20250226T170000
DTEND;TZID=America/Denver:20250226T190000
DTSTAMP:20260420T153401
CREATED:20241010T174434Z
LAST-MODIFIED:20241017T155836Z
UID:10000938-1740589200-1740596400@skihicomplex.com
SUMMARY:Open Walking
DESCRIPTION:
URL:https://skihicomplex.com/event/open-walking/2025-02-26/
LOCATION:Outcalt Event & Conference at SLV Ski Hi Complex
CATEGORIES:Event Center
ATTACH;FMTTYPE=image/png:https://eadn-wc05-13503014.nxedge.io/wp-content/uploads/2024/10/Open-Walking-24-25.png
END:VEVENT
BEGIN:VEVENT
DTSTART;TZID=America/Denver:20250226T070000
DTEND;TZID=America/Denver:20250226T100000
DTSTAMP:20260420T153401
CREATED:20241010T173756Z
LAST-MODIFIED:20241016T224605Z
UID:10000838-1740553200-1740564000@skihicomplex.com
SUMMARY:Opening Walking
DESCRIPTION:
URL:https://skihicomplex.com/event/opening-walking/2025-02-26/
LOCATION:Outcalt Event & Conference at SLV Ski Hi Complex
CATEGORIES:Event Center
ATTACH;FMTTYPE=image/png:https://eadn-wc05-13503014.nxedge.io/wp-content/uploads/2024/10/Open-Walking-24-25.png
END:VEVENT
BEGIN:VEVENT
DTSTART;TZID=America/Denver:20250225T170000
DTEND;TZID=America/Denver:20250225T190000
DTSTAMP:20260420T153401
CREATED:20241010T174434Z
LAST-MODIFIED:20241017T155836Z
UID:10000937-1740502800-1740510000@skihicomplex.com
SUMMARY:Open Walking
DESCRIPTION:
URL:https://skihicomplex.com/event/open-walking/2025-02-25/
LOCATION:Outcalt Event & Conference at SLV Ski Hi Complex
CATEGORIES:Event Center
ATTACH;FMTTYPE=image/png:https://eadn-wc05-13503014.nxedge.io/wp-content/uploads/2024/10/Open-Walking-24-25.png
END:VEVENT
BEGIN:VEVENT
DTSTART;TZID=America/Denver:20250225T070000
DTEND;TZID=America/Denver:20250225T100000
DTSTAMP:20260420T153401
CREATED:20241010T173756Z
LAST-MODIFIED:20241016T224605Z
UID:10000837-1740466800-1740477600@skihicomplex.com
SUMMARY:Opening Walking
DESCRIPTION:
URL:https://skihicomplex.com/event/opening-walking/2025-02-25/
LOCATION:Outcalt Event & Conference at SLV Ski Hi Complex
CATEGORIES:Event Center
ATTACH;FMTTYPE=image/png:https://eadn-wc05-13503014.nxedge.io/wp-content/uploads/2024/10/Open-Walking-24-25.png
END:VEVENT
BEGIN:VEVENT
DTSTART;TZID=America/Denver:20250224T170000
DTEND;TZID=America/Denver:20250224T190000
DTSTAMP:20260420T153401
CREATED:20241010T174434Z
LAST-MODIFIED:20241017T155836Z
UID:10000936-1740416400-1740423600@skihicomplex.com
SUMMARY:Open Walking
DESCRIPTION:
URL:https://skihicomplex.com/event/open-walking/2025-02-24/
LOCATION:Outcalt Event & Conference at SLV Ski Hi Complex
CATEGORIES:Event Center
ATTACH;FMTTYPE=image/png:https://eadn-wc05-13503014.nxedge.io/wp-content/uploads/2024/10/Open-Walking-24-25.png
END:VEVENT
BEGIN:VEVENT
DTSTART;TZID=America/Denver:20250224T070000
DTEND;TZID=America/Denver:20250224T100000
DTSTAMP:20260420T153401
CREATED:20241010T173756Z
LAST-MODIFIED:20241016T224605Z
UID:10000836-1740380400-1740391200@skihicomplex.com
SUMMARY:Opening Walking
DESCRIPTION:
URL:https://skihicomplex.com/event/opening-walking/2025-02-24/
LOCATION:Outcalt Event & Conference at SLV Ski Hi Complex
CATEGORIES:Event Center
ATTACH;FMTTYPE=image/png:https://eadn-wc05-13503014.nxedge.io/wp-content/uploads/2024/10/Open-Walking-24-25.png
END:VEVENT
BEGIN:VEVENT
DTSTART;VALUE=DATE:20250221
DTEND;VALUE=DATE:20250223
DTSTAMP:20260420T153401
CREATED:20250217T161140Z
LAST-MODIFIED:20250217T161140Z
UID:10001059-1740096000-1740268799@skihicomplex.com
SUMMARY:Private Event
DESCRIPTION:
URL:https://skihicomplex.com/event/private-event-34/
LOCATION:Outcalt Event & Conference at SLV Ski Hi Complex
CATEGORIES:Event Center
END:VEVENT
BEGIN:VEVENT
DTSTART;TZID=America/Denver:20250220T170000
DTEND;TZID=America/Denver:20250220T190000
DTSTAMP:20260420T153401
CREATED:20241010T174434Z
LAST-MODIFIED:20241017T155836Z
UID:10000935-1740070800-1740078000@skihicomplex.com
SUMMARY:Open Walking
DESCRIPTION:
URL:https://skihicomplex.com/event/open-walking/2025-02-20/
LOCATION:Outcalt Event & Conference at SLV Ski Hi Complex
CATEGORIES:Event Center
ATTACH;FMTTYPE=image/png:https://eadn-wc05-13503014.nxedge.io/wp-content/uploads/2024/10/Open-Walking-24-25.png
END:VEVENT
BEGIN:VEVENT
DTSTART;TZID=America/Denver:20250220T110000
DTEND;TZID=America/Denver:20250220T130000
DTSTAMP:20260420T153401
CREATED:20241007T175401Z
LAST-MODIFIED:20241009T175356Z
UID:10000674-1740049200-1740056400@skihicomplex.com
SUMMARY:Commodity Food Distribution
DESCRIPTION:This event is hosted outside on the South side of the Ski Hi Complex on Sherman Ave.
URL:https://skihicomplex.com/event/commodity-supplemental-food-assistance-program/2025-02-20/
LOCATION:Outcalt Event & Conference at SLV Ski Hi Complex
CATEGORIES:Rodeo Arena
ATTACH;FMTTYPE=image/png:https://eadn-wc05-13503014.nxedge.io/wp-content/uploads/2024/10/CareandShare.FinalLogo-2023-2C.png
END:VEVENT
BEGIN:VEVENT
DTSTART;TZID=America/Denver:20250220T070000
DTEND;TZID=America/Denver:20250220T100000
DTSTAMP:20260420T153401
CREATED:20241010T173756Z
LAST-MODIFIED:20241016T224605Z
UID:10000835-1740034800-1740045600@skihicomplex.com
SUMMARY:Opening Walking
DESCRIPTION:
URL:https://skihicomplex.com/event/opening-walking/2025-02-20/
LOCATION:Outcalt Event & Conference at SLV Ski Hi Complex
CATEGORIES:Event Center
ATTACH;FMTTYPE=image/png:https://eadn-wc05-13503014.nxedge.io/wp-content/uploads/2024/10/Open-Walking-24-25.png
END:VEVENT
BEGIN:VEVENT
DTSTART;VALUE=DATE:20250220
DTEND;VALUE=DATE:20250223
DTSTAMP:20260420T153401
CREATED:20250217T160557Z
LAST-MODIFIED:20250217T160557Z
UID:10001056-1740009600-1740268799@skihicomplex.com
SUMMARY:Annie's Project
DESCRIPTION:
URL:https://skihicomplex.com/event/annies-project/
LOCATION:Outcalt Event & Conference at SLV Ski Hi Complex
CATEGORIES:Meeting Room - Orange
END:VEVENT
BEGIN:VEVENT
DTSTART;TZID=America/Denver:20250219T170000
DTEND;TZID=America/Denver:20250219T190000
DTSTAMP:20260420T153401
CREATED:20241010T174434Z
LAST-MODIFIED:20241017T155836Z
UID:10000934-1739984400-1739991600@skihicomplex.com
SUMMARY:Open Walking
DESCRIPTION:
URL:https://skihicomplex.com/event/open-walking/2025-02-19/
LOCATION:Outcalt Event & Conference at SLV Ski Hi Complex
CATEGORIES:Event Center
ATTACH;FMTTYPE=image/png:https://eadn-wc05-13503014.nxedge.io/wp-content/uploads/2024/10/Open-Walking-24-25.png
END:VEVENT
BEGIN:VEVENT
DTSTART;TZID=America/Denver:20250219T093000
DTEND;TZID=America/Denver:20250219T120000
DTSTAMP:20260420T153401
CREATED:20250226T201925Z
LAST-MODIFIED:20250226T201925Z
UID:10001094-1739957400-1739966400@skihicomplex.com
SUMMARY:All Valley Law Enforcement Meeting
DESCRIPTION:
URL:https://skihicomplex.com/event/all-valley-law-enforcement-meeting-2/2025-02-19/
LOCATION:Outcalt Event & Conference at SLV Ski Hi Complex
CATEGORIES:Meeting Room - Orange
END:VEVENT
BEGIN:VEVENT
DTSTART;TZID=America/Denver:20250219T070000
DTEND;TZID=America/Denver:20250219T100000
DTSTAMP:20260420T153401
CREATED:20241010T173756Z
LAST-MODIFIED:20241016T224605Z
UID:10000834-1739948400-1739959200@skihicomplex.com
SUMMARY:Opening Walking
DESCRIPTION:
URL:https://skihicomplex.com/event/opening-walking/2025-02-19/
LOCATION:Outcalt Event & Conference at SLV Ski Hi Complex
CATEGORIES:Event Center
ATTACH;FMTTYPE=image/png:https://eadn-wc05-13503014.nxedge.io/wp-content/uploads/2024/10/Open-Walking-24-25.png
END:VEVENT
BEGIN:VEVENT
DTSTART;TZID=America/Denver:20250218T170000
DTEND;TZID=America/Denver:20250218T190000
DTSTAMP:20260420T153401
CREATED:20241010T174434Z
LAST-MODIFIED:20241017T155836Z
UID:10000933-1739898000-1739905200@skihicomplex.com
SUMMARY:Open Walking
DESCRIPTION:
URL:https://skihicomplex.com/event/open-walking/2025-02-18/
LOCATION:Outcalt Event & Conference at SLV Ski Hi Complex
CATEGORIES:Event Center
ATTACH;FMTTYPE=image/png:https://eadn-wc05-13503014.nxedge.io/wp-content/uploads/2024/10/Open-Walking-24-25.png
END:VEVENT
BEGIN:VEVENT
DTSTART;TZID=America/Denver:20250218T100000
DTEND;TZID=America/Denver:20250218T120000
DTSTAMP:20260420T153401
CREATED:20241007T174350Z
LAST-MODIFIED:20250217T160945Z
UID:10000991-1739872800-1739880000@skihicomplex.com
SUMMARY:All Valley Law Enforcement Meeting
DESCRIPTION:
URL:https://skihicomplex.com/event/all-valley-law-enforcement-meeting/2025-02-18/
LOCATION:Outcalt Event & Conference at SLV Ski Hi Complex
CATEGORIES:Meeting Room - Orange
END:VEVENT
END:VCALENDAR