BEGIN:VCALENDAR
VERSION:2.0
PRODID:-//Outcalt Event Center Ski Hi Event Complex - ECPv6.15.17.1//NONSGML v1.0//EN
CALSCALE:GREGORIAN
METHOD:PUBLISH
X-WR-CALNAME:Outcalt Event Center Ski Hi Event Complex
X-ORIGINAL-URL:https://skihicomplex.com
X-WR-CALDESC:Events for Outcalt Event Center Ski Hi Event Complex
REFRESH-INTERVAL;VALUE=DURATION:PT1H
X-Robots-Tag:noindex
X-PUBLISHED-TTL:PT1H
BEGIN:VTIMEZONE
TZID:America/Denver
BEGIN:DAYLIGHT
TZOFFSETFROM:-0700
TZOFFSETTO:-0600
TZNAME:MDT
DTSTART:20240310T090000
END:DAYLIGHT
BEGIN:STANDARD
TZOFFSETFROM:-0600
TZOFFSETTO:-0700
TZNAME:MST
DTSTART:20241103T080000
END:STANDARD
BEGIN:DAYLIGHT
TZOFFSETFROM:-0700
TZOFFSETTO:-0600
TZNAME:MDT
DTSTART:20250309T090000
END:DAYLIGHT
BEGIN:STANDARD
TZOFFSETFROM:-0600
TZOFFSETTO:-0700
TZNAME:MST
DTSTART:20251102T080000
END:STANDARD
BEGIN:DAYLIGHT
TZOFFSETFROM:-0700
TZOFFSETTO:-0600
TZNAME:MDT
DTSTART:20260308T090000
END:DAYLIGHT
BEGIN:STANDARD
TZOFFSETFROM:-0600
TZOFFSETTO:-0700
TZNAME:MST
DTSTART:20261101T080000
END:STANDARD
END:VTIMEZONE
BEGIN:VEVENT
DTSTART;TZID=America/Denver:20250204T170000
DTEND;TZID=America/Denver:20250204T190000
DTSTAMP:20260420T173530
CREATED:20241010T174434Z
LAST-MODIFIED:20241017T155836Z
UID:10000925-1738688400-1738695600@skihicomplex.com
SUMMARY:Open Walking
DESCRIPTION:
URL:https://skihicomplex.com/event/open-walking/2025-02-04/
LOCATION:Outcalt Event & Conference at SLV Ski Hi Complex
CATEGORIES:Event Center
ATTACH;FMTTYPE=image/png:https://eadn-wc05-13503014.nxedge.io/wp-content/uploads/2024/10/Open-Walking-24-25.png
END:VEVENT
BEGIN:VEVENT
DTSTART;TZID=America/Denver:20250204T070000
DTEND;TZID=America/Denver:20250204T100000
DTSTAMP:20260420T173530
CREATED:20241010T173756Z
LAST-MODIFIED:20241016T224605Z
UID:10000825-1738652400-1738663200@skihicomplex.com
SUMMARY:Opening Walking
DESCRIPTION:
URL:https://skihicomplex.com/event/opening-walking/2025-02-04/
LOCATION:Outcalt Event & Conference at SLV Ski Hi Complex
CATEGORIES:Event Center
ATTACH;FMTTYPE=image/png:https://eadn-wc05-13503014.nxedge.io/wp-content/uploads/2024/10/Open-Walking-24-25.png
END:VEVENT
BEGIN:VEVENT
DTSTART;VALUE=DATE:20250204
DTEND;VALUE=DATE:20250207
DTSTAMP:20260420T173530
CREATED:20241015T005742Z
LAST-MODIFIED:20241015T005742Z
UID:10001033-1738627200-1738886399@skihicomplex.com
SUMMARY:Southern Rocky Mountain Agricultural Conference
DESCRIPTION:
URL:https://skihicomplex.com/event/southern-rocky-mountain-agricultural-conference-2/
LOCATION:Outcalt Event & Conference at SLV Ski Hi Complex
CATEGORIES:Entire Facility
END:VEVENT
BEGIN:VEVENT
DTSTART;VALUE=DATE:20250204
DTEND;VALUE=DATE:20250205
DTSTAMP:20260420T173530
CREATED:20250217T161737Z
LAST-MODIFIED:20250217T161737Z
UID:10001071-1738627200-1738713599@skihicomplex.com
SUMMARY:United Potato Growers Annual Meeting
DESCRIPTION:
URL:https://skihicomplex.com/event/united-potato-growers-annual-meeting-2/
LOCATION:Outcalt Event & Conference at SLV Ski Hi Complex
CATEGORIES:Meeting Room - Yellow
END:VEVENT
BEGIN:VEVENT
DTSTART;VALUE=DATE:20250204
DTEND;VALUE=DATE:20250205
DTSTAMP:20260420T173530
CREATED:20250217T161711Z
LAST-MODIFIED:20250217T161711Z
UID:10001070-1738627200-1738713599@skihicomplex.com
SUMMARY:United Potato Growers Annual Meeting
DESCRIPTION:
URL:https://skihicomplex.com/event/united-potato-growers-annual-meeting/
LOCATION:Outcalt Event & Conference at SLV Ski Hi Complex
CATEGORIES:Meeting Room - Orange
END:VEVENT
BEGIN:VEVENT
DTSTART;VALUE=DATE:20250204
DTEND;VALUE=DATE:20250205
DTSTAMP:20260420T173530
CREATED:20241010T175223Z
LAST-MODIFIED:20241010T183351Z
UID:10001005-1738627200-1738713599@skihicomplex.com
SUMMARY:Private Event
DESCRIPTION:
URL:https://skihicomplex.com/event/private-event-10/2025-02-04/
LOCATION:Outcalt Event & Conference at SLV Ski Hi Complex
CATEGORIES:Meeting Room - Orange
END:VEVENT
BEGIN:VEVENT
DTSTART;TZID=America/Denver:20250203T170000
DTEND;TZID=America/Denver:20250203T190000
DTSTAMP:20260420T173530
CREATED:20241010T174434Z
LAST-MODIFIED:20241017T155836Z
UID:10000924-1738602000-1738609200@skihicomplex.com
SUMMARY:Open Walking
DESCRIPTION:
URL:https://skihicomplex.com/event/open-walking/2025-02-03/
LOCATION:Outcalt Event & Conference at SLV Ski Hi Complex
CATEGORIES:Event Center
ATTACH;FMTTYPE=image/png:https://eadn-wc05-13503014.nxedge.io/wp-content/uploads/2024/10/Open-Walking-24-25.png
END:VEVENT
BEGIN:VEVENT
DTSTART;TZID=America/Denver:20250203T070000
DTEND;TZID=America/Denver:20250203T100000
DTSTAMP:20260420T173530
CREATED:20241010T173756Z
LAST-MODIFIED:20241016T224605Z
UID:10000824-1738566000-1738576800@skihicomplex.com
SUMMARY:Opening Walking
DESCRIPTION:
URL:https://skihicomplex.com/event/opening-walking/2025-02-03/
LOCATION:Outcalt Event & Conference at SLV Ski Hi Complex
CATEGORIES:Event Center
ATTACH;FMTTYPE=image/png:https://eadn-wc05-13503014.nxedge.io/wp-content/uploads/2024/10/Open-Walking-24-25.png
END:VEVENT
BEGIN:VEVENT
DTSTART;VALUE=DATE:20250201
DTEND;VALUE=DATE:20250204
DTSTAMP:20260420T173530
CREATED:20241015T005814Z
LAST-MODIFIED:20241015T005814Z
UID:10001034-1738368000-1738627199@skihicomplex.com
SUMMARY:Private Event
DESCRIPTION:
URL:https://skihicomplex.com/event/private-event-25/
LOCATION:Outcalt Event & Conference at SLV Ski Hi Complex
CATEGORIES:Entire Facility
END:VEVENT
BEGIN:VEVENT
DTSTART;VALUE=DATE:20250201
DTEND;VALUE=DATE:20250202
DTSTAMP:20260420T173530
CREATED:20250217T161817Z
LAST-MODIFIED:20250217T161817Z
UID:10001073-1738368000-1738454399@skihicomplex.com
SUMMARY:Private Event
DESCRIPTION:
URL:https://skihicomplex.com/event/private-event-36/
LOCATION:Outcalt Event & Conference at SLV Ski Hi Complex
CATEGORIES:Meeting Room - Green
END:VEVENT
BEGIN:VEVENT
DTSTART;VALUE=DATE:20250201
DTEND;VALUE=DATE:20250202
DTSTAMP:20260420T173530
CREATED:20250217T161800Z
LAST-MODIFIED:20250217T161800Z
UID:10001072-1738368000-1738454399@skihicomplex.com
SUMMARY:Private Event
DESCRIPTION:
URL:https://skihicomplex.com/event/private-event-35/
LOCATION:Outcalt Event & Conference at SLV Ski Hi Complex
CATEGORIES:Meeting Room - Yellow
END:VEVENT
BEGIN:VEVENT
DTSTART;VALUE=DATE:20250131
DTEND;VALUE=DATE:20250201
DTSTAMP:20260420T173530
CREATED:20250217T161848Z
LAST-MODIFIED:20250217T161848Z
UID:10001074-1738281600-1738367999@skihicomplex.com
SUMMARY:ServSafe Class
DESCRIPTION:
URL:https://skihicomplex.com/event/servsafe-class/
LOCATION:Outcalt Event & Conference at SLV Ski Hi Complex
CATEGORIES:Meeting Room - Orange
END:VEVENT
BEGIN:VEVENT
DTSTART;TZID=America/Denver:20250130T170000
DTEND;TZID=America/Denver:20250130T190000
DTSTAMP:20260420T173530
CREATED:20241010T174434Z
LAST-MODIFIED:20241017T155836Z
UID:10000923-1738256400-1738263600@skihicomplex.com
SUMMARY:Open Walking
DESCRIPTION:
URL:https://skihicomplex.com/event/open-walking/2025-01-30/
LOCATION:Outcalt Event & Conference at SLV Ski Hi Complex
CATEGORIES:Event Center
ATTACH;FMTTYPE=image/png:https://eadn-wc05-13503014.nxedge.io/wp-content/uploads/2024/10/Open-Walking-24-25.png
END:VEVENT
BEGIN:VEVENT
DTSTART;TZID=America/Denver:20250130T070000
DTEND;TZID=America/Denver:20250130T100000
DTSTAMP:20260420T173530
CREATED:20241010T173756Z
LAST-MODIFIED:20241016T224605Z
UID:10000823-1738220400-1738231200@skihicomplex.com
SUMMARY:Opening Walking
DESCRIPTION:
URL:https://skihicomplex.com/event/opening-walking/2025-01-30/
LOCATION:Outcalt Event & Conference at SLV Ski Hi Complex
CATEGORIES:Event Center
ATTACH;FMTTYPE=image/png:https://eadn-wc05-13503014.nxedge.io/wp-content/uploads/2024/10/Open-Walking-24-25.png
END:VEVENT
BEGIN:VEVENT
DTSTART;TZID=America/Denver:20250129T170000
DTEND;TZID=America/Denver:20250129T190000
DTSTAMP:20260420T173530
CREATED:20241010T174434Z
LAST-MODIFIED:20241017T155836Z
UID:10000922-1738170000-1738177200@skihicomplex.com
SUMMARY:Open Walking
DESCRIPTION:
URL:https://skihicomplex.com/event/open-walking/2025-01-29/
LOCATION:Outcalt Event & Conference at SLV Ski Hi Complex
CATEGORIES:Event Center
ATTACH;FMTTYPE=image/png:https://eadn-wc05-13503014.nxedge.io/wp-content/uploads/2024/10/Open-Walking-24-25.png
END:VEVENT
BEGIN:VEVENT
DTSTART;TZID=America/Denver:20250129T070000
DTEND;TZID=America/Denver:20250129T100000
DTSTAMP:20260420T173530
CREATED:20241010T173756Z
LAST-MODIFIED:20241016T224605Z
UID:10000822-1738134000-1738144800@skihicomplex.com
SUMMARY:Opening Walking
DESCRIPTION:
URL:https://skihicomplex.com/event/opening-walking/2025-01-29/
LOCATION:Outcalt Event & Conference at SLV Ski Hi Complex
CATEGORIES:Event Center
ATTACH;FMTTYPE=image/png:https://eadn-wc05-13503014.nxedge.io/wp-content/uploads/2024/10/Open-Walking-24-25.png
END:VEVENT
BEGIN:VEVENT
DTSTART;TZID=America/Denver:20250128T170000
DTEND;TZID=America/Denver:20250128T190000
DTSTAMP:20260420T173530
CREATED:20241010T174434Z
LAST-MODIFIED:20241017T155836Z
UID:10000921-1738083600-1738090800@skihicomplex.com
SUMMARY:Open Walking
DESCRIPTION:
URL:https://skihicomplex.com/event/open-walking/2025-01-28/
LOCATION:Outcalt Event & Conference at SLV Ski Hi Complex
CATEGORIES:Event Center
ATTACH;FMTTYPE=image/png:https://eadn-wc05-13503014.nxedge.io/wp-content/uploads/2024/10/Open-Walking-24-25.png
END:VEVENT
BEGIN:VEVENT
DTSTART;TZID=America/Denver:20250128T070000
DTEND;TZID=America/Denver:20250128T100000
DTSTAMP:20260420T173530
CREATED:20241010T173756Z
LAST-MODIFIED:20241016T224605Z
UID:10000821-1738047600-1738058400@skihicomplex.com
SUMMARY:Opening Walking
DESCRIPTION:
URL:https://skihicomplex.com/event/opening-walking/2025-01-28/
LOCATION:Outcalt Event & Conference at SLV Ski Hi Complex
CATEGORIES:Event Center
ATTACH;FMTTYPE=image/png:https://eadn-wc05-13503014.nxedge.io/wp-content/uploads/2024/10/Open-Walking-24-25.png
END:VEVENT
BEGIN:VEVENT
DTSTART;VALUE=DATE:20250128
DTEND;VALUE=DATE:20250129
DTSTAMP:20260420T173530
CREATED:20250217T164337Z
LAST-MODIFIED:20250217T164337Z
UID:10001082-1738022400-1738108799@skihicomplex.com
SUMMARY:Private Event
DESCRIPTION:
URL:https://skihicomplex.com/event/private-event-37/
LOCATION:Outcalt Event & Conference at SLV Ski Hi Complex
CATEGORIES:Meeting Room - Orange
END:VEVENT
BEGIN:VEVENT
DTSTART;VALUE=DATE:20250128
DTEND;VALUE=DATE:20250129
DTSTAMP:20260420T173530
CREATED:20250217T161918Z
LAST-MODIFIED:20250217T161918Z
UID:10001075-1738022400-1738108799@skihicomplex.com
SUMMARY:Agro Engineering Annual Client Workshop
DESCRIPTION:
URL:https://skihicomplex.com/event/agro-engineering-annual-client-workshop/
LOCATION:Outcalt Event & Conference at SLV Ski Hi Complex
CATEGORIES:Banquet Room
END:VEVENT
BEGIN:VEVENT
DTSTART;TZID=America/Denver:20250127T170000
DTEND;TZID=America/Denver:20250127T190000
DTSTAMP:20260420T173530
CREATED:20241010T174434Z
LAST-MODIFIED:20241017T155836Z
UID:10000920-1737997200-1738004400@skihicomplex.com
SUMMARY:Open Walking
DESCRIPTION:
URL:https://skihicomplex.com/event/open-walking/2025-01-27/
LOCATION:Outcalt Event & Conference at SLV Ski Hi Complex
CATEGORIES:Event Center
ATTACH;FMTTYPE=image/png:https://eadn-wc05-13503014.nxedge.io/wp-content/uploads/2024/10/Open-Walking-24-25.png
END:VEVENT
BEGIN:VEVENT
DTSTART;TZID=America/Denver:20250127T070000
DTEND;TZID=America/Denver:20250127T100000
DTSTAMP:20260420T173530
CREATED:20241010T173756Z
LAST-MODIFIED:20241016T224605Z
UID:10000820-1737961200-1737972000@skihicomplex.com
SUMMARY:Opening Walking
DESCRIPTION:
URL:https://skihicomplex.com/event/opening-walking/2025-01-27/
LOCATION:Outcalt Event & Conference at SLV Ski Hi Complex
CATEGORIES:Event Center
ATTACH;FMTTYPE=image/png:https://eadn-wc05-13503014.nxedge.io/wp-content/uploads/2024/10/Open-Walking-24-25.png
END:VEVENT
BEGIN:VEVENT
DTSTART;TZID=America/Denver:20250125T083000
DTEND;TZID=America/Denver:20250125T120000
DTSTAMP:20260420T173530
CREATED:20241009T202252Z
LAST-MODIFIED:20241009T204744Z
UID:10000769-1737793800-1737806400@skihicomplex.com
SUMMARY:MV Recreation - Youth Basketball Games
DESCRIPTION:
URL:https://skihicomplex.com/event/mv-recreation-youth-basketball-games-2/2025-01-25/
LOCATION:Outcalt Event & Conference at SLV Ski Hi Complex
CATEGORIES:Event Center
ATTACH;FMTTYPE=image/png:https://eadn-wc05-13503014.nxedge.io/wp-content/uploads/2024/10/MV-Recreation-Dept.png
END:VEVENT
BEGIN:VEVENT
DTSTART;TZID=America/Denver:20250123T170000
DTEND;TZID=America/Denver:20250123T190000
DTSTAMP:20260420T173530
CREATED:20241010T174434Z
LAST-MODIFIED:20241017T155836Z
UID:10000919-1737651600-1737658800@skihicomplex.com
SUMMARY:Open Walking
DESCRIPTION:
URL:https://skihicomplex.com/event/open-walking/2025-01-23/
LOCATION:Outcalt Event & Conference at SLV Ski Hi Complex
CATEGORIES:Event Center
ATTACH;FMTTYPE=image/png:https://eadn-wc05-13503014.nxedge.io/wp-content/uploads/2024/10/Open-Walking-24-25.png
END:VEVENT
BEGIN:VEVENT
DTSTART;TZID=America/Denver:20250123T163000
DTEND;TZID=America/Denver:20250123T200000
DTSTAMP:20260420T173530
CREATED:20241009T202022Z
LAST-MODIFIED:20241009T202022Z
UID:10000760-1737649800-1737662400@skihicomplex.com
SUMMARY:MV Recreation - Youth Basketball Practice
DESCRIPTION:
URL:https://skihicomplex.com/event/mv-recreation-youth-basketball-practice-3/2025-01-23/
LOCATION:Outcalt Event & Conference at SLV Ski Hi Complex
CATEGORIES:Event Center
ATTACH;FMTTYPE=image/png:https://eadn-wc05-13503014.nxedge.io/wp-content/uploads/2024/10/MV-Recreation-Dept.png
END:VEVENT
BEGIN:VEVENT
DTSTART;TZID=America/Denver:20250123T070000
DTEND;TZID=America/Denver:20250123T100000
DTSTAMP:20260420T173530
CREATED:20241010T173756Z
LAST-MODIFIED:20241016T224605Z
UID:10000819-1737615600-1737626400@skihicomplex.com
SUMMARY:Opening Walking
DESCRIPTION:
URL:https://skihicomplex.com/event/opening-walking/2025-01-23/
LOCATION:Outcalt Event & Conference at SLV Ski Hi Complex
CATEGORIES:Event Center
ATTACH;FMTTYPE=image/png:https://eadn-wc05-13503014.nxedge.io/wp-content/uploads/2024/10/Open-Walking-24-25.png
END:VEVENT
BEGIN:VEVENT
DTSTART;TZID=America/Denver:20250122T180000
DTEND;TZID=America/Denver:20250122T203000
DTSTAMP:20260420T173530
CREATED:20241009T195333Z
LAST-MODIFIED:20241016T224919Z
UID:10001017-1737568800-1737577800@skihicomplex.com
SUMMARY:MV Recreation - Youth Basketball Games
DESCRIPTION:
URL:https://skihicomplex.com/event/mv-recreation-youth-basketball-games/2025-01-22/
LOCATION:Outcalt Event & Conference at SLV Ski Hi Complex
CATEGORIES:Event Center
ATTACH;FMTTYPE=image/png:https://eadn-wc05-13503014.nxedge.io/wp-content/uploads/2024/10/MV-Recreation-Dept.png
END:VEVENT
BEGIN:VEVENT
DTSTART;TZID=America/Denver:20250122T170000
DTEND;TZID=America/Denver:20250122T190000
DTSTAMP:20260420T173530
CREATED:20241010T174434Z
LAST-MODIFIED:20241017T155836Z
UID:10000918-1737565200-1737572400@skihicomplex.com
SUMMARY:Open Walking
DESCRIPTION:
URL:https://skihicomplex.com/event/open-walking/2025-01-22/
LOCATION:Outcalt Event & Conference at SLV Ski Hi Complex
CATEGORIES:Event Center
ATTACH;FMTTYPE=image/png:https://eadn-wc05-13503014.nxedge.io/wp-content/uploads/2024/10/Open-Walking-24-25.png
END:VEVENT
BEGIN:VEVENT
DTSTART;TZID=America/Denver:20250122T070000
DTEND;TZID=America/Denver:20250122T100000
DTSTAMP:20260420T173530
CREATED:20241010T173756Z
LAST-MODIFIED:20241016T224605Z
UID:10000818-1737529200-1737540000@skihicomplex.com
SUMMARY:Opening Walking
DESCRIPTION:
URL:https://skihicomplex.com/event/opening-walking/2025-01-22/
LOCATION:Outcalt Event & Conference at SLV Ski Hi Complex
CATEGORIES:Event Center
ATTACH;FMTTYPE=image/png:https://eadn-wc05-13503014.nxedge.io/wp-content/uploads/2024/10/Open-Walking-24-25.png
END:VEVENT
BEGIN:VEVENT
DTSTART;TZID=America/Denver:20250121T170000
DTEND;TZID=America/Denver:20250121T190000
DTSTAMP:20260420T173530
CREATED:20241010T174434Z
LAST-MODIFIED:20241017T155836Z
UID:10000917-1737478800-1737486000@skihicomplex.com
SUMMARY:Open Walking
DESCRIPTION:
URL:https://skihicomplex.com/event/open-walking/2025-01-21/
LOCATION:Outcalt Event & Conference at SLV Ski Hi Complex
CATEGORIES:Event Center
ATTACH;FMTTYPE=image/png:https://eadn-wc05-13503014.nxedge.io/wp-content/uploads/2024/10/Open-Walking-24-25.png
END:VEVENT
END:VCALENDAR