BEGIN:VCALENDAR
VERSION:2.0
PRODID:-//Outcalt Event Center Ski Hi Event Complex - ECPv6.15.17.1//NONSGML v1.0//EN
CALSCALE:GREGORIAN
METHOD:PUBLISH
X-ORIGINAL-URL:https://skihicomplex.com
X-WR-CALDESC:Events for Outcalt Event Center Ski Hi Event Complex
REFRESH-INTERVAL;VALUE=DURATION:PT1H
X-Robots-Tag:noindex
X-PUBLISHED-TTL:PT1H
BEGIN:VTIMEZONE
TZID:America/Denver
BEGIN:DAYLIGHT
TZOFFSETFROM:-0700
TZOFFSETTO:-0600
TZNAME:MDT
DTSTART:20230312T090000
END:DAYLIGHT
BEGIN:STANDARD
TZOFFSETFROM:-0600
TZOFFSETTO:-0700
TZNAME:MST
DTSTART:20231105T080000
END:STANDARD
BEGIN:DAYLIGHT
TZOFFSETFROM:-0700
TZOFFSETTO:-0600
TZNAME:MDT
DTSTART:20240310T090000
END:DAYLIGHT
BEGIN:STANDARD
TZOFFSETFROM:-0600
TZOFFSETTO:-0700
TZNAME:MST
DTSTART:20241103T080000
END:STANDARD
BEGIN:DAYLIGHT
TZOFFSETFROM:-0700
TZOFFSETTO:-0600
TZNAME:MDT
DTSTART:20250309T090000
END:DAYLIGHT
BEGIN:STANDARD
TZOFFSETFROM:-0600
TZOFFSETTO:-0700
TZNAME:MST
DTSTART:20251102T080000
END:STANDARD
END:VTIMEZONE
BEGIN:VEVENT
DTSTART;VALUE=DATE:20241205
DTEND;VALUE=DATE:20241206
DTSTAMP:20260420T151920
CREATED:20241015T004710Z
LAST-MODIFIED:20241015T004710Z
UID:10001024-1733356800-1733443199@skihicomplex.com
SUMMARY:Private Event
DESCRIPTION:
URL:https://skihicomplex.com/event/private-event-19/
LOCATION:Outcalt Event & Conference at SLV Ski Hi Complex
CATEGORIES:Banquet Room
END:VEVENT
BEGIN:VEVENT
DTSTART;TZID=America/Denver:20241205T070000
DTEND;TZID=America/Denver:20241205T100000
DTSTAMP:20260420T151920
CREATED:20241010T173756Z
LAST-MODIFIED:20241016T224605Z
UID:10000794-1733382000-1733392800@skihicomplex.com
SUMMARY:Opening Walking
DESCRIPTION:
URL:https://skihicomplex.com/event/opening-walking/2024-12-05/
LOCATION:Outcalt Event & Conference at SLV Ski Hi Complex
CATEGORIES:Event Center
ATTACH;FMTTYPE=image/png:https://eadn-wc05-13503014.nxedge.io/wp-content/uploads/2024/10/Open-Walking-24-25.png
END:VEVENT
BEGIN:VEVENT
DTSTART;VALUE=DATE:20241206
DTEND;VALUE=DATE:20241208
DTSTAMP:20260420T151920
CREATED:20241010T184045Z
LAST-MODIFIED:20241010T184045Z
UID:10001010-1733443200-1733615999@skihicomplex.com
SUMMARY:Holiday Bazaar
DESCRIPTION:
URL:https://skihicomplex.com/event/holiday-bazaar-2/
LOCATION:Outcalt Event & Conference at SLV Ski Hi Complex
CATEGORIES:Banquet Room
END:VEVENT
BEGIN:VEVENT
DTSTART;VALUE=DATE:20241206
DTEND;VALUE=DATE:20241209
DTSTAMP:20260420T151920
CREATED:20241010T184012Z
LAST-MODIFIED:20241010T184012Z
UID:10001009-1733443200-1733702399@skihicomplex.com
SUMMARY:Holiday Bazaar
DESCRIPTION:
URL:https://skihicomplex.com/event/holiday-bazaar/
LOCATION:Outcalt Event & Conference at SLV Ski Hi Complex
CATEGORIES:Event Center
END:VEVENT
BEGIN:VEVENT
DTSTART;TZID=America/Denver:20241209T070000
DTEND;TZID=America/Denver:20241209T100000
DTSTAMP:20260420T151920
CREATED:20241010T173756Z
LAST-MODIFIED:20241016T224605Z
UID:10000795-1733727600-1733738400@skihicomplex.com
SUMMARY:Opening Walking
DESCRIPTION:
URL:https://skihicomplex.com/event/opening-walking/2024-12-09/
LOCATION:Outcalt Event & Conference at SLV Ski Hi Complex
CATEGORIES:Event Center
ATTACH;FMTTYPE=image/png:https://eadn-wc05-13503014.nxedge.io/wp-content/uploads/2024/10/Open-Walking-24-25.png
END:VEVENT
BEGIN:VEVENT
DTSTART;TZID=America/Denver:20241209T170000
DTEND;TZID=America/Denver:20241209T190000
DTSTAMP:20260420T151920
CREATED:20241010T174434Z
LAST-MODIFIED:20241017T155836Z
UID:10000895-1733763600-1733770800@skihicomplex.com
SUMMARY:Open Walking
DESCRIPTION:
URL:https://skihicomplex.com/event/open-walking/2024-12-09/
LOCATION:Outcalt Event & Conference at SLV Ski Hi Complex
CATEGORIES:Event Center
ATTACH;FMTTYPE=image/png:https://eadn-wc05-13503014.nxedge.io/wp-content/uploads/2024/10/Open-Walking-24-25.png
END:VEVENT
BEGIN:VEVENT
DTSTART;TZID=America/Denver:20241209T190000
DTEND;TZID=America/Denver:20241209T210000
DTSTAMP:20260420T151920
CREATED:20241007T174237Z
LAST-MODIFIED:20241010T180540Z
UID:10000980-1733770800-1733778000@skihicomplex.com
SUMMARY:San Luis Valley Fair Board Meeting
DESCRIPTION:
URL:https://skihicomplex.com/event/san-luis-valley-fair-board-meeting/2024-12-09/
LOCATION:Outcalt Event & Conference at SLV Ski Hi Complex
CATEGORIES:Meeting Room - Yellow
END:VEVENT
BEGIN:VEVENT
DTSTART;TZID=America/Denver:20241210T070000
DTEND;TZID=America/Denver:20241210T100000
DTSTAMP:20260420T151920
CREATED:20241010T173756Z
LAST-MODIFIED:20241016T224605Z
UID:10000796-1733814000-1733824800@skihicomplex.com
SUMMARY:Opening Walking
DESCRIPTION:
URL:https://skihicomplex.com/event/opening-walking/2024-12-10/
LOCATION:Outcalt Event & Conference at SLV Ski Hi Complex
CATEGORIES:Event Center
ATTACH;FMTTYPE=image/png:https://eadn-wc05-13503014.nxedge.io/wp-content/uploads/2024/10/Open-Walking-24-25.png
END:VEVENT
BEGIN:VEVENT
DTSTART;TZID=America/Denver:20241210T170000
DTEND;TZID=America/Denver:20241210T190000
DTSTAMP:20260420T151920
CREATED:20241010T174434Z
LAST-MODIFIED:20241017T155836Z
UID:10000896-1733850000-1733857200@skihicomplex.com
SUMMARY:Open Walking
DESCRIPTION:
URL:https://skihicomplex.com/event/open-walking/2024-12-10/
LOCATION:Outcalt Event & Conference at SLV Ski Hi Complex
CATEGORIES:Event Center
ATTACH;FMTTYPE=image/png:https://eadn-wc05-13503014.nxedge.io/wp-content/uploads/2024/10/Open-Walking-24-25.png
END:VEVENT
BEGIN:VEVENT
DTSTART;VALUE=DATE:20241211
DTEND;VALUE=DATE:20241212
DTSTAMP:20260420T151920
CREATED:20241015T004729Z
LAST-MODIFIED:20241015T004729Z
UID:10001025-1733875200-1733961599@skihicomplex.com
SUMMARY:Private Event
DESCRIPTION:
URL:https://skihicomplex.com/event/private-event-20/
LOCATION:Outcalt Event & Conference at SLV Ski Hi Complex
CATEGORIES:Meeting Room - Orange
END:VEVENT
BEGIN:VEVENT
DTSTART;TZID=America/Denver:20241211T070000
DTEND;TZID=America/Denver:20241211T100000
DTSTAMP:20260420T151920
CREATED:20241010T173756Z
LAST-MODIFIED:20241016T224605Z
UID:10000797-1733900400-1733911200@skihicomplex.com
SUMMARY:Opening Walking
DESCRIPTION:
URL:https://skihicomplex.com/event/opening-walking/2024-12-11/
LOCATION:Outcalt Event & Conference at SLV Ski Hi Complex
CATEGORIES:Event Center
ATTACH;FMTTYPE=image/png:https://eadn-wc05-13503014.nxedge.io/wp-content/uploads/2024/10/Open-Walking-24-25.png
END:VEVENT
BEGIN:VEVENT
DTSTART;TZID=America/Denver:20241211T170000
DTEND;TZID=America/Denver:20241211T190000
DTSTAMP:20260420T151920
CREATED:20241010T174434Z
LAST-MODIFIED:20241017T155836Z
UID:10000897-1733936400-1733943600@skihicomplex.com
SUMMARY:Open Walking
DESCRIPTION:
URL:https://skihicomplex.com/event/open-walking/2024-12-11/
LOCATION:Outcalt Event & Conference at SLV Ski Hi Complex
CATEGORIES:Event Center
ATTACH;FMTTYPE=image/png:https://eadn-wc05-13503014.nxedge.io/wp-content/uploads/2024/10/Open-Walking-24-25.png
END:VEVENT
BEGIN:VEVENT
DTSTART;VALUE=DATE:20241212
DTEND;VALUE=DATE:20241213
DTSTAMP:20260420T151920
CREATED:20241015T004856Z
LAST-MODIFIED:20241015T004856Z
UID:10001029-1733961600-1734047999@skihicomplex.com
SUMMARY:Private Event
DESCRIPTION:
URL:https://skihicomplex.com/event/private-event-24/
LOCATION:Outcalt Event & Conference at SLV Ski Hi Complex
CATEGORIES:Meeting Room - Green
END:VEVENT
BEGIN:VEVENT
DTSTART;TZID=America/Denver:20241212T070000
DTEND;TZID=America/Denver:20241212T100000
DTSTAMP:20260420T151920
CREATED:20241010T173756Z
LAST-MODIFIED:20241016T224605Z
UID:10000798-1733986800-1733997600@skihicomplex.com
SUMMARY:Opening Walking
DESCRIPTION:
URL:https://skihicomplex.com/event/opening-walking/2024-12-12/
LOCATION:Outcalt Event & Conference at SLV Ski Hi Complex
CATEGORIES:Event Center
ATTACH;FMTTYPE=image/png:https://eadn-wc05-13503014.nxedge.io/wp-content/uploads/2024/10/Open-Walking-24-25.png
END:VEVENT
BEGIN:VEVENT
DTSTART;TZID=America/Denver:20241212T170000
DTEND;TZID=America/Denver:20241212T190000
DTSTAMP:20260420T151920
CREATED:20241010T174434Z
LAST-MODIFIED:20241017T155836Z
UID:10000898-1734022800-1734030000@skihicomplex.com
SUMMARY:Open Walking
DESCRIPTION:
URL:https://skihicomplex.com/event/open-walking/2024-12-12/
LOCATION:Outcalt Event & Conference at SLV Ski Hi Complex
CATEGORIES:Event Center
ATTACH;FMTTYPE=image/png:https://eadn-wc05-13503014.nxedge.io/wp-content/uploads/2024/10/Open-Walking-24-25.png
END:VEVENT
BEGIN:VEVENT
DTSTART;VALUE=DATE:20241213
DTEND;VALUE=DATE:20241214
DTSTAMP:20260420T151920
CREATED:20241015T004755Z
LAST-MODIFIED:20241015T005147Z
UID:10001026-1734048000-1734134399@skihicomplex.com
SUMMARY:Private Event
DESCRIPTION:
URL:https://skihicomplex.com/event/private-event-21/
LOCATION:Outcalt Event & Conference at SLV Ski Hi Complex
CATEGORIES:Banquet Room
END:VEVENT
BEGIN:VEVENT
DTSTART;VALUE=DATE:20241213
DTEND;VALUE=DATE:20241215
DTSTAMP:20260420T151920
CREATED:20241015T004833Z
LAST-MODIFIED:20241015T004833Z
UID:10001028-1734048000-1734220799@skihicomplex.com
SUMMARY:Private Event
DESCRIPTION:
URL:https://skihicomplex.com/event/private-event-23/
LOCATION:Outcalt Event & Conference at SLV Ski Hi Complex
CATEGORIES:Event Center
END:VEVENT
BEGIN:VEVENT
DTSTART;VALUE=DATE:20241214
DTEND;VALUE=DATE:20241215
DTSTAMP:20260420T151920
CREATED:20241015T004810Z
LAST-MODIFIED:20241015T005136Z
UID:10001027-1734134400-1734220799@skihicomplex.com
SUMMARY:Private Event
DESCRIPTION:
URL:https://skihicomplex.com/event/private-event-22/
LOCATION:Outcalt Event & Conference at SLV Ski Hi Complex
CATEGORIES:Banquet Room
END:VEVENT
BEGIN:VEVENT
DTSTART;TZID=America/Denver:20241216T070000
DTEND;TZID=America/Denver:20241216T100000
DTSTAMP:20260420T151920
CREATED:20241010T173756Z
LAST-MODIFIED:20241016T224605Z
UID:10000799-1734332400-1734343200@skihicomplex.com
SUMMARY:Opening Walking
DESCRIPTION:
URL:https://skihicomplex.com/event/opening-walking/2024-12-16/
LOCATION:Outcalt Event & Conference at SLV Ski Hi Complex
CATEGORIES:Event Center
ATTACH;FMTTYPE=image/png:https://eadn-wc05-13503014.nxedge.io/wp-content/uploads/2024/10/Open-Walking-24-25.png
END:VEVENT
BEGIN:VEVENT
DTSTART;TZID=America/Denver:20241216T170000
DTEND;TZID=America/Denver:20241216T190000
DTSTAMP:20260420T151920
CREATED:20241010T174434Z
LAST-MODIFIED:20241017T155836Z
UID:10000899-1734368400-1734375600@skihicomplex.com
SUMMARY:Open Walking
DESCRIPTION:
URL:https://skihicomplex.com/event/open-walking/2024-12-16/
LOCATION:Outcalt Event & Conference at SLV Ski Hi Complex
CATEGORIES:Event Center
ATTACH;FMTTYPE=image/png:https://eadn-wc05-13503014.nxedge.io/wp-content/uploads/2024/10/Open-Walking-24-25.png
END:VEVENT
BEGIN:VEVENT
DTSTART;TZID=America/Denver:20241217T070000
DTEND;TZID=America/Denver:20241217T100000
DTSTAMP:20260420T151920
CREATED:20241010T173756Z
LAST-MODIFIED:20241016T224605Z
UID:10000800-1734418800-1734429600@skihicomplex.com
SUMMARY:Opening Walking
DESCRIPTION:
URL:https://skihicomplex.com/event/opening-walking/2024-12-17/
LOCATION:Outcalt Event & Conference at SLV Ski Hi Complex
CATEGORIES:Event Center
ATTACH;FMTTYPE=image/png:https://eadn-wc05-13503014.nxedge.io/wp-content/uploads/2024/10/Open-Walking-24-25.png
END:VEVENT
BEGIN:VEVENT
DTSTART;TZID=America/Denver:20241217T100000
DTEND;TZID=America/Denver:20241217T120000
DTSTAMP:20260420T151920
CREATED:20241007T174350Z
LAST-MODIFIED:20250217T160945Z
UID:10000989-1734429600-1734436800@skihicomplex.com
SUMMARY:All Valley Law Enforcement Meeting
DESCRIPTION:
URL:https://skihicomplex.com/event/all-valley-law-enforcement-meeting/2024-12-17/
LOCATION:Outcalt Event & Conference at SLV Ski Hi Complex
CATEGORIES:Meeting Room - Orange
END:VEVENT
BEGIN:VEVENT
DTSTART;TZID=America/Denver:20241217T170000
DTEND;TZID=America/Denver:20241217T190000
DTSTAMP:20260420T151920
CREATED:20241010T174434Z
LAST-MODIFIED:20241017T155836Z
UID:10000900-1734454800-1734462000@skihicomplex.com
SUMMARY:Open Walking
DESCRIPTION:
URL:https://skihicomplex.com/event/open-walking/2024-12-17/
LOCATION:Outcalt Event & Conference at SLV Ski Hi Complex
CATEGORIES:Event Center
ATTACH;FMTTYPE=image/png:https://eadn-wc05-13503014.nxedge.io/wp-content/uploads/2024/10/Open-Walking-24-25.png
END:VEVENT
BEGIN:VEVENT
DTSTART;TZID=America/Denver:20241218T070000
DTEND;TZID=America/Denver:20241218T100000
DTSTAMP:20260420T151920
CREATED:20241010T173756Z
LAST-MODIFIED:20241016T224605Z
UID:10000801-1734505200-1734516000@skihicomplex.com
SUMMARY:Opening Walking
DESCRIPTION:
URL:https://skihicomplex.com/event/opening-walking/2024-12-18/
LOCATION:Outcalt Event & Conference at SLV Ski Hi Complex
CATEGORIES:Event Center
ATTACH;FMTTYPE=image/png:https://eadn-wc05-13503014.nxedge.io/wp-content/uploads/2024/10/Open-Walking-24-25.png
END:VEVENT
BEGIN:VEVENT
DTSTART;TZID=America/Denver:20241218T170000
DTEND;TZID=America/Denver:20241218T190000
DTSTAMP:20260420T151920
CREATED:20241010T174434Z
LAST-MODIFIED:20241017T155836Z
UID:10000901-1734541200-1734548400@skihicomplex.com
SUMMARY:Open Walking
DESCRIPTION:
URL:https://skihicomplex.com/event/open-walking/2024-12-18/
LOCATION:Outcalt Event & Conference at SLV Ski Hi Complex
CATEGORIES:Event Center
ATTACH;FMTTYPE=image/png:https://eadn-wc05-13503014.nxedge.io/wp-content/uploads/2024/10/Open-Walking-24-25.png
END:VEVENT
BEGIN:VEVENT
DTSTART;TZID=America/Denver:20241218T173000
DTEND;TZID=America/Denver:20241218T183000
DTSTAMP:20260420T151920
CREATED:20240924T195236Z
LAST-MODIFIED:20241106T192719Z
UID:10000555-1734543000-1734546600@skihicomplex.com
SUMMARY:Mini Cheerleaders Practice
DESCRIPTION:Event Center – Mini Cheerleaders Practice – 5:30 pm – 6:30 pm
URL:https://skihicomplex.com/event/mini-cheerleaders-practice/2024-12-18/
LOCATION:Outcalt Event & Conference at SLV Ski Hi Complex
CATEGORIES:Event Center
END:VEVENT
BEGIN:VEVENT
DTSTART;TZID=America/Denver:20241219T070000
DTEND;TZID=America/Denver:20241219T100000
DTSTAMP:20260420T151920
CREATED:20241010T173756Z
LAST-MODIFIED:20241016T224605Z
UID:10000802-1734591600-1734602400@skihicomplex.com
SUMMARY:Opening Walking
DESCRIPTION:
URL:https://skihicomplex.com/event/opening-walking/2024-12-19/
LOCATION:Outcalt Event & Conference at SLV Ski Hi Complex
CATEGORIES:Event Center
ATTACH;FMTTYPE=image/png:https://eadn-wc05-13503014.nxedge.io/wp-content/uploads/2024/10/Open-Walking-24-25.png
END:VEVENT
BEGIN:VEVENT
DTSTART;TZID=America/Denver:20241219T110000
DTEND;TZID=America/Denver:20241219T130000
DTSTAMP:20260420T151920
CREATED:20241007T175401Z
LAST-MODIFIED:20241009T175356Z
UID:10000672-1734606000-1734613200@skihicomplex.com
SUMMARY:Commodity Food Distribution
DESCRIPTION:This event is hosted outside on the South side of the Ski Hi Complex on Sherman Ave.
URL:https://skihicomplex.com/event/commodity-supplemental-food-assistance-program/2024-12-19/
LOCATION:Outcalt Event & Conference at SLV Ski Hi Complex
CATEGORIES:Rodeo Arena
ATTACH;FMTTYPE=image/png:https://eadn-wc05-13503014.nxedge.io/wp-content/uploads/2024/10/CareandShare.FinalLogo-2023-2C.png
END:VEVENT
BEGIN:VEVENT
DTSTART;TZID=America/Denver:20241219T170000
DTEND;TZID=America/Denver:20241219T190000
DTSTAMP:20260420T151920
CREATED:20241010T174434Z
LAST-MODIFIED:20241017T155836Z
UID:10000902-1734627600-1734634800@skihicomplex.com
SUMMARY:Open Walking
DESCRIPTION:
URL:https://skihicomplex.com/event/open-walking/2024-12-19/
LOCATION:Outcalt Event & Conference at SLV Ski Hi Complex
CATEGORIES:Event Center
ATTACH;FMTTYPE=image/png:https://eadn-wc05-13503014.nxedge.io/wp-content/uploads/2024/10/Open-Walking-24-25.png
END:VEVENT
BEGIN:VEVENT
DTSTART;TZID=America/Denver:20241223T070000
DTEND;TZID=America/Denver:20241223T100000
DTSTAMP:20260420T151920
CREATED:20241010T173756Z
LAST-MODIFIED:20241016T224605Z
UID:10000803-1734937200-1734948000@skihicomplex.com
SUMMARY:Opening Walking
DESCRIPTION:
URL:https://skihicomplex.com/event/opening-walking/2024-12-23/
LOCATION:Outcalt Event & Conference at SLV Ski Hi Complex
CATEGORIES:Event Center
ATTACH;FMTTYPE=image/png:https://eadn-wc05-13503014.nxedge.io/wp-content/uploads/2024/10/Open-Walking-24-25.png
END:VEVENT
END:VCALENDAR