BEGIN:VCALENDAR
VERSION:2.0
PRODID:-//Outcalt Event Center Ski Hi Event Complex - ECPv6.15.17.1//NONSGML v1.0//EN
CALSCALE:GREGORIAN
METHOD:PUBLISH
X-ORIGINAL-URL:https://skihicomplex.com
X-WR-CALDESC:Events for Outcalt Event Center Ski Hi Event Complex
REFRESH-INTERVAL;VALUE=DURATION:PT1H
X-Robots-Tag:noindex
X-PUBLISHED-TTL:PT1H
BEGIN:VTIMEZONE
TZID:America/Denver
BEGIN:DAYLIGHT
TZOFFSETFROM:-0700
TZOFFSETTO:-0600
TZNAME:MDT
DTSTART:20230312T090000
END:DAYLIGHT
BEGIN:STANDARD
TZOFFSETFROM:-0600
TZOFFSETTO:-0700
TZNAME:MST
DTSTART:20231105T080000
END:STANDARD
BEGIN:DAYLIGHT
TZOFFSETFROM:-0700
TZOFFSETTO:-0600
TZNAME:MDT
DTSTART:20240310T090000
END:DAYLIGHT
BEGIN:STANDARD
TZOFFSETFROM:-0600
TZOFFSETTO:-0700
TZNAME:MST
DTSTART:20241103T080000
END:STANDARD
BEGIN:DAYLIGHT
TZOFFSETFROM:-0700
TZOFFSETTO:-0600
TZNAME:MDT
DTSTART:20250309T090000
END:DAYLIGHT
BEGIN:STANDARD
TZOFFSETFROM:-0600
TZOFFSETTO:-0700
TZNAME:MST
DTSTART:20251102T080000
END:STANDARD
END:VTIMEZONE
BEGIN:VEVENT
DTSTART;VALUE=DATE:20241017
DTEND;VALUE=DATE:20241018
DTSTAMP:20260420T190929
CREATED:20241007T172901Z
LAST-MODIFIED:20241007T172901Z
UID:10000667-1729123200-1729209599@skihicomplex.com
SUMMARY:Private Event
DESCRIPTION:
URL:https://skihicomplex.com/event/private-event-4/
LOCATION:Outcalt Event & Conference at SLV Ski Hi Complex
CATEGORIES:Entire Facility
END:VEVENT
BEGIN:VEVENT
DTSTART;TZID=America/Denver:20241017T110000
DTEND;TZID=America/Denver:20241017T130000
DTSTAMP:20260420T190929
CREATED:20241007T175401Z
LAST-MODIFIED:20241009T175356Z
UID:10000670-1729162800-1729170000@skihicomplex.com
SUMMARY:Commodity Food Distribution
DESCRIPTION:This event is hosted outside on the South side of the Ski Hi Complex on Sherman Ave.
URL:https://skihicomplex.com/event/commodity-supplemental-food-assistance-program/2024-10-17/
LOCATION:Outcalt Event & Conference at SLV Ski Hi Complex
CATEGORIES:Rodeo Arena
ATTACH;FMTTYPE=image/png:https://eadn-wc05-13503014.nxedge.io/wp-content/uploads/2024/10/CareandShare.FinalLogo-2023-2C.png
END:VEVENT
BEGIN:VEVENT
DTSTART;VALUE=DATE:20241018
DTEND;VALUE=DATE:20241020
DTSTAMP:20260420T190929
CREATED:20241008T202357Z
LAST-MODIFIED:20241008T202357Z
UID:10000730-1729209600-1729382399@skihicomplex.com
SUMMARY:Private Event
DESCRIPTION:
URL:https://skihicomplex.com/event/private-event-5/
LOCATION:Outcalt Event & Conference at SLV Ski Hi Complex
CATEGORIES:Event Center
END:VEVENT
BEGIN:VEVENT
DTSTART;TZID=America/Denver:20241019T173000
DTEND;TZID=America/Denver:20241019T213000
DTSTAMP:20260420T190929
CREATED:20241008T202759Z
LAST-MODIFIED:20241008T202759Z
UID:10000731-1729359000-1729373400@skihicomplex.com
SUMMARY:Boys & Girls Club - Be Great Gala
DESCRIPTION:
URL:https://skihicomplex.com/event/boys-girls-club-be-great-gala/
LOCATION:Outcalt Event & Conference at SLV Ski Hi Complex
CATEGORIES:Banquet Room
END:VEVENT
BEGIN:VEVENT
DTSTART;TZID=America/Denver:20241021T170000
DTEND;TZID=America/Denver:20241021T200000
DTSTAMP:20260420T190929
CREATED:20241008T203301Z
LAST-MODIFIED:20241008T203301Z
UID:10000732-1729530000-1729540800@skihicomplex.com
SUMMARY:Farm Bureau Annual Meeting
DESCRIPTION:
URL:https://skihicomplex.com/event/farm-bureau-annual-meeting/
LOCATION:Outcalt Event & Conference at SLV Ski Hi Complex
CATEGORIES:Meeting Room - Orange,Meeting Room - Yellow
END:VEVENT
BEGIN:VEVENT
DTSTART;TZID=America/Denver:20241021T170000
DTEND;TZID=America/Denver:20241021T200000
DTSTAMP:20260420T190929
CREATED:20241008T203453Z
LAST-MODIFIED:20241008T203453Z
UID:10000733-1729530000-1729540800@skihicomplex.com
SUMMARY:Farm Bureau Annual Meeting
DESCRIPTION:
URL:https://skihicomplex.com/event/farm-bureau-annual-meeting-2/
LOCATION:Outcalt Event & Conference at SLV Ski Hi Complex
CATEGORIES:Meeting Room - Orange
END:VEVENT
BEGIN:VEVENT
DTSTART;VALUE=DATE:20241022
DTEND;VALUE=DATE:20241023
DTSTAMP:20260420T190929
CREATED:20241009T205525Z
LAST-MODIFIED:20241009T205525Z
UID:10000771-1729555200-1729641599@skihicomplex.com
SUMMARY:Private Event
DESCRIPTION:
URL:https://skihicomplex.com/event/private-event-8/
LOCATION:Outcalt Event & Conference at SLV Ski Hi Complex
CATEGORIES:Rodeo Arena
END:VEVENT
BEGIN:VEVENT
DTSTART;TZID=America/Denver:20241023T173000
DTEND;TZID=America/Denver:20241023T183000
DTSTAMP:20260420T190929
CREATED:20240924T195236Z
LAST-MODIFIED:20241106T192719Z
UID:10000547-1729704600-1729708200@skihicomplex.com
SUMMARY:Mini Cheerleaders Practice
DESCRIPTION:Event Center – Mini Cheerleaders Practice – 5:30 pm – 6:30 pm
URL:https://skihicomplex.com/event/mini-cheerleaders-practice/2024-10-23/
LOCATION:Outcalt Event & Conference at SLV Ski Hi Complex
CATEGORIES:Event Center
END:VEVENT
BEGIN:VEVENT
DTSTART;VALUE=DATE:20241024
DTEND;VALUE=DATE:20241025
DTSTAMP:20260420T190929
CREATED:20241008T203920Z
LAST-MODIFIED:20241008T203920Z
UID:10000735-1729728000-1729814399@skihicomplex.com
SUMMARY:Private Event
DESCRIPTION:
URL:https://skihicomplex.com/event/private-event-6/
LOCATION:Outcalt Event & Conference at SLV Ski Hi Complex
CATEGORIES:Banquet Room
END:VEVENT
BEGIN:VEVENT
DTSTART;VALUE=DATE:20241025
DTEND;VALUE=DATE:20241026
DTSTAMP:20260420T190929
CREATED:20241008T203940Z
LAST-MODIFIED:20241008T203940Z
UID:10000736-1729814400-1729900799@skihicomplex.com
SUMMARY:Private Event
DESCRIPTION:
URL:https://skihicomplex.com/event/private-event-7/
LOCATION:Outcalt Event & Conference at SLV Ski Hi Complex
CATEGORIES:Rodeo Arena
END:VEVENT
BEGIN:VEVENT
DTSTART;TZID=America/Denver:20241025T090000
DTEND;TZID=America/Denver:20241025T150000
DTSTAMP:20260420T190929
CREATED:20241008T204401Z
LAST-MODIFIED:20241008T204401Z
UID:10000737-1729846800-1729868400@skihicomplex.com
SUMMARY:Water Information Workshop
DESCRIPTION:San Luis Valley ditch and surface water users discussion.
URL:https://skihicomplex.com/event/water-information-workshop/
LOCATION:Outcalt Event & Conference at SLV Ski Hi Complex
CATEGORIES:Meeting Room - Orange
END:VEVENT
BEGIN:VEVENT
DTSTART;TZID=America/Denver:20241026T110000
DTEND;TZID=America/Denver:20241026T170000
DTSTAMP:20260420T190929
CREATED:20241008T205401Z
LAST-MODIFIED:20241008T205401Z
UID:10000738-1729940400-1729962000@skihicomplex.com
SUMMARY:Lucky Shoe Riding Club Fall Show
DESCRIPTION:
URL:https://skihicomplex.com/event/lucky-shoe-riding-club-fall-show/
LOCATION:Outcalt Event & Conference at SLV Ski Hi Complex
CATEGORIES:Rodeo Arena
END:VEVENT
BEGIN:VEVENT
DTSTART;TZID=America/Denver:20241028T113000
DTEND;TZID=America/Denver:20241028T143000
DTSTAMP:20260420T190929
CREATED:20241010T172745Z
LAST-MODIFIED:20241014T223234Z
UID:10000773-1730115000-1730125800@skihicomplex.com
SUMMARY:Dry Bean Workshop
DESCRIPTION:
URL:https://skihicomplex.com/event/dry-bean-workshop/
LOCATION:Outcalt Event & Conference at SLV Ski Hi Complex
CATEGORIES:Meeting Room - Orange
ATTACH;FMTTYPE=application/pdf:https://eadn-wc05-13503014.nxedge.io/wp-content/uploads/2024/10/SLV-Dry-Beans-Workshop-Flyer-3.pdf
END:VEVENT
BEGIN:VEVENT
DTSTART;TZID=America/Denver:20241028T163000
DTEND;TZID=America/Denver:20241028T200000
DTSTAMP:20260420T190929
CREATED:20241009T194553Z
LAST-MODIFIED:20241016T224828Z
UID:10000739-1730133000-1730145600@skihicomplex.com
SUMMARY:MV Recreation - Youth Basketball Practice
DESCRIPTION:
URL:https://skihicomplex.com/event/mv-recreation-youth-basketball-practice/2024-10-28/
LOCATION:Outcalt Event & Conference at SLV Ski Hi Complex
CATEGORIES:Event Center
ATTACH;FMTTYPE=image/png:https://eadn-wc05-13503014.nxedge.io/wp-content/uploads/2024/10/MV-Recreation-Dept.png
END:VEVENT
BEGIN:VEVENT
DTSTART;TZID=America/Denver:20241028T183000
DTEND;TZID=America/Denver:20241028T210000
DTSTAMP:20260420T190929
CREATED:20241010T172840Z
LAST-MODIFIED:20241014T223148Z
UID:10000774-1730140200-1730149200@skihicomplex.com
SUMMARY:Ag Business & Strategies Workshop
DESCRIPTION:
URL:https://skihicomplex.com/event/ag-business-strategies-workshop/
LOCATION:Outcalt Event & Conference at SLV Ski Hi Complex
CATEGORIES:Meeting Room - Orange
ATTACH;FMTTYPE=application/pdf:https://eadn-wc05-13503014.nxedge.io/wp-content/uploads/2024/10/Ag-Commodity-Strategies-Outlooks-4.pdf
END:VEVENT
BEGIN:VEVENT
DTSTART;VALUE=DATE:20241029
DTEND;VALUE=DATE:20241030
DTSTAMP:20260420T190929
CREATED:20241010T172705Z
LAST-MODIFIED:20241010T172705Z
UID:10000772-1730160000-1730246399@skihicomplex.com
SUMMARY:Private Event
DESCRIPTION:
URL:https://skihicomplex.com/event/private-event-9/
LOCATION:Outcalt Event & Conference at SLV Ski Hi Complex
CATEGORIES:Meeting Room - Orange
END:VEVENT
BEGIN:VEVENT
DTSTART;TZID=America/Denver:20241029T163000
DTEND;TZID=America/Denver:20241029T200000
DTSTAMP:20260420T190929
CREATED:20241009T195019Z
LAST-MODIFIED:20241009T195019Z
UID:10000747-1730219400-1730232000@skihicomplex.com
SUMMARY:MV Recreation - Youth Basketball Practice
DESCRIPTION:
URL:https://skihicomplex.com/event/mv-recreation-youth-basketball-practice-2/2024-10-29/
LOCATION:Outcalt Event & Conference at SLV Ski Hi Complex
CATEGORIES:Event Center
ATTACH;FMTTYPE=image/png:https://eadn-wc05-13503014.nxedge.io/wp-content/uploads/2024/10/MV-Recreation-Dept.png
END:VEVENT
BEGIN:VEVENT
DTSTART;TZID=America/Denver:20241030T173000
DTEND;TZID=America/Denver:20241030T183000
DTSTAMP:20260420T190929
CREATED:20240924T195236Z
LAST-MODIFIED:20241106T192719Z
UID:10000548-1730309400-1730313000@skihicomplex.com
SUMMARY:Mini Cheerleaders Practice
DESCRIPTION:Event Center – Mini Cheerleaders Practice – 5:30 pm – 6:30 pm
URL:https://skihicomplex.com/event/mini-cheerleaders-practice/2024-10-30/
LOCATION:Outcalt Event & Conference at SLV Ski Hi Complex
CATEGORIES:Event Center
END:VEVENT
BEGIN:VEVENT
DTSTART;TZID=America/Denver:20241030T180000
DTEND;TZID=America/Denver:20241030T203000
DTSTAMP:20260420T190929
CREATED:20241009T195333Z
LAST-MODIFIED:20241016T224919Z
UID:10000752-1730311200-1730320200@skihicomplex.com
SUMMARY:MV Recreation - Youth Basketball Games
DESCRIPTION:
URL:https://skihicomplex.com/event/mv-recreation-youth-basketball-games/2024-10-30/
LOCATION:Outcalt Event & Conference at SLV Ski Hi Complex
CATEGORIES:Event Center
ATTACH;FMTTYPE=image/png:https://eadn-wc05-13503014.nxedge.io/wp-content/uploads/2024/10/MV-Recreation-Dept.png
END:VEVENT
BEGIN:VEVENT
DTSTART;TZID=America/Denver:20241031T163000
DTEND;TZID=America/Denver:20241031T200000
DTSTAMP:20260420T190929
CREATED:20241009T202022Z
LAST-MODIFIED:20241009T202022Z
UID:10000754-1730392200-1730404800@skihicomplex.com
SUMMARY:MV Recreation - Youth Basketball Practice
DESCRIPTION:
URL:https://skihicomplex.com/event/mv-recreation-youth-basketball-practice-3/2024-10-31/
LOCATION:Outcalt Event & Conference at SLV Ski Hi Complex
CATEGORIES:Event Center
ATTACH;FMTTYPE=image/png:https://eadn-wc05-13503014.nxedge.io/wp-content/uploads/2024/10/MV-Recreation-Dept.png
END:VEVENT
BEGIN:VEVENT
DTSTART;TZID=America/Denver:20241102T083000
DTEND;TZID=America/Denver:20241102T120000
DTSTAMP:20260420T190929
CREATED:20241009T202252Z
LAST-MODIFIED:20241009T204744Z
UID:10000761-1730536200-1730548800@skihicomplex.com
SUMMARY:MV Recreation - Youth Basketball Games
DESCRIPTION:
URL:https://skihicomplex.com/event/mv-recreation-youth-basketball-games-2/2024-11-02/
LOCATION:Outcalt Event & Conference at SLV Ski Hi Complex
CATEGORIES:Event Center
ATTACH;FMTTYPE=image/png:https://eadn-wc05-13503014.nxedge.io/wp-content/uploads/2024/10/MV-Recreation-Dept.png
END:VEVENT
BEGIN:VEVENT
DTSTART;TZID=America/Denver:20241102T180000
DTEND;TZID=America/Denver:20241102T200000
DTSTAMP:20260420T190929
CREATED:20241009T205313Z
LAST-MODIFIED:20241015T150320Z
UID:10000770-1730570400-1730577600@skihicomplex.com
SUMMARY:SLV 4-H Achievement Night
DESCRIPTION:
URL:https://skihicomplex.com/event/4-h-achievement-night/
LOCATION:Outcalt Event & Conference at SLV Ski Hi Complex
CATEGORIES:Banquet Room
ATTACH;FMTTYPE=image/png:https://eadn-wc05-13503014.nxedge.io/wp-content/uploads/2024/10/2024-Achievement-Night-Flyer.png
END:VEVENT
BEGIN:VEVENT
DTSTART;TZID=America/Denver:20241104T070000
DTEND;TZID=America/Denver:20241104T100000
DTSTAMP:20260420T190929
CREATED:20241010T173756Z
LAST-MODIFIED:20241016T224605Z
UID:10000776-1730703600-1730714400@skihicomplex.com
SUMMARY:Opening Walking
DESCRIPTION:
URL:https://skihicomplex.com/event/opening-walking/2024-11-04/
LOCATION:Outcalt Event & Conference at SLV Ski Hi Complex
CATEGORIES:Event Center
ATTACH;FMTTYPE=image/png:https://eadn-wc05-13503014.nxedge.io/wp-content/uploads/2024/10/Open-Walking-24-25.png
END:VEVENT
BEGIN:VEVENT
DTSTART;TZID=America/Denver:20241104T163000
DTEND;TZID=America/Denver:20241104T200000
DTSTAMP:20260420T190929
CREATED:20241009T194553Z
LAST-MODIFIED:20241016T224828Z
UID:10000740-1730737800-1730750400@skihicomplex.com
SUMMARY:MV Recreation - Youth Basketball Practice
DESCRIPTION:
URL:https://skihicomplex.com/event/mv-recreation-youth-basketball-practice/2024-11-04/
LOCATION:Outcalt Event & Conference at SLV Ski Hi Complex
CATEGORIES:Event Center
ATTACH;FMTTYPE=image/png:https://eadn-wc05-13503014.nxedge.io/wp-content/uploads/2024/10/MV-Recreation-Dept.png
END:VEVENT
BEGIN:VEVENT
DTSTART;TZID=America/Denver:20241104T170000
DTEND;TZID=America/Denver:20241104T190000
DTSTAMP:20260420T190929
CREATED:20241010T174434Z
LAST-MODIFIED:20241017T155836Z
UID:10000876-1730739600-1730746800@skihicomplex.com
SUMMARY:Open Walking
DESCRIPTION:
URL:https://skihicomplex.com/event/open-walking/2024-11-04/
LOCATION:Outcalt Event & Conference at SLV Ski Hi Complex
CATEGORIES:Event Center
ATTACH;FMTTYPE=image/png:https://eadn-wc05-13503014.nxedge.io/wp-content/uploads/2024/10/Open-Walking-24-25.png
END:VEVENT
BEGIN:VEVENT
DTSTART;TZID=America/Denver:20241104T173000
DTEND;TZID=America/Denver:20241104T193000
DTSTAMP:20260420T190929
CREATED:20241010T172915Z
LAST-MODIFIED:20241014T223054Z
UID:10000775-1730741400-1730748600@skihicomplex.com
SUMMARY:Managing Ag Stress Together
DESCRIPTION:
URL:https://skihicomplex.com/event/managing-ag-stress-together/
LOCATION:Outcalt Event & Conference at SLV Ski Hi Complex
CATEGORIES:Meeting Room - Orange
ATTACH;FMTTYPE=application/pdf:https://eadn-wc05-13503014.nxedge.io/wp-content/uploads/2024/10/Managing-Ag-Stress-Together-workshop-flyer.pdf
END:VEVENT
BEGIN:VEVENT
DTSTART;VALUE=DATE:20241105
DTEND;VALUE=DATE:20241106
DTSTAMP:20260420T190929
CREATED:20241010T175223Z
LAST-MODIFIED:20241010T183351Z
UID:10000976-1730764800-1730851199@skihicomplex.com
SUMMARY:Private Event
DESCRIPTION:
URL:https://skihicomplex.com/event/private-event-10/2024-11-05/
LOCATION:Outcalt Event & Conference at SLV Ski Hi Complex
CATEGORIES:Meeting Room - Orange
END:VEVENT
BEGIN:VEVENT
DTSTART;TZID=America/Denver:20241105T070000
DTEND;TZID=America/Denver:20241105T100000
DTSTAMP:20260420T190929
CREATED:20241010T173756Z
LAST-MODIFIED:20241016T224605Z
UID:10000777-1730790000-1730800800@skihicomplex.com
SUMMARY:Opening Walking
DESCRIPTION:
URL:https://skihicomplex.com/event/opening-walking/2024-11-05/
LOCATION:Outcalt Event & Conference at SLV Ski Hi Complex
CATEGORIES:Event Center
ATTACH;FMTTYPE=image/png:https://eadn-wc05-13503014.nxedge.io/wp-content/uploads/2024/10/Open-Walking-24-25.png
END:VEVENT
BEGIN:VEVENT
DTSTART;TZID=America/Denver:20241105T163000
DTEND;TZID=America/Denver:20241105T200000
DTSTAMP:20260420T190929
CREATED:20241009T195019Z
LAST-MODIFIED:20241009T195019Z
UID:10000748-1730824200-1730836800@skihicomplex.com
SUMMARY:MV Recreation - Youth Basketball Practice
DESCRIPTION:
URL:https://skihicomplex.com/event/mv-recreation-youth-basketball-practice-2/2024-11-05/
LOCATION:Outcalt Event & Conference at SLV Ski Hi Complex
CATEGORIES:Event Center
ATTACH;FMTTYPE=image/png:https://eadn-wc05-13503014.nxedge.io/wp-content/uploads/2024/10/MV-Recreation-Dept.png
END:VEVENT
BEGIN:VEVENT
DTSTART;TZID=America/Denver:20241105T170000
DTEND;TZID=America/Denver:20241105T190000
DTSTAMP:20260420T190929
CREATED:20241010T174434Z
LAST-MODIFIED:20241017T155836Z
UID:10000877-1730826000-1730833200@skihicomplex.com
SUMMARY:Open Walking
DESCRIPTION:
URL:https://skihicomplex.com/event/open-walking/2024-11-05/
LOCATION:Outcalt Event & Conference at SLV Ski Hi Complex
CATEGORIES:Event Center
ATTACH;FMTTYPE=image/png:https://eadn-wc05-13503014.nxedge.io/wp-content/uploads/2024/10/Open-Walking-24-25.png
END:VEVENT
END:VCALENDAR