BEGIN:VCALENDAR
VERSION:2.0
PRODID:-//Outcalt Event Center Ski Hi Event Complex - ECPv6.15.17.1//NONSGML v1.0//EN
CALSCALE:GREGORIAN
METHOD:PUBLISH
X-WR-CALNAME:Outcalt Event Center Ski Hi Event Complex
X-ORIGINAL-URL:https://skihicomplex.com
X-WR-CALDESC:Events for Outcalt Event Center Ski Hi Event Complex
REFRESH-INTERVAL;VALUE=DURATION:PT1H
X-Robots-Tag:noindex
X-PUBLISHED-TTL:PT1H
BEGIN:VTIMEZONE
TZID:America/Denver
BEGIN:DAYLIGHT
TZOFFSETFROM:-0700
TZOFFSETTO:-0600
TZNAME:MDT
DTSTART:20240310T090000
END:DAYLIGHT
BEGIN:STANDARD
TZOFFSETFROM:-0600
TZOFFSETTO:-0700
TZNAME:MST
DTSTART:20241103T080000
END:STANDARD
BEGIN:DAYLIGHT
TZOFFSETFROM:-0700
TZOFFSETTO:-0600
TZNAME:MDT
DTSTART:20250309T090000
END:DAYLIGHT
BEGIN:STANDARD
TZOFFSETFROM:-0600
TZOFFSETTO:-0700
TZNAME:MST
DTSTART:20251102T080000
END:STANDARD
BEGIN:DAYLIGHT
TZOFFSETFROM:-0700
TZOFFSETTO:-0600
TZNAME:MDT
DTSTART:20260308T090000
END:DAYLIGHT
BEGIN:STANDARD
TZOFFSETFROM:-0600
TZOFFSETTO:-0700
TZNAME:MST
DTSTART:20261101T080000
END:STANDARD
END:VTIMEZONE
BEGIN:VEVENT
DTSTART;TZID=America/Denver:20250324T070000
DTEND;TZID=America/Denver:20250324T100000
DTSTAMP:20260420T101218
CREATED:20241010T173756Z
LAST-MODIFIED:20241016T224605Z
UID:10000852-1742799600-1742810400@skihicomplex.com
SUMMARY:Opening Walking
DESCRIPTION:
URL:https://skihicomplex.com/event/opening-walking/2025-03-24/
LOCATION:Outcalt Event & Conference at SLV Ski Hi Complex
CATEGORIES:Event Center
ATTACH;FMTTYPE=image/png:https://eadn-wc05-13503014.nxedge.io/wp-content/uploads/2024/10/Open-Walking-24-25.png
END:VEVENT
BEGIN:VEVENT
DTSTART;TZID=America/Denver:20250322T080000
DTEND;TZID=America/Denver:20250322T160000
DTSTAMP:20260420T101218
CREATED:20250310T214340Z
LAST-MODIFIED:20250310T214340Z
UID:10001127-1742630400-1742659200@skihicomplex.com
SUMMARY:Hunter Education Course
DESCRIPTION:
URL:https://skihicomplex.com/event/hunter-education-course-2/
LOCATION:Outcalt Event & Conference at SLV Ski Hi Complex
CATEGORIES:Meeting Room - Green
ATTACH;FMTTYPE=application/pdf:https://eadn-wc05-13503014.nxedge.io/wp-content/uploads/2025/03/Ski-Hi-Hunter-education-1.pdf
END:VEVENT
BEGIN:VEVENT
DTSTART;TZID=America/Denver:20250322T080000
DTEND;TZID=America/Denver:20250322T160000
DTSTAMP:20260420T101218
CREATED:20250310T214247Z
LAST-MODIFIED:20250310T214247Z
UID:10001126-1742630400-1742659200@skihicomplex.com
SUMMARY:Hunter Education Course
DESCRIPTION:
URL:https://skihicomplex.com/event/hunter-education-course/
LOCATION:Outcalt Event & Conference at SLV Ski Hi Complex
CATEGORIES:Meeting Room - Yellow
ATTACH;FMTTYPE=application/pdf:https://eadn-wc05-13503014.nxedge.io/wp-content/uploads/2025/03/Ski-Hi-Hunter-education.pdf
END:VEVENT
BEGIN:VEVENT
DTSTART;TZID=America/Denver:20250320T170000
DTEND;TZID=America/Denver:20250320T190000
DTSTAMP:20260420T101218
CREATED:20241010T174434Z
LAST-MODIFIED:20241017T155836Z
UID:10000951-1742490000-1742497200@skihicomplex.com
SUMMARY:Open Walking
DESCRIPTION:
URL:https://skihicomplex.com/event/open-walking/2025-03-20/
LOCATION:Outcalt Event & Conference at SLV Ski Hi Complex
CATEGORIES:Event Center
ATTACH;FMTTYPE=image/png:https://eadn-wc05-13503014.nxedge.io/wp-content/uploads/2024/10/Open-Walking-24-25.png
END:VEVENT
BEGIN:VEVENT
DTSTART;TZID=America/Denver:20250320T110000
DTEND;TZID=America/Denver:20250320T130000
DTSTAMP:20260420T101218
CREATED:20241007T175401Z
LAST-MODIFIED:20241009T175356Z
UID:10000675-1742468400-1742475600@skihicomplex.com
SUMMARY:Commodity Food Distribution
DESCRIPTION:This event is hosted outside on the South side of the Ski Hi Complex on Sherman Ave.
URL:https://skihicomplex.com/event/commodity-supplemental-food-assistance-program/2025-03-20/
LOCATION:Outcalt Event & Conference at SLV Ski Hi Complex
CATEGORIES:Rodeo Arena
ATTACH;FMTTYPE=image/png:https://eadn-wc05-13503014.nxedge.io/wp-content/uploads/2024/10/CareandShare.FinalLogo-2023-2C.png
END:VEVENT
BEGIN:VEVENT
DTSTART;TZID=America/Denver:20250320T070000
DTEND;TZID=America/Denver:20250320T100000
DTSTAMP:20260420T101218
CREATED:20241010T173756Z
LAST-MODIFIED:20241016T224605Z
UID:10000851-1742454000-1742464800@skihicomplex.com
SUMMARY:Opening Walking
DESCRIPTION:
URL:https://skihicomplex.com/event/opening-walking/2025-03-20/
LOCATION:Outcalt Event & Conference at SLV Ski Hi Complex
CATEGORIES:Event Center
ATTACH;FMTTYPE=image/png:https://eadn-wc05-13503014.nxedge.io/wp-content/uploads/2024/10/Open-Walking-24-25.png
END:VEVENT
BEGIN:VEVENT
DTSTART;TZID=America/Denver:20250319T170000
DTEND;TZID=America/Denver:20250319T190000
DTSTAMP:20260420T101218
CREATED:20241010T174434Z
LAST-MODIFIED:20241017T155836Z
UID:10000950-1742403600-1742410800@skihicomplex.com
SUMMARY:Open Walking
DESCRIPTION:
URL:https://skihicomplex.com/event/open-walking/2025-03-19/
LOCATION:Outcalt Event & Conference at SLV Ski Hi Complex
CATEGORIES:Event Center
ATTACH;FMTTYPE=image/png:https://eadn-wc05-13503014.nxedge.io/wp-content/uploads/2024/10/Open-Walking-24-25.png
END:VEVENT
BEGIN:VEVENT
DTSTART;TZID=America/Denver:20250319T093000
DTEND;TZID=America/Denver:20250319T120000
DTSTAMP:20260420T101218
CREATED:20250226T201925Z
LAST-MODIFIED:20250226T201925Z
UID:10001095-1742376600-1742385600@skihicomplex.com
SUMMARY:All Valley Law Enforcement Meeting
DESCRIPTION:
URL:https://skihicomplex.com/event/all-valley-law-enforcement-meeting-2/2025-03-19/
LOCATION:Outcalt Event & Conference at SLV Ski Hi Complex
CATEGORIES:Meeting Room - Orange
END:VEVENT
BEGIN:VEVENT
DTSTART;TZID=America/Denver:20250319T070000
DTEND;TZID=America/Denver:20250319T100000
DTSTAMP:20260420T101218
CREATED:20241010T173756Z
LAST-MODIFIED:20241016T224605Z
UID:10000850-1742367600-1742378400@skihicomplex.com
SUMMARY:Opening Walking
DESCRIPTION:
URL:https://skihicomplex.com/event/opening-walking/2025-03-19/
LOCATION:Outcalt Event & Conference at SLV Ski Hi Complex
CATEGORIES:Event Center
ATTACH;FMTTYPE=image/png:https://eadn-wc05-13503014.nxedge.io/wp-content/uploads/2024/10/Open-Walking-24-25.png
END:VEVENT
BEGIN:VEVENT
DTSTART;TZID=America/Denver:20250318T170000
DTEND;TZID=America/Denver:20250318T190000
DTSTAMP:20260420T101218
CREATED:20241010T174434Z
LAST-MODIFIED:20241017T155836Z
UID:10000949-1742317200-1742324400@skihicomplex.com
SUMMARY:Open Walking
DESCRIPTION:
URL:https://skihicomplex.com/event/open-walking/2025-03-18/
LOCATION:Outcalt Event & Conference at SLV Ski Hi Complex
CATEGORIES:Event Center
ATTACH;FMTTYPE=image/png:https://eadn-wc05-13503014.nxedge.io/wp-content/uploads/2024/10/Open-Walking-24-25.png
END:VEVENT
BEGIN:VEVENT
DTSTART;TZID=America/Denver:20250318T070000
DTEND;TZID=America/Denver:20250318T100000
DTSTAMP:20260420T101218
CREATED:20241010T173756Z
LAST-MODIFIED:20241016T224605Z
UID:10000849-1742281200-1742292000@skihicomplex.com
SUMMARY:Opening Walking
DESCRIPTION:
URL:https://skihicomplex.com/event/opening-walking/2025-03-18/
LOCATION:Outcalt Event & Conference at SLV Ski Hi Complex
CATEGORIES:Event Center
ATTACH;FMTTYPE=image/png:https://eadn-wc05-13503014.nxedge.io/wp-content/uploads/2024/10/Open-Walking-24-25.png
END:VEVENT
BEGIN:VEVENT
DTSTART;VALUE=DATE:20250318
DTEND;VALUE=DATE:20250319
DTSTAMP:20260420T101218
CREATED:20250310T220215Z
LAST-MODIFIED:20250310T220215Z
UID:10001138-1742256000-1742342399@skihicomplex.com
SUMMARY:Pickleball
DESCRIPTION:For More Information: \nDervin Taylor \n719-852-8287 \ndtaylor@ci.monte-vista.co.us
URL:https://skihicomplex.com/event/pickleball/2025-03-18/
LOCATION:Outcalt Event & Conference at SLV Ski Hi Complex
CATEGORIES:Event Center
ATTACH;FMTTYPE=image/png:https://eadn-wc05-13503014.nxedge.io/wp-content/uploads/2024/10/MV-Recreation-Dept.png
END:VEVENT
BEGIN:VEVENT
DTSTART;TZID=America/Denver:20250317T170000
DTEND;TZID=America/Denver:20250317T190000
DTSTAMP:20260420T101218
CREATED:20241010T174434Z
LAST-MODIFIED:20241017T155836Z
UID:10000948-1742230800-1742238000@skihicomplex.com
SUMMARY:Open Walking
DESCRIPTION:
URL:https://skihicomplex.com/event/open-walking/2025-03-17/
LOCATION:Outcalt Event & Conference at SLV Ski Hi Complex
CATEGORIES:Event Center
ATTACH;FMTTYPE=image/png:https://eadn-wc05-13503014.nxedge.io/wp-content/uploads/2024/10/Open-Walking-24-25.png
END:VEVENT
BEGIN:VEVENT
DTSTART;TZID=America/Denver:20250317T070000
DTEND;TZID=America/Denver:20250317T100000
DTSTAMP:20260420T101218
CREATED:20241010T173756Z
LAST-MODIFIED:20241016T224605Z
UID:10000848-1742194800-1742205600@skihicomplex.com
SUMMARY:Opening Walking
DESCRIPTION:
URL:https://skihicomplex.com/event/opening-walking/2025-03-17/
LOCATION:Outcalt Event & Conference at SLV Ski Hi Complex
CATEGORIES:Event Center
ATTACH;FMTTYPE=image/png:https://eadn-wc05-13503014.nxedge.io/wp-content/uploads/2024/10/Open-Walking-24-25.png
END:VEVENT
BEGIN:VEVENT
DTSTART;TZID=America/Denver:20250316T160000
DTEND;TZID=America/Denver:20250316T180000
DTSTAMP:20260420T101218
CREATED:20250217T163151Z
LAST-MODIFIED:20250217T163151Z
UID:10001081-1742140800-1742148000@skihicomplex.com
SUMMARY:Dance Lessons
DESCRIPTION:
URL:https://skihicomplex.com/event/dance-lessons-2/
LOCATION:Outcalt Event & Conference at SLV Ski Hi Complex
CATEGORIES:Banquet Room
ATTACH;FMTTYPE=application/pdf:https://eadn-wc05-13503014.nxedge.io/wp-content/uploads/2025/02/Ski-Hi-Complex-Dance-Lessons-1.pdf
END:VEVENT
BEGIN:VEVENT
DTSTART;TZID=America/Denver:20250316T090000
DTEND;TZID=America/Denver:20250316T120000
DTSTAMP:20260420T101218
CREATED:20250310T215636Z
LAST-MODIFIED:20250310T225905Z
UID:10001128-1742115600-1742126400@skihicomplex.com
SUMMARY:Concealed Carry Class
DESCRIPTION:For Questions Contact: \nDervin Taylor \n719-852-8287 \ndtaylor@ci.monte-vista.co.us
URL:https://skihicomplex.com/event/concealed-carry-class-2/
LOCATION:Outcalt Event & Conference at SLV Ski Hi Complex
CATEGORIES:Meeting Room - Green
ATTACH;FMTTYPE=image/jpeg:https://eadn-wc05-13503014.nxedge.io/wp-content/uploads/2025/03/1.jpg
END:VEVENT
BEGIN:VEVENT
DTSTART;VALUE=DATE:20250316
DTEND;VALUE=DATE:20250317
DTSTAMP:20260420T101218
CREATED:20250217T164941Z
LAST-MODIFIED:20250217T164941Z
UID:10001084-1742083200-1742169599@skihicomplex.com
SUMMARY:Private Event
DESCRIPTION:
URL:https://skihicomplex.com/event/private-event-39/
LOCATION:Outcalt Event & Conference at SLV Ski Hi Complex
CATEGORIES:Event Center
END:VEVENT
BEGIN:VEVENT
DTSTART;VALUE=DATE:20250315
DTEND;VALUE=DATE:20250316
DTSTAMP:20260420T101218
CREATED:20250304T175705Z
LAST-MODIFIED:20250304T175705Z
UID:10001124-1741996800-1742083199@skihicomplex.com
SUMMARY:Women's Self Defense Class
DESCRIPTION:
URL:https://skihicomplex.com/event/womens-self-defense-class/
LOCATION:Outcalt Event & Conference at SLV Ski Hi Complex
CATEGORIES:Meeting Room - Orange
END:VEVENT
BEGIN:VEVENT
DTSTART;TZID=America/Denver:20250313T170000
DTEND;TZID=America/Denver:20250313T190000
DTSTAMP:20260420T101218
CREATED:20241010T174434Z
LAST-MODIFIED:20241017T155836Z
UID:10000947-1741885200-1741892400@skihicomplex.com
SUMMARY:Open Walking
DESCRIPTION:
URL:https://skihicomplex.com/event/open-walking/2025-03-13/
LOCATION:Outcalt Event & Conference at SLV Ski Hi Complex
CATEGORIES:Event Center
ATTACH;FMTTYPE=image/png:https://eadn-wc05-13503014.nxedge.io/wp-content/uploads/2024/10/Open-Walking-24-25.png
END:VEVENT
BEGIN:VEVENT
DTSTART;TZID=America/Denver:20250313T070000
DTEND;TZID=America/Denver:20250313T100000
DTSTAMP:20260420T101218
CREATED:20241010T173756Z
LAST-MODIFIED:20241016T224605Z
UID:10000847-1741849200-1741860000@skihicomplex.com
SUMMARY:Opening Walking
DESCRIPTION:
URL:https://skihicomplex.com/event/opening-walking/2025-03-13/
LOCATION:Outcalt Event & Conference at SLV Ski Hi Complex
CATEGORIES:Event Center
ATTACH;FMTTYPE=image/png:https://eadn-wc05-13503014.nxedge.io/wp-content/uploads/2024/10/Open-Walking-24-25.png
END:VEVENT
BEGIN:VEVENT
DTSTART;VALUE=DATE:20250313
DTEND;VALUE=DATE:20250315
DTSTAMP:20260420T101218
CREATED:20250217T162733Z
LAST-MODIFIED:20250217T162733Z
UID:10001080-1741824000-1741996799@skihicomplex.com
SUMMARY:Redlund Equipment
DESCRIPTION:
URL:https://skihicomplex.com/event/redlund-equipment/
LOCATION:Outcalt Event & Conference at SLV Ski Hi Complex
CATEGORIES:Event Center
END:VEVENT
BEGIN:VEVENT
DTSTART;TZID=America/Denver:20250312T170000
DTEND;TZID=America/Denver:20250312T190000
DTSTAMP:20260420T101218
CREATED:20241010T174434Z
LAST-MODIFIED:20241017T155836Z
UID:10000946-1741798800-1741806000@skihicomplex.com
SUMMARY:Open Walking
DESCRIPTION:
URL:https://skihicomplex.com/event/open-walking/2025-03-12/
LOCATION:Outcalt Event & Conference at SLV Ski Hi Complex
CATEGORIES:Event Center
ATTACH;FMTTYPE=image/png:https://eadn-wc05-13503014.nxedge.io/wp-content/uploads/2024/10/Open-Walking-24-25.png
END:VEVENT
BEGIN:VEVENT
DTSTART;TZID=America/Denver:20250312T090000
DTEND;TZID=America/Denver:20250312T160000
DTSTAMP:20260420T101218
CREATED:20250226T204936Z
LAST-MODIFIED:20250226T204936Z
UID:10001112-1741770000-1741795200@skihicomplex.com
SUMMARY:AgCheck 1st Aid & CPR Class
DESCRIPTION:
URL:https://skihicomplex.com/event/agcheck-1st-aid-cpr-class/
LOCATION:Outcalt Event & Conference at SLV Ski Hi Complex
CATEGORIES:Meeting Room - Orange
END:VEVENT
BEGIN:VEVENT
DTSTART;TZID=America/Denver:20250312T070000
DTEND;TZID=America/Denver:20250312T100000
DTSTAMP:20260420T101218
CREATED:20241010T173756Z
LAST-MODIFIED:20241016T224605Z
UID:10000846-1741762800-1741773600@skihicomplex.com
SUMMARY:Opening Walking
DESCRIPTION:
URL:https://skihicomplex.com/event/opening-walking/2025-03-12/
LOCATION:Outcalt Event & Conference at SLV Ski Hi Complex
CATEGORIES:Event Center
ATTACH;FMTTYPE=image/png:https://eadn-wc05-13503014.nxedge.io/wp-content/uploads/2024/10/Open-Walking-24-25.png
END:VEVENT
BEGIN:VEVENT
DTSTART;TZID=America/Denver:20250311T170000
DTEND;TZID=America/Denver:20250311T190000
DTSTAMP:20260420T101218
CREATED:20241010T174434Z
LAST-MODIFIED:20241017T155836Z
UID:10000945-1741712400-1741719600@skihicomplex.com
SUMMARY:Open Walking
DESCRIPTION:
URL:https://skihicomplex.com/event/open-walking/2025-03-11/
LOCATION:Outcalt Event & Conference at SLV Ski Hi Complex
CATEGORIES:Event Center
ATTACH;FMTTYPE=image/png:https://eadn-wc05-13503014.nxedge.io/wp-content/uploads/2024/10/Open-Walking-24-25.png
END:VEVENT
BEGIN:VEVENT
DTSTART;TZID=America/Denver:20250311T070000
DTEND;TZID=America/Denver:20250311T100000
DTSTAMP:20260420T101218
CREATED:20241010T173756Z
LAST-MODIFIED:20241016T224605Z
UID:10000845-1741676400-1741687200@skihicomplex.com
SUMMARY:Opening Walking
DESCRIPTION:
URL:https://skihicomplex.com/event/opening-walking/2025-03-11/
LOCATION:Outcalt Event & Conference at SLV Ski Hi Complex
CATEGORIES:Event Center
ATTACH;FMTTYPE=image/png:https://eadn-wc05-13503014.nxedge.io/wp-content/uploads/2024/10/Open-Walking-24-25.png
END:VEVENT
BEGIN:VEVENT
DTSTART;VALUE=DATE:20250311
DTEND;VALUE=DATE:20250312
DTSTAMP:20260420T101218
CREATED:20250217T162613Z
LAST-MODIFIED:20250217T164237Z
UID:10001079-1741651200-1741737599@skihicomplex.com
SUMMARY:Monte Vista Band Boosters Banquet
DESCRIPTION:
URL:https://skihicomplex.com/event/monte-vista-band-boosters-banquet/
LOCATION:Outcalt Event & Conference at SLV Ski Hi Complex
CATEGORIES:Banquet Room
END:VEVENT
BEGIN:VEVENT
DTSTART;TZID=America/Denver:20250310T190000
DTEND;TZID=America/Denver:20250310T210000
DTSTAMP:20260420T101218
CREATED:20241007T174237Z
LAST-MODIFIED:20241010T180540Z
UID:10000983-1741633200-1741640400@skihicomplex.com
SUMMARY:San Luis Valley Fair Board Meeting
DESCRIPTION:
URL:https://skihicomplex.com/event/san-luis-valley-fair-board-meeting/2025-03-10/
LOCATION:Outcalt Event & Conference at SLV Ski Hi Complex
CATEGORIES:Meeting Room - Yellow
END:VEVENT
BEGIN:VEVENT
DTSTART;TZID=America/Denver:20250310T170000
DTEND;TZID=America/Denver:20250310T190000
DTSTAMP:20260420T101218
CREATED:20241010T174434Z
LAST-MODIFIED:20241017T155836Z
UID:10000944-1741626000-1741633200@skihicomplex.com
SUMMARY:Open Walking
DESCRIPTION:
URL:https://skihicomplex.com/event/open-walking/2025-03-10/
LOCATION:Outcalt Event & Conference at SLV Ski Hi Complex
CATEGORIES:Event Center
ATTACH;FMTTYPE=image/png:https://eadn-wc05-13503014.nxedge.io/wp-content/uploads/2024/10/Open-Walking-24-25.png
END:VEVENT
BEGIN:VEVENT
DTSTART;TZID=America/Denver:20250310T070000
DTEND;TZID=America/Denver:20250310T100000
DTSTAMP:20260420T101218
CREATED:20241010T173756Z
LAST-MODIFIED:20241016T224605Z
UID:10000844-1741590000-1741600800@skihicomplex.com
SUMMARY:Opening Walking
DESCRIPTION:
URL:https://skihicomplex.com/event/opening-walking/2025-03-10/
LOCATION:Outcalt Event & Conference at SLV Ski Hi Complex
CATEGORIES:Event Center
ATTACH;FMTTYPE=image/png:https://eadn-wc05-13503014.nxedge.io/wp-content/uploads/2024/10/Open-Walking-24-25.png
END:VEVENT
END:VCALENDAR