BEGIN:VCALENDAR
VERSION:2.0
PRODID:-//Outcalt Event Center Ski Hi Event Complex - ECPv6.15.17.1//NONSGML v1.0//EN
CALSCALE:GREGORIAN
METHOD:PUBLISH
X-WR-CALNAME:Outcalt Event Center Ski Hi Event Complex
X-ORIGINAL-URL:https://skihicomplex.com
X-WR-CALDESC:Events for Outcalt Event Center Ski Hi Event Complex
REFRESH-INTERVAL;VALUE=DURATION:PT1H
X-Robots-Tag:noindex
X-PUBLISHED-TTL:PT1H
BEGIN:VTIMEZONE
TZID:America/Denver
BEGIN:DAYLIGHT
TZOFFSETFROM:-0700
TZOFFSETTO:-0600
TZNAME:MDT
DTSTART:20230312T090000
END:DAYLIGHT
BEGIN:STANDARD
TZOFFSETFROM:-0600
TZOFFSETTO:-0700
TZNAME:MST
DTSTART:20231105T080000
END:STANDARD
BEGIN:DAYLIGHT
TZOFFSETFROM:-0700
TZOFFSETTO:-0600
TZNAME:MDT
DTSTART:20240310T090000
END:DAYLIGHT
BEGIN:STANDARD
TZOFFSETFROM:-0600
TZOFFSETTO:-0700
TZNAME:MST
DTSTART:20241103T080000
END:STANDARD
BEGIN:DAYLIGHT
TZOFFSETFROM:-0700
TZOFFSETTO:-0600
TZNAME:MDT
DTSTART:20250309T090000
END:DAYLIGHT
BEGIN:STANDARD
TZOFFSETFROM:-0600
TZOFFSETTO:-0700
TZNAME:MST
DTSTART:20251102T080000
END:STANDARD
END:VTIMEZONE
BEGIN:VEVENT
DTSTART;TZID=America/Denver:20241023T173000
DTEND;TZID=America/Denver:20241023T183000
DTSTAMP:20260420T190929
CREATED:20240924T195236Z
LAST-MODIFIED:20241106T192719Z
UID:10000547-1729704600-1729708200@skihicomplex.com
SUMMARY:Mini Cheerleaders Practice
DESCRIPTION:Event Center – Mini Cheerleaders Practice – 5:30 pm – 6:30 pm
URL:https://skihicomplex.com/event/mini-cheerleaders-practice/2024-10-23/
LOCATION:Outcalt Event & Conference at SLV Ski Hi Complex
CATEGORIES:Event Center
END:VEVENT
BEGIN:VEVENT
DTSTART;VALUE=DATE:20241022
DTEND;VALUE=DATE:20241023
DTSTAMP:20260420T190929
CREATED:20241009T205525Z
LAST-MODIFIED:20241009T205525Z
UID:10000771-1729555200-1729641599@skihicomplex.com
SUMMARY:Private Event
DESCRIPTION:
URL:https://skihicomplex.com/event/private-event-8/
LOCATION:Outcalt Event & Conference at SLV Ski Hi Complex
CATEGORIES:Rodeo Arena
END:VEVENT
BEGIN:VEVENT
DTSTART;TZID=America/Denver:20241021T170000
DTEND;TZID=America/Denver:20241021T200000
DTSTAMP:20260420T190929
CREATED:20241008T203453Z
LAST-MODIFIED:20241008T203453Z
UID:10000733-1729530000-1729540800@skihicomplex.com
SUMMARY:Farm Bureau Annual Meeting
DESCRIPTION:
URL:https://skihicomplex.com/event/farm-bureau-annual-meeting-2/
LOCATION:Outcalt Event & Conference at SLV Ski Hi Complex
CATEGORIES:Meeting Room - Orange
END:VEVENT
BEGIN:VEVENT
DTSTART;TZID=America/Denver:20241021T170000
DTEND;TZID=America/Denver:20241021T200000
DTSTAMP:20260420T190929
CREATED:20241008T203301Z
LAST-MODIFIED:20241008T203301Z
UID:10000732-1729530000-1729540800@skihicomplex.com
SUMMARY:Farm Bureau Annual Meeting
DESCRIPTION:
URL:https://skihicomplex.com/event/farm-bureau-annual-meeting/
LOCATION:Outcalt Event & Conference at SLV Ski Hi Complex
CATEGORIES:Meeting Room - Orange,Meeting Room - Yellow
END:VEVENT
BEGIN:VEVENT
DTSTART;TZID=America/Denver:20241019T173000
DTEND;TZID=America/Denver:20241019T213000
DTSTAMP:20260420T190929
CREATED:20241008T202759Z
LAST-MODIFIED:20241008T202759Z
UID:10000731-1729359000-1729373400@skihicomplex.com
SUMMARY:Boys & Girls Club - Be Great Gala
DESCRIPTION:
URL:https://skihicomplex.com/event/boys-girls-club-be-great-gala/
LOCATION:Outcalt Event & Conference at SLV Ski Hi Complex
CATEGORIES:Banquet Room
END:VEVENT
BEGIN:VEVENT
DTSTART;VALUE=DATE:20241018
DTEND;VALUE=DATE:20241020
DTSTAMP:20260420T190929
CREATED:20241008T202357Z
LAST-MODIFIED:20241008T202357Z
UID:10000730-1729209600-1729382399@skihicomplex.com
SUMMARY:Private Event
DESCRIPTION:
URL:https://skihicomplex.com/event/private-event-5/
LOCATION:Outcalt Event & Conference at SLV Ski Hi Complex
CATEGORIES:Event Center
END:VEVENT
BEGIN:VEVENT
DTSTART;TZID=America/Denver:20241017T110000
DTEND;TZID=America/Denver:20241017T130000
DTSTAMP:20260420T190929
CREATED:20241007T175401Z
LAST-MODIFIED:20241009T175356Z
UID:10000670-1729162800-1729170000@skihicomplex.com
SUMMARY:Commodity Food Distribution
DESCRIPTION:This event is hosted outside on the South side of the Ski Hi Complex on Sherman Ave.
URL:https://skihicomplex.com/event/commodity-supplemental-food-assistance-program/2024-10-17/
LOCATION:Outcalt Event & Conference at SLV Ski Hi Complex
CATEGORIES:Rodeo Arena
ATTACH;FMTTYPE=image/png:https://eadn-wc05-13503014.nxedge.io/wp-content/uploads/2024/10/CareandShare.FinalLogo-2023-2C.png
END:VEVENT
BEGIN:VEVENT
DTSTART;VALUE=DATE:20241017
DTEND;VALUE=DATE:20241018
DTSTAMP:20260420T190929
CREATED:20241007T172901Z
LAST-MODIFIED:20241007T172901Z
UID:10000667-1729123200-1729209599@skihicomplex.com
SUMMARY:Private Event
DESCRIPTION:
URL:https://skihicomplex.com/event/private-event-4/
LOCATION:Outcalt Event & Conference at SLV Ski Hi Complex
CATEGORIES:Entire Facility
END:VEVENT
BEGIN:VEVENT
DTSTART;TZID=America/Denver:20241016T173000
DTEND;TZID=America/Denver:20241016T183000
DTSTAMP:20260420T190929
CREATED:20240924T195236Z
LAST-MODIFIED:20241106T192719Z
UID:10000546-1729099800-1729103400@skihicomplex.com
SUMMARY:Mini Cheerleaders Practice
DESCRIPTION:Event Center – Mini Cheerleaders Practice – 5:30 pm – 6:30 pm
URL:https://skihicomplex.com/event/mini-cheerleaders-practice/2024-10-16/
LOCATION:Outcalt Event & Conference at SLV Ski Hi Complex
CATEGORIES:Event Center
END:VEVENT
BEGIN:VEVENT
DTSTART;TZID=America/Denver:20241015T100000
DTEND;TZID=America/Denver:20241015T120000
DTSTAMP:20260420T190929
CREATED:20241007T174350Z
LAST-MODIFIED:20250217T160945Z
UID:10000669-1728986400-1728993600@skihicomplex.com
SUMMARY:All Valley Law Enforcement Meeting
DESCRIPTION:
URL:https://skihicomplex.com/event/all-valley-law-enforcement-meeting/2024-10-15/
LOCATION:Outcalt Event & Conference at SLV Ski Hi Complex
CATEGORIES:Meeting Room - Orange
END:VEVENT
BEGIN:VEVENT
DTSTART;TZID=America/Denver:20241014T190000
DTEND;TZID=America/Denver:20241014T210000
DTSTAMP:20260420T190929
CREATED:20241007T174237Z
LAST-MODIFIED:20241010T180540Z
UID:10000668-1728932400-1728939600@skihicomplex.com
SUMMARY:San Luis Valley Fair Board Meeting
DESCRIPTION:
URL:https://skihicomplex.com/event/san-luis-valley-fair-board-meeting/2024-10-14/
LOCATION:Outcalt Event & Conference at SLV Ski Hi Complex
CATEGORIES:Meeting Room - Yellow
END:VEVENT
BEGIN:VEVENT
DTSTART;VALUE=DATE:20241012
DTEND;VALUE=DATE:20241013
DTSTAMP:20260420T190929
CREATED:20240924T195611Z
LAST-MODIFIED:20240924T195611Z
UID:10000609-1728691200-1728777599@skihicomplex.com
SUMMARY:Our American Lands Discussion
DESCRIPTION:
URL:https://skihicomplex.com/event/our-american-lands-discussion/
LOCATION:Outcalt Event & Conference at SLV Ski Hi Complex
CATEGORIES:Banquet Room
END:VEVENT
BEGIN:VEVENT
DTSTART;VALUE=DATE:20241012
DTEND;VALUE=DATE:20241013
DTSTAMP:20260420T190929
CREATED:20240924T195542Z
LAST-MODIFIED:20241009T141306Z
UID:10000608-1728691200-1728777599@skihicomplex.com
SUMMARY:Concealed Carry Class
DESCRIPTION:
URL:https://skihicomplex.com/event/concealed-carry-class/
LOCATION:Outcalt Event & Conference at SLV Ski Hi Complex
CATEGORIES:Meeting Room - Green
ATTACH;FMTTYPE=application/pdf:https://eadn-wc05-13503014.nxedge.io/wp-content/uploads/2024/09/Tree-2.pdf
END:VEVENT
BEGIN:VEVENT
DTSTART;TZID=America/Denver:20241009T173000
DTEND;TZID=America/Denver:20241009T183000
DTSTAMP:20260420T190929
CREATED:20240924T195236Z
LAST-MODIFIED:20241106T192719Z
UID:10000545-1728495000-1728498600@skihicomplex.com
SUMMARY:Mini Cheerleaders Practice
DESCRIPTION:Event Center – Mini Cheerleaders Practice – 5:30 pm – 6:30 pm
URL:https://skihicomplex.com/event/mini-cheerleaders-practice/2024-10-09/
LOCATION:Outcalt Event & Conference at SLV Ski Hi Complex
CATEGORIES:Event Center
END:VEVENT
BEGIN:VEVENT
DTSTART;TZID=America/Denver:20241008T070000
DTEND;TZID=America/Denver:20241008T083000
DTSTAMP:20260420T190929
CREATED:20240924T195419Z
LAST-MODIFIED:20240924T195419Z
UID:10000544-1728370800-1728376200@skihicomplex.com
SUMMARY:Upper Rio Grande Economic Development Meeting
DESCRIPTION:Orange Room – Upper Rio Grande Economic Development Meeting – 7 am – 8:30 am
URL:https://skihicomplex.com/event/upper-rio-grande-economic-development-meeting/
LOCATION:Outcalt Event & Conference at SLV Ski Hi Complex
CATEGORIES:Meeting Room - Orange
END:VEVENT
BEGIN:VEVENT
DTSTART;TZID=America/Denver:20241004T183000
DTEND;TZID=America/Denver:20241004T220000
DTSTAMP:20260420T190929
CREATED:20240924T195321Z
LAST-MODIFIED:20240924T195321Z
UID:10000543-1728066600-1728079200@skihicomplex.com
SUMMARY:Shriners Circus
DESCRIPTION:Rodeo Arena – Shriners Circus – 6:30 pm – 10 pm
URL:https://skihicomplex.com/event/shriners-circus/
LOCATION:Outcalt Event & Conference at SLV Ski Hi Complex
CATEGORIES:Rodeo Arena
END:VEVENT
BEGIN:VEVENT
DTSTART;VALUE=DATE:20241003
DTEND;VALUE=DATE:20241004
DTSTAMP:20260420T190929
CREATED:20240924T195051Z
LAST-MODIFIED:20241007T173112Z
UID:10000540-1727913600-1727999999@skihicomplex.com
SUMMARY:Private Event
DESCRIPTION:
URL:https://skihicomplex.com/event/private-event-3/
LOCATION:Outcalt Event & Conference at SLV Ski Hi Complex
CATEGORIES:Meeting Room - Orange
END:VEVENT
BEGIN:VEVENT
DTSTART;TZID=America/Denver:20241002T173000
DTEND;TZID=America/Denver:20241002T183000
DTSTAMP:20260420T190929
CREATED:20240924T195236Z
LAST-MODIFIED:20241106T192719Z
UID:10000542-1727890200-1727893800@skihicomplex.com
SUMMARY:Mini Cheerleaders Practice
DESCRIPTION:Event Center – Mini Cheerleaders Practice – 5:30 pm – 6:30 pm
URL:https://skihicomplex.com/event/mini-cheerleaders-practice/2024-10-02/
LOCATION:Outcalt Event & Conference at SLV Ski Hi Complex
CATEGORIES:Event Center
END:VEVENT
BEGIN:VEVENT
DTSTART;VALUE=DATE:20241002
DTEND;VALUE=DATE:20241003
DTSTAMP:20260420T190929
CREATED:20240924T195138Z
LAST-MODIFIED:20240924T195138Z
UID:10000541-1727827200-1727913599@skihicomplex.com
SUMMARY:Homecoming Bonfire
DESCRIPTION:
URL:https://skihicomplex.com/event/homecoming-bonfire/
LOCATION:Outcalt Event & Conference at SLV Ski Hi Complex
CATEGORIES:Rodeo Arena
END:VEVENT
BEGIN:VEVENT
DTSTART;VALUE=DATE:20241001
DTEND;VALUE=DATE:20241002
DTSTAMP:20260420T190929
CREATED:20240924T194919Z
LAST-MODIFIED:20241007T172538Z
UID:10000538-1727740800-1727827199@skihicomplex.com
SUMMARY:Private Event
DESCRIPTION:
URL:https://skihicomplex.com/event/private-event-2/
CATEGORIES:Meeting Room - Orange
END:VEVENT
BEGIN:VEVENT
DTSTART;TZID=America/Denver:20240928T100000
DTEND;TZID=America/Denver:20240928T150000
DTSTAMP:20260420T190929
CREATED:20240924T195019Z
LAST-MODIFIED:20240924T195019Z
UID:10000539-1727517600-1727535600@skihicomplex.com
SUMMARY:City Sale
DESCRIPTION:City Sale\n10am – 3pm\nEvent Center
URL:https://skihicomplex.com/event/city-sale/
LOCATION:Outcalt Event & Conference at SLV Ski Hi Complex
CATEGORIES:Event Center
END:VEVENT
BEGIN:VEVENT
DTSTART;TZID=America/Denver:20240224T080000
DTEND;TZID=America/Denver:20240224T220000
DTSTAMP:20260420T190929
CREATED:20240319T210316Z
LAST-MODIFIED:20240319T210401Z
UID:10000537-1708761600-1708812000@skihicomplex.com
SUMMARY:Private Event
DESCRIPTION:
URL:https://skihicomplex.com/event/private-event/
CATEGORIES:Meeting Room - Orange
END:VEVENT
BEGIN:VEVENT
DTSTART;VALUE=DATE:20240223
DTEND;VALUE=DATE:20240224
DTSTAMP:20260420T190929
CREATED:20240319T210159Z
LAST-MODIFIED:20240319T210159Z
UID:10000536-1708646400-1708732799@skihicomplex.com
SUMMARY:Volleyball Clinic
DESCRIPTION:
URL:https://skihicomplex.com/event/volleyball-clinic/
CATEGORIES:Event Center
ATTACH;FMTTYPE=image/jpeg:https://eadn-wc05-13503014.nxedge.io/wp-content/uploads/2024/03/Volleyball.jpg
END:VEVENT
BEGIN:VEVENT
DTSTART;VALUE=DATE:20240213
DTEND;VALUE=DATE:20240216
DTSTAMP:20260420T190929
CREATED:20240319T205846Z
LAST-MODIFIED:20240319T205846Z
UID:10000269-1707782400-1708041599@skihicomplex.com
SUMMARY:Elementary Ag Festival
DESCRIPTION:Description Here
URL:https://skihicomplex.com/event/elementary-ag-festival/
CATEGORIES:Event Center
ATTACH;FMTTYPE=image/jpeg:https://eadn-wc05-13503014.nxedge.io/wp-content/uploads/2024/03/ElementaryAg.jpg
END:VEVENT
BEGIN:VEVENT
DTSTART;VALUE=DATE:20240206
DTEND;VALUE=DATE:20240209
DTSTAMP:20260420T190929
CREATED:20240319T202713Z
LAST-MODIFIED:20240319T202714Z
UID:10000001-1707177600-1707436799@skihicomplex.com
SUMMARY:Southern Rocky Mountain Agricultural Conference
DESCRIPTION:Southern Rocky Mountain Ag Conference will take place at the Ski Hi Outcault Event Center February 6-8th.  For more information\, visit: https://agconferencesrm.com/
URL:https://skihicomplex.com/event/southern-rocky-mountain-agricultural-conference/
LOCATION:Outcalt Event & Conference at SLV Ski Hi Complex
CATEGORIES:Event Center
ATTACH;FMTTYPE=image/jpeg:https://eadn-wc05-13503014.nxedge.io/wp-content/uploads/2024/03/SunsetSlide2024-2.jpg
END:VEVENT
BEGIN:VEVENT
DTSTART;VALUE=DATE:20240203
DTEND;VALUE=DATE:20240206
DTSTAMP:20260420T190929
CREATED:20240319T202835Z
LAST-MODIFIED:20240415T185500Z
UID:10000002-1706918400-1707177599@skihicomplex.com
SUMMARY:Entire Facility Booked
DESCRIPTION:
URL:https://skihicomplex.com/event/entire-facility-booked/
CATEGORIES:Entire Facility
END:VEVENT
END:VCALENDAR