BEGIN:VCALENDAR
VERSION:2.0
PRODID:-//Outcalt Event Center Ski Hi Event Complex - ECPv6.15.17.1//NONSGML v1.0//EN
CALSCALE:GREGORIAN
METHOD:PUBLISH
X-WR-CALNAME:Outcalt Event Center Ski Hi Event Complex
X-ORIGINAL-URL:https://skihicomplex.com
X-WR-CALDESC:Events for Outcalt Event Center Ski Hi Event Complex
REFRESH-INTERVAL;VALUE=DURATION:PT1H
X-Robots-Tag:noindex
X-PUBLISHED-TTL:PT1H
BEGIN:VTIMEZONE
TZID:America/Denver
BEGIN:DAYLIGHT
TZOFFSETFROM:-0700
TZOFFSETTO:-0600
TZNAME:MDT
DTSTART:20240310T090000
END:DAYLIGHT
BEGIN:STANDARD
TZOFFSETFROM:-0600
TZOFFSETTO:-0700
TZNAME:MST
DTSTART:20241103T080000
END:STANDARD
BEGIN:DAYLIGHT
TZOFFSETFROM:-0700
TZOFFSETTO:-0600
TZNAME:MDT
DTSTART:20250309T090000
END:DAYLIGHT
BEGIN:STANDARD
TZOFFSETFROM:-0600
TZOFFSETTO:-0700
TZNAME:MST
DTSTART:20251102T080000
END:STANDARD
BEGIN:DAYLIGHT
TZOFFSETFROM:-0700
TZOFFSETTO:-0600
TZNAME:MDT
DTSTART:20260308T090000
END:DAYLIGHT
BEGIN:STANDARD
TZOFFSETFROM:-0600
TZOFFSETTO:-0700
TZNAME:MST
DTSTART:20261101T080000
END:STANDARD
END:VTIMEZONE
BEGIN:VEVENT
DTSTART;VALUE=DATE:20250414
DTEND;VALUE=DATE:20250415
DTSTAMP:20260420T162516
CREATED:20250413T051509Z
LAST-MODIFIED:20250413T051509Z
UID:10001162-1744588800-1744675199@skihicomplex.com
SUMMARY:ServSafe Class
DESCRIPTION:
URL:https://skihicomplex.com/event/servsafe-class-2/
LOCATION:Outcalt Event & Conference at SLV Ski Hi Complex
CATEGORIES:Meeting Room - Yellow
END:VEVENT
BEGIN:VEVENT
DTSTART;VALUE=DATE:20250414
DTEND;VALUE=DATE:20250415
DTSTAMP:20260420T162516
CREATED:20250413T051449Z
LAST-MODIFIED:20250413T051449Z
UID:10001161-1744588800-1744675199@skihicomplex.com
SUMMARY:Private Event
DESCRIPTION:
URL:https://skihicomplex.com/event/private-event-50/
LOCATION:Outcalt Event & Conference at SLV Ski Hi Complex
CATEGORIES:Meeting Room - Green
END:VEVENT
BEGIN:VEVENT
DTSTART;VALUE=DATE:20250412
DTEND;VALUE=DATE:20250414
DTSTAMP:20260420T162516
CREATED:20241015T010818Z
LAST-MODIFIED:20241015T010818Z
UID:10001041-1744416000-1744588799@skihicomplex.com
SUMMARY:Monte Vista High School After Prom
DESCRIPTION:
URL:https://skihicomplex.com/event/monte-vista-high-school-after-prom-2/
LOCATION:Outcalt Event & Conference at SLV Ski Hi Complex
CATEGORIES:Meeting Room - Orange
END:VEVENT
BEGIN:VEVENT
DTSTART;VALUE=DATE:20250412
DTEND;VALUE=DATE:20250414
DTSTAMP:20260420T162516
CREATED:20241015T010746Z
LAST-MODIFIED:20241015T010746Z
UID:10001040-1744416000-1744588799@skihicomplex.com
SUMMARY:Monte Vista High School After Prom
DESCRIPTION:
URL:https://skihicomplex.com/event/monte-vista-high-school-after-prom/
LOCATION:Outcalt Event & Conference at SLV Ski Hi Complex
CATEGORIES:Banquet Room
END:VEVENT
BEGIN:VEVENT
DTSTART;VALUE=DATE:20250411
DTEND;VALUE=DATE:20250413
DTSTAMP:20260420T162516
CREATED:20250310T220447Z
LAST-MODIFIED:20250310T220447Z
UID:10001145-1744329600-1744502399@skihicomplex.com
SUMMARY:Volleyball Camp
DESCRIPTION:For More Information: \nDervin Taylor \n719-852-8287 \ndtaylor@ci.monte-vista.co.us
URL:https://skihicomplex.com/event/volleyball-camp-3/
LOCATION:Outcalt Event & Conference at SLV Ski Hi Complex
CATEGORIES:Event Center
ATTACH;FMTTYPE=image/png:https://eadn-wc05-13503014.nxedge.io/wp-content/uploads/2024/10/MV-Recreation-Dept.png
END:VEVENT
BEGIN:VEVENT
DTSTART;VALUE=DATE:20250411
DTEND;VALUE=DATE:20250412
DTSTAMP:20260420T162516
CREATED:20250413T051424Z
LAST-MODIFIED:20250413T051424Z
UID:10001160-1744329600-1744415999@skihicomplex.com
SUMMARY:Nightingale Nursing Awards
DESCRIPTION:
URL:https://skihicomplex.com/event/nightingale-nursing-awards/
LOCATION:Outcalt Event & Conference at SLV Ski Hi Complex
CATEGORIES:Banquet Room
END:VEVENT
BEGIN:VEVENT
DTSTART;TZID=America/Denver:20250410T170000
DTEND;TZID=America/Denver:20250410T190000
DTSTAMP:20260420T162516
CREATED:20241010T174434Z
LAST-MODIFIED:20241017T155836Z
UID:10000963-1744304400-1744311600@skihicomplex.com
SUMMARY:Open Walking
DESCRIPTION:
URL:https://skihicomplex.com/event/open-walking/2025-04-10/
LOCATION:Outcalt Event & Conference at SLV Ski Hi Complex
CATEGORIES:Event Center
ATTACH;FMTTYPE=image/png:https://eadn-wc05-13503014.nxedge.io/wp-content/uploads/2024/10/Open-Walking-24-25.png
END:VEVENT
BEGIN:VEVENT
DTSTART;VALUE=DATE:20250410
DTEND;VALUE=DATE:20250411
DTSTAMP:20260420T162516
CREATED:20250310T215956Z
LAST-MODIFIED:20250310T215956Z
UID:10001134-1744272000-1744304400@skihicomplex.com
SUMMARY:Adult Basketball League
DESCRIPTION:For More Information: \nDervin Taylor \n719-852-8287 \ndtaylor@ci.monte-vista.co.us
URL:https://skihicomplex.com/event/adult-basketball-league/2025-04-10/
LOCATION:Outcalt Event & Conference at SLV Ski Hi Complex
CATEGORIES:Event Center
ATTACH;FMTTYPE=image/png:https://eadn-wc05-13503014.nxedge.io/wp-content/uploads/2024/10/MV-Recreation-Dept.png
END:VEVENT
BEGIN:VEVENT
DTSTART;TZID=America/Denver:20250410T070000
DTEND;TZID=America/Denver:20250410T100000
DTSTAMP:20260420T162516
CREATED:20241010T173756Z
LAST-MODIFIED:20241016T224605Z
UID:10000863-1744268400-1744279200@skihicomplex.com
SUMMARY:Opening Walking
DESCRIPTION:
URL:https://skihicomplex.com/event/opening-walking/2025-04-10/
LOCATION:Outcalt Event & Conference at SLV Ski Hi Complex
CATEGORIES:Event Center
ATTACH;FMTTYPE=image/png:https://eadn-wc05-13503014.nxedge.io/wp-content/uploads/2024/10/Open-Walking-24-25.png
END:VEVENT
BEGIN:VEVENT
DTSTART;VALUE=DATE:20250410
DTEND;VALUE=DATE:20250411
DTSTAMP:20260420T162516
CREATED:20250413T051334Z
LAST-MODIFIED:20250413T051334Z
UID:10001159-1744243200-1744329599@skihicomplex.com
SUMMARY:Recreation Soccer Pictures
DESCRIPTION:
URL:https://skihicomplex.com/event/recreation-soccer-pictures-3/
LOCATION:Outcalt Event & Conference at SLV Ski Hi Complex
CATEGORIES:Meeting Room - Green
END:VEVENT
BEGIN:VEVENT
DTSTART;VALUE=DATE:20250410
DTEND;VALUE=DATE:20250411
DTSTAMP:20260420T162516
CREATED:20250413T051310Z
LAST-MODIFIED:20250413T051310Z
UID:10001158-1744243200-1744329599@skihicomplex.com
SUMMARY:Private Event
DESCRIPTION:
URL:https://skihicomplex.com/event/private-event-49/
LOCATION:Outcalt Event & Conference at SLV Ski Hi Complex
CATEGORIES:Meeting Room - Yellow
END:VEVENT
BEGIN:VEVENT
DTSTART;TZID=America/Denver:20250409T180000
DTEND;TZID=America/Denver:20250409T190000
DTSTAMP:20260420T162516
CREATED:20250413T051225Z
LAST-MODIFIED:20250413T051225Z
UID:10001156-1744221600-1744225200@skihicomplex.com
SUMMARY:URGED Marketing Public Meeting
DESCRIPTION:
URL:https://skihicomplex.com/event/urged-marketing-public-meeting/
LOCATION:Outcalt Event & Conference at SLV Ski Hi Complex
CATEGORIES:Meeting Room - Orange
END:VEVENT
BEGIN:VEVENT
DTSTART;TZID=America/Denver:20250409T170000
DTEND;TZID=America/Denver:20250409T190000
DTSTAMP:20260420T162516
CREATED:20241010T174434Z
LAST-MODIFIED:20241017T155836Z
UID:10000962-1744218000-1744225200@skihicomplex.com
SUMMARY:Open Walking
DESCRIPTION:
URL:https://skihicomplex.com/event/open-walking/2025-04-09/
LOCATION:Outcalt Event & Conference at SLV Ski Hi Complex
CATEGORIES:Event Center
ATTACH;FMTTYPE=image/png:https://eadn-wc05-13503014.nxedge.io/wp-content/uploads/2024/10/Open-Walking-24-25.png
END:VEVENT
BEGIN:VEVENT
DTSTART;VALUE=DATE:20250409
DTEND;VALUE=DATE:20250410
DTSTAMP:20260420T162516
CREATED:20250310T215956Z
LAST-MODIFIED:20250310T215956Z
UID:10001133-1744185600-1744218000@skihicomplex.com
SUMMARY:Adult Basketball League
DESCRIPTION:For More Information: \nDervin Taylor \n719-852-8287 \ndtaylor@ci.monte-vista.co.us
URL:https://skihicomplex.com/event/adult-basketball-league/2025-04-09/
LOCATION:Outcalt Event & Conference at SLV Ski Hi Complex
CATEGORIES:Event Center
ATTACH;FMTTYPE=image/png:https://eadn-wc05-13503014.nxedge.io/wp-content/uploads/2024/10/MV-Recreation-Dept.png
END:VEVENT
BEGIN:VEVENT
DTSTART;TZID=America/Denver:20250409T070000
DTEND;TZID=America/Denver:20250409T100000
DTSTAMP:20260420T162516
CREATED:20241010T173756Z
LAST-MODIFIED:20241016T224605Z
UID:10000862-1744182000-1744192800@skihicomplex.com
SUMMARY:Opening Walking
DESCRIPTION:
URL:https://skihicomplex.com/event/opening-walking/2025-04-09/
LOCATION:Outcalt Event & Conference at SLV Ski Hi Complex
CATEGORIES:Event Center
ATTACH;FMTTYPE=image/png:https://eadn-wc05-13503014.nxedge.io/wp-content/uploads/2024/10/Open-Walking-24-25.png
END:VEVENT
BEGIN:VEVENT
DTSTART;VALUE=DATE:20250409
DTEND;VALUE=DATE:20250410
DTSTAMP:20260420T162516
CREATED:20250413T051249Z
LAST-MODIFIED:20250413T051249Z
UID:10001157-1744156800-1744243199@skihicomplex.com
SUMMARY:Recreation Soccer Pictures
DESCRIPTION:
URL:https://skihicomplex.com/event/recreation-soccer-pictures-2/
LOCATION:Outcalt Event & Conference at SLV Ski Hi Complex
CATEGORIES:Event Center
END:VEVENT
BEGIN:VEVENT
DTSTART;VALUE=DATE:20250409
DTEND;VALUE=DATE:20250410
DTSTAMP:20260420T162516
CREATED:20250413T051148Z
LAST-MODIFIED:20250413T051148Z
UID:10001155-1744156800-1744243199@skihicomplex.com
SUMMARY:Private Event
DESCRIPTION:
URL:https://skihicomplex.com/event/private-event-48/
LOCATION:Outcalt Event & Conference at SLV Ski Hi Complex
CATEGORIES:Meeting Room - Yellow
END:VEVENT
BEGIN:VEVENT
DTSTART;TZID=America/Denver:20250408T170000
DTEND;TZID=America/Denver:20250408T190000
DTSTAMP:20260420T162516
CREATED:20241010T174434Z
LAST-MODIFIED:20241017T155836Z
UID:10000961-1744131600-1744138800@skihicomplex.com
SUMMARY:Open Walking
DESCRIPTION:
URL:https://skihicomplex.com/event/open-walking/2025-04-08/
LOCATION:Outcalt Event & Conference at SLV Ski Hi Complex
CATEGORIES:Event Center
ATTACH;FMTTYPE=image/png:https://eadn-wc05-13503014.nxedge.io/wp-content/uploads/2024/10/Open-Walking-24-25.png
END:VEVENT
BEGIN:VEVENT
DTSTART;VALUE=DATE:20250408
DTEND;VALUE=DATE:20250409
DTSTAMP:20260420T162516
CREATED:20250310T220215Z
LAST-MODIFIED:20250310T220215Z
UID:10001141-1744099200-1744131600@skihicomplex.com
SUMMARY:Pickleball
DESCRIPTION:For More Information: \nDervin Taylor \n719-852-8287 \ndtaylor@ci.monte-vista.co.us
URL:https://skihicomplex.com/event/pickleball/2025-04-08/
LOCATION:Outcalt Event & Conference at SLV Ski Hi Complex
CATEGORIES:Event Center
ATTACH;FMTTYPE=image/png:https://eadn-wc05-13503014.nxedge.io/wp-content/uploads/2024/10/MV-Recreation-Dept.png
END:VEVENT
BEGIN:VEVENT
DTSTART;TZID=America/Denver:20250408T070000
DTEND;TZID=America/Denver:20250408T100000
DTSTAMP:20260420T162516
CREATED:20241010T173756Z
LAST-MODIFIED:20241016T224605Z
UID:10000861-1744095600-1744106400@skihicomplex.com
SUMMARY:Opening Walking
DESCRIPTION:
URL:https://skihicomplex.com/event/opening-walking/2025-04-08/
LOCATION:Outcalt Event & Conference at SLV Ski Hi Complex
CATEGORIES:Event Center
ATTACH;FMTTYPE=image/png:https://eadn-wc05-13503014.nxedge.io/wp-content/uploads/2024/10/Open-Walking-24-25.png
END:VEVENT
BEGIN:VEVENT
DTSTART;VALUE=DATE:20250408
DTEND;VALUE=DATE:20250409
DTSTAMP:20260420T162516
CREATED:20250413T051127Z
LAST-MODIFIED:20250413T051127Z
UID:10001154-1744070400-1744156799@skihicomplex.com
SUMMARY:Private Event
DESCRIPTION:
URL:https://skihicomplex.com/event/private-event-47/
LOCATION:Outcalt Event & Conference at SLV Ski Hi Complex
CATEGORIES:Meeting Room - Yellow
END:VEVENT
BEGIN:VEVENT
DTSTART;VALUE=DATE:20250408
DTEND;VALUE=DATE:20250409
DTSTAMP:20260420T162516
CREATED:20250413T051105Z
LAST-MODIFIED:20250413T051105Z
UID:10001153-1744070400-1744156799@skihicomplex.com
SUMMARY:Recreation Soccer Pictures
DESCRIPTION:
URL:https://skihicomplex.com/event/recreation-soccer-pictures/
LOCATION:Outcalt Event & Conference at SLV Ski Hi Complex
CATEGORIES:Meeting Room - Green
END:VEVENT
BEGIN:VEVENT
DTSTART;TZID=America/Denver:20250407T170000
DTEND;TZID=America/Denver:20250407T190000
DTSTAMP:20260420T162516
CREATED:20241010T174434Z
LAST-MODIFIED:20241017T155836Z
UID:10000960-1744045200-1744052400@skihicomplex.com
SUMMARY:Open Walking
DESCRIPTION:
URL:https://skihicomplex.com/event/open-walking/2025-04-07/
LOCATION:Outcalt Event & Conference at SLV Ski Hi Complex
CATEGORIES:Event Center
ATTACH;FMTTYPE=image/png:https://eadn-wc05-13503014.nxedge.io/wp-content/uploads/2024/10/Open-Walking-24-25.png
END:VEVENT
BEGIN:VEVENT
DTSTART;VALUE=DATE:20250407
DTEND;VALUE=DATE:20250408
DTSTAMP:20260420T162516
CREATED:20250310T215956Z
LAST-MODIFIED:20250310T215956Z
UID:10001132-1744012800-1744045200@skihicomplex.com
SUMMARY:Adult Basketball League
DESCRIPTION:For More Information: \nDervin Taylor \n719-852-8287 \ndtaylor@ci.monte-vista.co.us
URL:https://skihicomplex.com/event/adult-basketball-league/2025-04-07/
LOCATION:Outcalt Event & Conference at SLV Ski Hi Complex
CATEGORIES:Event Center
ATTACH;FMTTYPE=image/png:https://eadn-wc05-13503014.nxedge.io/wp-content/uploads/2024/10/MV-Recreation-Dept.png
END:VEVENT
BEGIN:VEVENT
DTSTART;TZID=America/Denver:20250407T070000
DTEND;TZID=America/Denver:20250407T100000
DTSTAMP:20260420T162516
CREATED:20241010T173756Z
LAST-MODIFIED:20241016T224605Z
UID:10000860-1744009200-1744020000@skihicomplex.com
SUMMARY:Opening Walking
DESCRIPTION:
URL:https://skihicomplex.com/event/opening-walking/2025-04-07/
LOCATION:Outcalt Event & Conference at SLV Ski Hi Complex
CATEGORIES:Event Center
ATTACH;FMTTYPE=image/png:https://eadn-wc05-13503014.nxedge.io/wp-content/uploads/2024/10/Open-Walking-24-25.png
END:VEVENT
BEGIN:VEVENT
DTSTART;VALUE=DATE:20250407
DTEND;VALUE=DATE:20250408
DTSTAMP:20260420T162516
CREATED:20250413T051033Z
LAST-MODIFIED:20250413T051033Z
UID:10001152-1743984000-1744070399@skihicomplex.com
SUMMARY:Destination Blueprint - Monte Vista Tourism
DESCRIPTION:
URL:https://skihicomplex.com/event/destination-blueprint-monte-vista-tourism/
LOCATION:Outcalt Event & Conference at SLV Ski Hi Complex
CATEGORIES:Meeting Room - Orange
END:VEVENT
BEGIN:VEVENT
DTSTART;TZID=America/Denver:20250406T160000
DTEND;TZID=America/Denver:20250406T180000
DTSTAMP:20260420T162516
CREATED:20250217T170720Z
LAST-MODIFIED:20250217T170720Z
UID:10001090-1743955200-1743962400@skihicomplex.com
SUMMARY:Dance Lessons
DESCRIPTION:
URL:https://skihicomplex.com/event/dance-lessons-3/
LOCATION:Outcalt Event & Conference at SLV Ski Hi Complex
CATEGORIES:Banquet Room
ATTACH;FMTTYPE=application/pdf:https://eadn-wc05-13503014.nxedge.io/wp-content/uploads/2025/02/Ski-Hi-Complex-Dance-Lessons-2.pdf
END:VEVENT
BEGIN:VEVENT
DTSTART;VALUE=DATE:20250405
DTEND;VALUE=DATE:20250406
DTSTAMP:20260420T162516
CREATED:20250413T050820Z
LAST-MODIFIED:20250413T050820Z
UID:10001151-1743811200-1743897599@skihicomplex.com
SUMMARY:NRA Banquet
DESCRIPTION:
URL:https://skihicomplex.com/event/nra-banquet-4/
LOCATION:Outcalt Event & Conference at SLV Ski Hi Complex
CATEGORIES:Meeting Room - Green
END:VEVENT
BEGIN:VEVENT
DTSTART;VALUE=DATE:20250405
DTEND;VALUE=DATE:20250406
DTSTAMP:20260420T162516
CREATED:20250413T050801Z
LAST-MODIFIED:20250413T050801Z
UID:10001150-1743811200-1743897599@skihicomplex.com
SUMMARY:NRA Banquet
DESCRIPTION:
URL:https://skihicomplex.com/event/nra-banquet-3/
LOCATION:Outcalt Event & Conference at SLV Ski Hi Complex
CATEGORIES:Meeting Room - Yellow
END:VEVENT
BEGIN:VEVENT
DTSTART;VALUE=DATE:20250405
DTEND;VALUE=DATE:20250406
DTSTAMP:20260420T162516
CREATED:20250413T050742Z
LAST-MODIFIED:20250413T050742Z
UID:10001149-1743811200-1743897599@skihicomplex.com
SUMMARY:NRA Banquet
DESCRIPTION:
URL:https://skihicomplex.com/event/nra-banquet-2/
LOCATION:Outcalt Event & Conference at SLV Ski Hi Complex
CATEGORIES:Meeting Room - Orange
END:VEVENT
END:VCALENDAR