BEGIN:VCALENDAR
VERSION:2.0
PRODID:-//Outcalt Event Center Ski Hi Event Complex - ECPv6.15.17.1//NONSGML v1.0//EN
CALSCALE:GREGORIAN
METHOD:PUBLISH
X-ORIGINAL-URL:https://skihicomplex.com
X-WR-CALDESC:Events for Outcalt Event Center Ski Hi Event Complex
REFRESH-INTERVAL;VALUE=DURATION:PT1H
X-Robots-Tag:noindex
X-PUBLISHED-TTL:PT1H
BEGIN:VTIMEZONE
TZID:America/Denver
BEGIN:DAYLIGHT
TZOFFSETFROM:-0700
TZOFFSETTO:-0600
TZNAME:MDT
DTSTART:20250309T090000
END:DAYLIGHT
BEGIN:STANDARD
TZOFFSETFROM:-0600
TZOFFSETTO:-0700
TZNAME:MST
DTSTART:20251102T080000
END:STANDARD
BEGIN:DAYLIGHT
TZOFFSETFROM:-0700
TZOFFSETTO:-0600
TZNAME:MDT
DTSTART:20260308T090000
END:DAYLIGHT
BEGIN:STANDARD
TZOFFSETFROM:-0600
TZOFFSETTO:-0700
TZNAME:MST
DTSTART:20261101T080000
END:STANDARD
BEGIN:DAYLIGHT
TZOFFSETFROM:-0700
TZOFFSETTO:-0600
TZNAME:MDT
DTSTART:20270314T090000
END:DAYLIGHT
BEGIN:STANDARD
TZOFFSETFROM:-0600
TZOFFSETTO:-0700
TZNAME:MST
DTSTART:20271107T080000
END:STANDARD
BEGIN:DAYLIGHT
TZOFFSETFROM:-0700
TZOFFSETTO:-0600
TZNAME:MDT
DTSTART:20280312T090000
END:DAYLIGHT
BEGIN:STANDARD
TZOFFSETFROM:-0600
TZOFFSETTO:-0700
TZNAME:MST
DTSTART:20281105T080000
END:STANDARD
BEGIN:DAYLIGHT
TZOFFSETFROM:-0700
TZOFFSETTO:-0600
TZNAME:MDT
DTSTART:20290311T090000
END:DAYLIGHT
BEGIN:STANDARD
TZOFFSETFROM:-0600
TZOFFSETTO:-0700
TZNAME:MST
DTSTART:20291104T080000
END:STANDARD
END:VTIMEZONE
BEGIN:VEVENT
DTSTART;TZID=America/Denver:20260416T110000
DTEND;TZID=America/Denver:20260416T130000
DTSTAMP:20260419T145149
CREATED:20241007T175401Z
LAST-MODIFIED:20241009T175356Z
UID:10000688-1776337200-1776344400@skihicomplex.com
SUMMARY:Commodity Food Distribution
DESCRIPTION:This event is hosted outside on the South side of the Ski Hi Complex on Sherman Ave.
URL:https://skihicomplex.com/event/commodity-supplemental-food-assistance-program/2026-04-16/
LOCATION:Outcalt Event & Conference at SLV Ski Hi Complex
CATEGORIES:Rodeo Arena
ATTACH;FMTTYPE=image/png:https://eadn-wc05-13503014.nxedge.io/wp-content/uploads/2024/10/CareandShare.FinalLogo-2023-2C.png
END:VEVENT
BEGIN:VEVENT
DTSTART;TZID=America/Denver:20260521T110000
DTEND;TZID=America/Denver:20260521T130000
DTSTAMP:20260419T145149
CREATED:20241007T175401Z
LAST-MODIFIED:20241009T175356Z
UID:10000689-1779361200-1779368400@skihicomplex.com
SUMMARY:Commodity Food Distribution
DESCRIPTION:This event is hosted outside on the South side of the Ski Hi Complex on Sherman Ave.
URL:https://skihicomplex.com/event/commodity-supplemental-food-assistance-program/2026-05-21/
LOCATION:Outcalt Event & Conference at SLV Ski Hi Complex
CATEGORIES:Rodeo Arena
ATTACH;FMTTYPE=image/png:https://eadn-wc05-13503014.nxedge.io/wp-content/uploads/2024/10/CareandShare.FinalLogo-2023-2C.png
END:VEVENT
BEGIN:VEVENT
DTSTART;TZID=America/Denver:20260618T110000
DTEND;TZID=America/Denver:20260618T130000
DTSTAMP:20260419T145149
CREATED:20241007T175401Z
LAST-MODIFIED:20241009T175356Z
UID:10000690-1781780400-1781787600@skihicomplex.com
SUMMARY:Commodity Food Distribution
DESCRIPTION:This event is hosted outside on the South side of the Ski Hi Complex on Sherman Ave.
URL:https://skihicomplex.com/event/commodity-supplemental-food-assistance-program/2026-06-18/
LOCATION:Outcalt Event & Conference at SLV Ski Hi Complex
CATEGORIES:Rodeo Arena
ATTACH;FMTTYPE=image/png:https://eadn-wc05-13503014.nxedge.io/wp-content/uploads/2024/10/CareandShare.FinalLogo-2023-2C.png
END:VEVENT
BEGIN:VEVENT
DTSTART;TZID=America/Denver:20260716T110000
DTEND;TZID=America/Denver:20260716T130000
DTSTAMP:20260419T145149
CREATED:20241007T175401Z
LAST-MODIFIED:20241009T175356Z
UID:10000691-1784199600-1784206800@skihicomplex.com
SUMMARY:Commodity Food Distribution
DESCRIPTION:This event is hosted outside on the South side of the Ski Hi Complex on Sherman Ave.
URL:https://skihicomplex.com/event/commodity-supplemental-food-assistance-program/2026-07-16/
LOCATION:Outcalt Event & Conference at SLV Ski Hi Complex
CATEGORIES:Rodeo Arena
ATTACH;FMTTYPE=image/png:https://eadn-wc05-13503014.nxedge.io/wp-content/uploads/2024/10/CareandShare.FinalLogo-2023-2C.png
END:VEVENT
BEGIN:VEVENT
DTSTART;TZID=America/Denver:20260820T110000
DTEND;TZID=America/Denver:20260820T130000
DTSTAMP:20260419T145149
CREATED:20241007T175401Z
LAST-MODIFIED:20241009T175356Z
UID:10000692-1787223600-1787230800@skihicomplex.com
SUMMARY:Commodity Food Distribution
DESCRIPTION:This event is hosted outside on the South side of the Ski Hi Complex on Sherman Ave.
URL:https://skihicomplex.com/event/commodity-supplemental-food-assistance-program/2026-08-20/
LOCATION:Outcalt Event & Conference at SLV Ski Hi Complex
CATEGORIES:Rodeo Arena
ATTACH;FMTTYPE=image/png:https://eadn-wc05-13503014.nxedge.io/wp-content/uploads/2024/10/CareandShare.FinalLogo-2023-2C.png
END:VEVENT
BEGIN:VEVENT
DTSTART;TZID=America/Denver:20260917T110000
DTEND;TZID=America/Denver:20260917T130000
DTSTAMP:20260419T145149
CREATED:20241007T175401Z
LAST-MODIFIED:20241009T175356Z
UID:10000693-1789642800-1789650000@skihicomplex.com
SUMMARY:Commodity Food Distribution
DESCRIPTION:This event is hosted outside on the South side of the Ski Hi Complex on Sherman Ave.
URL:https://skihicomplex.com/event/commodity-supplemental-food-assistance-program/2026-09-17/
LOCATION:Outcalt Event & Conference at SLV Ski Hi Complex
CATEGORIES:Rodeo Arena
ATTACH;FMTTYPE=image/png:https://eadn-wc05-13503014.nxedge.io/wp-content/uploads/2024/10/CareandShare.FinalLogo-2023-2C.png
END:VEVENT
BEGIN:VEVENT
DTSTART;TZID=America/Denver:20261015T110000
DTEND;TZID=America/Denver:20261015T130000
DTSTAMP:20260419T145149
CREATED:20241007T175401Z
LAST-MODIFIED:20241009T175356Z
UID:10000694-1792062000-1792069200@skihicomplex.com
SUMMARY:Commodity Food Distribution
DESCRIPTION:This event is hosted outside on the South side of the Ski Hi Complex on Sherman Ave.
URL:https://skihicomplex.com/event/commodity-supplemental-food-assistance-program/2026-10-15/
LOCATION:Outcalt Event & Conference at SLV Ski Hi Complex
CATEGORIES:Rodeo Arena
ATTACH;FMTTYPE=image/png:https://eadn-wc05-13503014.nxedge.io/wp-content/uploads/2024/10/CareandShare.FinalLogo-2023-2C.png
END:VEVENT
BEGIN:VEVENT
DTSTART;TZID=America/Denver:20261119T110000
DTEND;TZID=America/Denver:20261119T130000
DTSTAMP:20260419T145149
CREATED:20241007T175401Z
LAST-MODIFIED:20241009T175356Z
UID:10000695-1795086000-1795093200@skihicomplex.com
SUMMARY:Commodity Food Distribution
DESCRIPTION:This event is hosted outside on the South side of the Ski Hi Complex on Sherman Ave.
URL:https://skihicomplex.com/event/commodity-supplemental-food-assistance-program/2026-11-19/
LOCATION:Outcalt Event & Conference at SLV Ski Hi Complex
CATEGORIES:Rodeo Arena
ATTACH;FMTTYPE=image/png:https://eadn-wc05-13503014.nxedge.io/wp-content/uploads/2024/10/CareandShare.FinalLogo-2023-2C.png
END:VEVENT
BEGIN:VEVENT
DTSTART;TZID=America/Denver:20261217T110000
DTEND;TZID=America/Denver:20261217T130000
DTSTAMP:20260419T145149
CREATED:20241007T175401Z
LAST-MODIFIED:20241009T175356Z
UID:10000696-1797505200-1797512400@skihicomplex.com
SUMMARY:Commodity Food Distribution
DESCRIPTION:This event is hosted outside on the South side of the Ski Hi Complex on Sherman Ave.
URL:https://skihicomplex.com/event/commodity-supplemental-food-assistance-program/2026-12-17/
LOCATION:Outcalt Event & Conference at SLV Ski Hi Complex
CATEGORIES:Rodeo Arena
ATTACH;FMTTYPE=image/png:https://eadn-wc05-13503014.nxedge.io/wp-content/uploads/2024/10/CareandShare.FinalLogo-2023-2C.png
END:VEVENT
BEGIN:VEVENT
DTSTART;TZID=America/Denver:20270121T110000
DTEND;TZID=America/Denver:20270121T130000
DTSTAMP:20260419T145149
CREATED:20241007T175401Z
LAST-MODIFIED:20241009T175356Z
UID:10000697-1800529200-1800536400@skihicomplex.com
SUMMARY:Commodity Food Distribution
DESCRIPTION:This event is hosted outside on the South side of the Ski Hi Complex on Sherman Ave.
URL:https://skihicomplex.com/event/commodity-supplemental-food-assistance-program/2027-01-21/
LOCATION:Outcalt Event & Conference at SLV Ski Hi Complex
CATEGORIES:Rodeo Arena
ATTACH;FMTTYPE=image/png:https://eadn-wc05-13503014.nxedge.io/wp-content/uploads/2024/10/CareandShare.FinalLogo-2023-2C.png
END:VEVENT
BEGIN:VEVENT
DTSTART;TZID=America/Denver:20270218T110000
DTEND;TZID=America/Denver:20270218T130000
DTSTAMP:20260419T145149
CREATED:20241007T175401Z
LAST-MODIFIED:20241009T175356Z
UID:10000698-1802948400-1802955600@skihicomplex.com
SUMMARY:Commodity Food Distribution
DESCRIPTION:This event is hosted outside on the South side of the Ski Hi Complex on Sherman Ave.
URL:https://skihicomplex.com/event/commodity-supplemental-food-assistance-program/2027-02-18/
LOCATION:Outcalt Event & Conference at SLV Ski Hi Complex
CATEGORIES:Rodeo Arena
ATTACH;FMTTYPE=image/png:https://eadn-wc05-13503014.nxedge.io/wp-content/uploads/2024/10/CareandShare.FinalLogo-2023-2C.png
END:VEVENT
BEGIN:VEVENT
DTSTART;TZID=America/Denver:20270318T110000
DTEND;TZID=America/Denver:20270318T130000
DTSTAMP:20260419T145149
CREATED:20241007T175401Z
LAST-MODIFIED:20241009T175356Z
UID:10000699-1805367600-1805374800@skihicomplex.com
SUMMARY:Commodity Food Distribution
DESCRIPTION:This event is hosted outside on the South side of the Ski Hi Complex on Sherman Ave.
URL:https://skihicomplex.com/event/commodity-supplemental-food-assistance-program/2027-03-18/
LOCATION:Outcalt Event & Conference at SLV Ski Hi Complex
CATEGORIES:Rodeo Arena
ATTACH;FMTTYPE=image/png:https://eadn-wc05-13503014.nxedge.io/wp-content/uploads/2024/10/CareandShare.FinalLogo-2023-2C.png
END:VEVENT
BEGIN:VEVENT
DTSTART;TZID=America/Denver:20270415T110000
DTEND;TZID=America/Denver:20270415T130000
DTSTAMP:20260419T145149
CREATED:20241007T175401Z
LAST-MODIFIED:20241009T175356Z
UID:10000700-1807786800-1807794000@skihicomplex.com
SUMMARY:Commodity Food Distribution
DESCRIPTION:This event is hosted outside on the South side of the Ski Hi Complex on Sherman Ave.
URL:https://skihicomplex.com/event/commodity-supplemental-food-assistance-program/2027-04-15/
LOCATION:Outcalt Event & Conference at SLV Ski Hi Complex
CATEGORIES:Rodeo Arena
ATTACH;FMTTYPE=image/png:https://eadn-wc05-13503014.nxedge.io/wp-content/uploads/2024/10/CareandShare.FinalLogo-2023-2C.png
END:VEVENT
BEGIN:VEVENT
DTSTART;TZID=America/Denver:20270520T110000
DTEND;TZID=America/Denver:20270520T130000
DTSTAMP:20260419T145149
CREATED:20241007T175401Z
LAST-MODIFIED:20241009T175356Z
UID:10000701-1810810800-1810818000@skihicomplex.com
SUMMARY:Commodity Food Distribution
DESCRIPTION:This event is hosted outside on the South side of the Ski Hi Complex on Sherman Ave.
URL:https://skihicomplex.com/event/commodity-supplemental-food-assistance-program/2027-05-20/
LOCATION:Outcalt Event & Conference at SLV Ski Hi Complex
CATEGORIES:Rodeo Arena
ATTACH;FMTTYPE=image/png:https://eadn-wc05-13503014.nxedge.io/wp-content/uploads/2024/10/CareandShare.FinalLogo-2023-2C.png
END:VEVENT
BEGIN:VEVENT
DTSTART;TZID=America/Denver:20270617T110000
DTEND;TZID=America/Denver:20270617T130000
DTSTAMP:20260419T145149
CREATED:20241007T175401Z
LAST-MODIFIED:20241009T175356Z
UID:10000702-1813230000-1813237200@skihicomplex.com
SUMMARY:Commodity Food Distribution
DESCRIPTION:This event is hosted outside on the South side of the Ski Hi Complex on Sherman Ave.
URL:https://skihicomplex.com/event/commodity-supplemental-food-assistance-program/2027-06-17/
LOCATION:Outcalt Event & Conference at SLV Ski Hi Complex
CATEGORIES:Rodeo Arena
ATTACH;FMTTYPE=image/png:https://eadn-wc05-13503014.nxedge.io/wp-content/uploads/2024/10/CareandShare.FinalLogo-2023-2C.png
END:VEVENT
BEGIN:VEVENT
DTSTART;TZID=America/Denver:20270715T110000
DTEND;TZID=America/Denver:20270715T130000
DTSTAMP:20260419T145149
CREATED:20241007T175401Z
LAST-MODIFIED:20241009T175356Z
UID:10000703-1815649200-1815656400@skihicomplex.com
SUMMARY:Commodity Food Distribution
DESCRIPTION:This event is hosted outside on the South side of the Ski Hi Complex on Sherman Ave.
URL:https://skihicomplex.com/event/commodity-supplemental-food-assistance-program/2027-07-15/
LOCATION:Outcalt Event & Conference at SLV Ski Hi Complex
CATEGORIES:Rodeo Arena
ATTACH;FMTTYPE=image/png:https://eadn-wc05-13503014.nxedge.io/wp-content/uploads/2024/10/CareandShare.FinalLogo-2023-2C.png
END:VEVENT
BEGIN:VEVENT
DTSTART;TZID=America/Denver:20270819T110000
DTEND;TZID=America/Denver:20270819T130000
DTSTAMP:20260419T145149
CREATED:20241007T175401Z
LAST-MODIFIED:20241009T175356Z
UID:10000704-1818673200-1818680400@skihicomplex.com
SUMMARY:Commodity Food Distribution
DESCRIPTION:This event is hosted outside on the South side of the Ski Hi Complex on Sherman Ave.
URL:https://skihicomplex.com/event/commodity-supplemental-food-assistance-program/2027-08-19/
LOCATION:Outcalt Event & Conference at SLV Ski Hi Complex
CATEGORIES:Rodeo Arena
ATTACH;FMTTYPE=image/png:https://eadn-wc05-13503014.nxedge.io/wp-content/uploads/2024/10/CareandShare.FinalLogo-2023-2C.png
END:VEVENT
BEGIN:VEVENT
DTSTART;TZID=America/Denver:20270916T110000
DTEND;TZID=America/Denver:20270916T130000
DTSTAMP:20260419T145149
CREATED:20241007T175401Z
LAST-MODIFIED:20241009T175356Z
UID:10000705-1821092400-1821099600@skihicomplex.com
SUMMARY:Commodity Food Distribution
DESCRIPTION:This event is hosted outside on the South side of the Ski Hi Complex on Sherman Ave.
URL:https://skihicomplex.com/event/commodity-supplemental-food-assistance-program/2027-09-16/
LOCATION:Outcalt Event & Conference at SLV Ski Hi Complex
CATEGORIES:Rodeo Arena
ATTACH;FMTTYPE=image/png:https://eadn-wc05-13503014.nxedge.io/wp-content/uploads/2024/10/CareandShare.FinalLogo-2023-2C.png
END:VEVENT
BEGIN:VEVENT
DTSTART;TZID=America/Denver:20271021T110000
DTEND;TZID=America/Denver:20271021T130000
DTSTAMP:20260419T145149
CREATED:20241007T175401Z
LAST-MODIFIED:20241009T175356Z
UID:10000706-1824116400-1824123600@skihicomplex.com
SUMMARY:Commodity Food Distribution
DESCRIPTION:This event is hosted outside on the South side of the Ski Hi Complex on Sherman Ave.
URL:https://skihicomplex.com/event/commodity-supplemental-food-assistance-program/2027-10-21/
LOCATION:Outcalt Event & Conference at SLV Ski Hi Complex
CATEGORIES:Rodeo Arena
ATTACH;FMTTYPE=image/png:https://eadn-wc05-13503014.nxedge.io/wp-content/uploads/2024/10/CareandShare.FinalLogo-2023-2C.png
END:VEVENT
BEGIN:VEVENT
DTSTART;TZID=America/Denver:20271118T110000
DTEND;TZID=America/Denver:20271118T130000
DTSTAMP:20260419T145149
CREATED:20241007T175401Z
LAST-MODIFIED:20241009T175356Z
UID:10000707-1826535600-1826542800@skihicomplex.com
SUMMARY:Commodity Food Distribution
DESCRIPTION:This event is hosted outside on the South side of the Ski Hi Complex on Sherman Ave.
URL:https://skihicomplex.com/event/commodity-supplemental-food-assistance-program/2027-11-18/
LOCATION:Outcalt Event & Conference at SLV Ski Hi Complex
CATEGORIES:Rodeo Arena
ATTACH;FMTTYPE=image/png:https://eadn-wc05-13503014.nxedge.io/wp-content/uploads/2024/10/CareandShare.FinalLogo-2023-2C.png
END:VEVENT
BEGIN:VEVENT
DTSTART;TZID=America/Denver:20271216T110000
DTEND;TZID=America/Denver:20271216T130000
DTSTAMP:20260419T145149
CREATED:20241007T175401Z
LAST-MODIFIED:20241009T175356Z
UID:10000708-1828954800-1828962000@skihicomplex.com
SUMMARY:Commodity Food Distribution
DESCRIPTION:This event is hosted outside on the South side of the Ski Hi Complex on Sherman Ave.
URL:https://skihicomplex.com/event/commodity-supplemental-food-assistance-program/2027-12-16/
LOCATION:Outcalt Event & Conference at SLV Ski Hi Complex
CATEGORIES:Rodeo Arena
ATTACH;FMTTYPE=image/png:https://eadn-wc05-13503014.nxedge.io/wp-content/uploads/2024/10/CareandShare.FinalLogo-2023-2C.png
END:VEVENT
BEGIN:VEVENT
DTSTART;TZID=America/Denver:20280120T110000
DTEND;TZID=America/Denver:20280120T130000
DTSTAMP:20260419T145149
CREATED:20241007T175401Z
LAST-MODIFIED:20241009T175356Z
UID:10000709-1831978800-1831986000@skihicomplex.com
SUMMARY:Commodity Food Distribution
DESCRIPTION:This event is hosted outside on the South side of the Ski Hi Complex on Sherman Ave.
URL:https://skihicomplex.com/event/commodity-supplemental-food-assistance-program/2028-01-20/
LOCATION:Outcalt Event & Conference at SLV Ski Hi Complex
CATEGORIES:Rodeo Arena
ATTACH;FMTTYPE=image/png:https://eadn-wc05-13503014.nxedge.io/wp-content/uploads/2024/10/CareandShare.FinalLogo-2023-2C.png
END:VEVENT
BEGIN:VEVENT
DTSTART;TZID=America/Denver:20280217T110000
DTEND;TZID=America/Denver:20280217T130000
DTSTAMP:20260419T145149
CREATED:20241007T175401Z
LAST-MODIFIED:20241009T175356Z
UID:10000710-1834398000-1834405200@skihicomplex.com
SUMMARY:Commodity Food Distribution
DESCRIPTION:This event is hosted outside on the South side of the Ski Hi Complex on Sherman Ave.
URL:https://skihicomplex.com/event/commodity-supplemental-food-assistance-program/2028-02-17/
LOCATION:Outcalt Event & Conference at SLV Ski Hi Complex
CATEGORIES:Rodeo Arena
ATTACH;FMTTYPE=image/png:https://eadn-wc05-13503014.nxedge.io/wp-content/uploads/2024/10/CareandShare.FinalLogo-2023-2C.png
END:VEVENT
BEGIN:VEVENT
DTSTART;TZID=America/Denver:20280316T110000
DTEND;TZID=America/Denver:20280316T130000
DTSTAMP:20260419T145149
CREATED:20241007T175401Z
LAST-MODIFIED:20241009T175356Z
UID:10000711-1836817200-1836824400@skihicomplex.com
SUMMARY:Commodity Food Distribution
DESCRIPTION:This event is hosted outside on the South side of the Ski Hi Complex on Sherman Ave.
URL:https://skihicomplex.com/event/commodity-supplemental-food-assistance-program/2028-03-16/
LOCATION:Outcalt Event & Conference at SLV Ski Hi Complex
CATEGORIES:Rodeo Arena
ATTACH;FMTTYPE=image/png:https://eadn-wc05-13503014.nxedge.io/wp-content/uploads/2024/10/CareandShare.FinalLogo-2023-2C.png
END:VEVENT
BEGIN:VEVENT
DTSTART;TZID=America/Denver:20280420T110000
DTEND;TZID=America/Denver:20280420T130000
DTSTAMP:20260419T145149
CREATED:20241007T175401Z
LAST-MODIFIED:20241009T175356Z
UID:10000712-1839841200-1839848400@skihicomplex.com
SUMMARY:Commodity Food Distribution
DESCRIPTION:This event is hosted outside on the South side of the Ski Hi Complex on Sherman Ave.
URL:https://skihicomplex.com/event/commodity-supplemental-food-assistance-program/2028-04-20/
LOCATION:Outcalt Event & Conference at SLV Ski Hi Complex
CATEGORIES:Rodeo Arena
ATTACH;FMTTYPE=image/png:https://eadn-wc05-13503014.nxedge.io/wp-content/uploads/2024/10/CareandShare.FinalLogo-2023-2C.png
END:VEVENT
BEGIN:VEVENT
DTSTART;TZID=America/Denver:20280518T110000
DTEND;TZID=America/Denver:20280518T130000
DTSTAMP:20260419T145149
CREATED:20241007T175401Z
LAST-MODIFIED:20241009T175356Z
UID:10000713-1842260400-1842267600@skihicomplex.com
SUMMARY:Commodity Food Distribution
DESCRIPTION:This event is hosted outside on the South side of the Ski Hi Complex on Sherman Ave.
URL:https://skihicomplex.com/event/commodity-supplemental-food-assistance-program/2028-05-18/
LOCATION:Outcalt Event & Conference at SLV Ski Hi Complex
CATEGORIES:Rodeo Arena
ATTACH;FMTTYPE=image/png:https://eadn-wc05-13503014.nxedge.io/wp-content/uploads/2024/10/CareandShare.FinalLogo-2023-2C.png
END:VEVENT
BEGIN:VEVENT
DTSTART;TZID=America/Denver:20280615T110000
DTEND;TZID=America/Denver:20280615T130000
DTSTAMP:20260419T145149
CREATED:20241007T175401Z
LAST-MODIFIED:20241009T175356Z
UID:10000714-1844679600-1844686800@skihicomplex.com
SUMMARY:Commodity Food Distribution
DESCRIPTION:This event is hosted outside on the South side of the Ski Hi Complex on Sherman Ave.
URL:https://skihicomplex.com/event/commodity-supplemental-food-assistance-program/2028-06-15/
LOCATION:Outcalt Event & Conference at SLV Ski Hi Complex
CATEGORIES:Rodeo Arena
ATTACH;FMTTYPE=image/png:https://eadn-wc05-13503014.nxedge.io/wp-content/uploads/2024/10/CareandShare.FinalLogo-2023-2C.png
END:VEVENT
BEGIN:VEVENT
DTSTART;TZID=America/Denver:20280720T110000
DTEND;TZID=America/Denver:20280720T130000
DTSTAMP:20260419T145149
CREATED:20241007T175401Z
LAST-MODIFIED:20241009T175356Z
UID:10000715-1847703600-1847710800@skihicomplex.com
SUMMARY:Commodity Food Distribution
DESCRIPTION:This event is hosted outside on the South side of the Ski Hi Complex on Sherman Ave.
URL:https://skihicomplex.com/event/commodity-supplemental-food-assistance-program/2028-07-20/
LOCATION:Outcalt Event & Conference at SLV Ski Hi Complex
CATEGORIES:Rodeo Arena
ATTACH;FMTTYPE=image/png:https://eadn-wc05-13503014.nxedge.io/wp-content/uploads/2024/10/CareandShare.FinalLogo-2023-2C.png
END:VEVENT
BEGIN:VEVENT
DTSTART;TZID=America/Denver:20280817T110000
DTEND;TZID=America/Denver:20280817T130000
DTSTAMP:20260419T145149
CREATED:20241007T175401Z
LAST-MODIFIED:20241009T175356Z
UID:10000716-1850122800-1850130000@skihicomplex.com
SUMMARY:Commodity Food Distribution
DESCRIPTION:This event is hosted outside on the South side of the Ski Hi Complex on Sherman Ave.
URL:https://skihicomplex.com/event/commodity-supplemental-food-assistance-program/2028-08-17/
LOCATION:Outcalt Event & Conference at SLV Ski Hi Complex
CATEGORIES:Rodeo Arena
ATTACH;FMTTYPE=image/png:https://eadn-wc05-13503014.nxedge.io/wp-content/uploads/2024/10/CareandShare.FinalLogo-2023-2C.png
END:VEVENT
BEGIN:VEVENT
DTSTART;TZID=America/Denver:20280921T110000
DTEND;TZID=America/Denver:20280921T130000
DTSTAMP:20260419T145149
CREATED:20241007T175401Z
LAST-MODIFIED:20241009T175356Z
UID:10000717-1853146800-1853154000@skihicomplex.com
SUMMARY:Commodity Food Distribution
DESCRIPTION:This event is hosted outside on the South side of the Ski Hi Complex on Sherman Ave.
URL:https://skihicomplex.com/event/commodity-supplemental-food-assistance-program/2028-09-21/
LOCATION:Outcalt Event & Conference at SLV Ski Hi Complex
CATEGORIES:Rodeo Arena
ATTACH;FMTTYPE=image/png:https://eadn-wc05-13503014.nxedge.io/wp-content/uploads/2024/10/CareandShare.FinalLogo-2023-2C.png
END:VEVENT
END:VCALENDAR