BEGIN:VCALENDAR
VERSION:2.0
PRODID:-//Outcalt Event Center Ski Hi Event Complex - ECPv6.15.17.1//NONSGML v1.0//EN
CALSCALE:GREGORIAN
METHOD:PUBLISH
X-WR-CALNAME:Outcalt Event Center Ski Hi Event Complex
X-ORIGINAL-URL:https://skihicomplex.com
X-WR-CALDESC:Events for Outcalt Event Center Ski Hi Event Complex
REFRESH-INTERVAL;VALUE=DURATION:PT1H
X-Robots-Tag:noindex
X-PUBLISHED-TTL:PT1H
BEGIN:VTIMEZONE
TZID:America/Denver
BEGIN:DAYLIGHT
TZOFFSETFROM:-0700
TZOFFSETTO:-0600
TZNAME:MDT
DTSTART:20240310T090000
END:DAYLIGHT
BEGIN:STANDARD
TZOFFSETFROM:-0600
TZOFFSETTO:-0700
TZNAME:MST
DTSTART:20241103T080000
END:STANDARD
BEGIN:DAYLIGHT
TZOFFSETFROM:-0700
TZOFFSETTO:-0600
TZNAME:MDT
DTSTART:20250309T090000
END:DAYLIGHT
BEGIN:STANDARD
TZOFFSETFROM:-0600
TZOFFSETTO:-0700
TZNAME:MST
DTSTART:20251102T080000
END:STANDARD
BEGIN:DAYLIGHT
TZOFFSETFROM:-0700
TZOFFSETTO:-0600
TZNAME:MDT
DTSTART:20260308T090000
END:DAYLIGHT
BEGIN:STANDARD
TZOFFSETFROM:-0600
TZOFFSETTO:-0700
TZNAME:MST
DTSTART:20261101T080000
END:STANDARD
BEGIN:DAYLIGHT
TZOFFSETFROM:-0700
TZOFFSETTO:-0600
TZNAME:MDT
DTSTART:20270314T090000
END:DAYLIGHT
BEGIN:STANDARD
TZOFFSETFROM:-0600
TZOFFSETTO:-0700
TZNAME:MST
DTSTART:20271107T080000
END:STANDARD
END:VTIMEZONE
BEGIN:VEVENT
DTSTART;TZID=America/Denver:20260416T110000
DTEND;TZID=America/Denver:20260416T130000
DTSTAMP:20260419T151229
CREATED:20241007T175401Z
LAST-MODIFIED:20241009T175356Z
UID:10000688-1776337200-1776344400@skihicomplex.com
SUMMARY:Commodity Food Distribution
DESCRIPTION:This event is hosted outside on the South side of the Ski Hi Complex on Sherman Ave.
URL:https://skihicomplex.com/event/commodity-supplemental-food-assistance-program/2026-04-16/
LOCATION:Outcalt Event & Conference at SLV Ski Hi Complex
CATEGORIES:Rodeo Arena
ATTACH;FMTTYPE=image/png:https://eadn-wc05-13503014.nxedge.io/wp-content/uploads/2024/10/CareandShare.FinalLogo-2023-2C.png
END:VEVENT
BEGIN:VEVENT
DTSTART;TZID=America/Denver:20260319T110000
DTEND;TZID=America/Denver:20260319T130000
DTSTAMP:20260419T151229
CREATED:20241007T175401Z
LAST-MODIFIED:20241009T175356Z
UID:10000687-1773918000-1773925200@skihicomplex.com
SUMMARY:Commodity Food Distribution
DESCRIPTION:This event is hosted outside on the South side of the Ski Hi Complex on Sherman Ave.
URL:https://skihicomplex.com/event/commodity-supplemental-food-assistance-program/2026-03-19/
LOCATION:Outcalt Event & Conference at SLV Ski Hi Complex
CATEGORIES:Rodeo Arena
ATTACH;FMTTYPE=image/png:https://eadn-wc05-13503014.nxedge.io/wp-content/uploads/2024/10/CareandShare.FinalLogo-2023-2C.png
END:VEVENT
BEGIN:VEVENT
DTSTART;TZID=America/Denver:20260219T110000
DTEND;TZID=America/Denver:20260219T130000
DTSTAMP:20260419T151229
CREATED:20241007T175401Z
LAST-MODIFIED:20241009T175356Z
UID:10000686-1771498800-1771506000@skihicomplex.com
SUMMARY:Commodity Food Distribution
DESCRIPTION:This event is hosted outside on the South side of the Ski Hi Complex on Sherman Ave.
URL:https://skihicomplex.com/event/commodity-supplemental-food-assistance-program/2026-02-19/
LOCATION:Outcalt Event & Conference at SLV Ski Hi Complex
CATEGORIES:Rodeo Arena
ATTACH;FMTTYPE=image/png:https://eadn-wc05-13503014.nxedge.io/wp-content/uploads/2024/10/CareandShare.FinalLogo-2023-2C.png
END:VEVENT
BEGIN:VEVENT
DTSTART;TZID=America/Denver:20260115T110000
DTEND;TZID=America/Denver:20260115T130000
DTSTAMP:20260419T151229
CREATED:20241007T175401Z
LAST-MODIFIED:20241009T175356Z
UID:10000685-1768474800-1768482000@skihicomplex.com
SUMMARY:Commodity Food Distribution
DESCRIPTION:This event is hosted outside on the South side of the Ski Hi Complex on Sherman Ave.
URL:https://skihicomplex.com/event/commodity-supplemental-food-assistance-program/2026-01-15/
LOCATION:Outcalt Event & Conference at SLV Ski Hi Complex
CATEGORIES:Rodeo Arena
ATTACH;FMTTYPE=image/png:https://eadn-wc05-13503014.nxedge.io/wp-content/uploads/2024/10/CareandShare.FinalLogo-2023-2C.png
END:VEVENT
BEGIN:VEVENT
DTSTART;TZID=America/Denver:20251218T110000
DTEND;TZID=America/Denver:20251218T130000
DTSTAMP:20260419T151229
CREATED:20241007T175401Z
LAST-MODIFIED:20241009T175356Z
UID:10000684-1766055600-1766062800@skihicomplex.com
SUMMARY:Commodity Food Distribution
DESCRIPTION:This event is hosted outside on the South side of the Ski Hi Complex on Sherman Ave.
URL:https://skihicomplex.com/event/commodity-supplemental-food-assistance-program/2025-12-18/
LOCATION:Outcalt Event & Conference at SLV Ski Hi Complex
CATEGORIES:Rodeo Arena
ATTACH;FMTTYPE=image/png:https://eadn-wc05-13503014.nxedge.io/wp-content/uploads/2024/10/CareandShare.FinalLogo-2023-2C.png
END:VEVENT
BEGIN:VEVENT
DTSTART;TZID=America/Denver:20251217T093000
DTEND;TZID=America/Denver:20251217T120000
DTSTAMP:20260419T151229
CREATED:20250226T201925Z
LAST-MODIFIED:20250226T201925Z
UID:10001104-1765963800-1765972800@skihicomplex.com
SUMMARY:All Valley Law Enforcement Meeting
DESCRIPTION:
URL:https://skihicomplex.com/event/all-valley-law-enforcement-meeting-2/2025-12-17/
LOCATION:Outcalt Event & Conference at SLV Ski Hi Complex
CATEGORIES:Meeting Room - Orange
END:VEVENT
BEGIN:VEVENT
DTSTART;VALUE=DATE:20251205
DTEND;VALUE=DATE:20251208
DTSTAMP:20260419T151229
CREATED:20241015T011702Z
LAST-MODIFIED:20241015T011702Z
UID:10001050-1764892800-1765151999@skihicomplex.com
SUMMARY:Holiday Bazaar
DESCRIPTION:
URL:https://skihicomplex.com/event/holiday-bazaar-3/
LOCATION:Outcalt Event & Conference at SLV Ski Hi Complex
CATEGORIES:Entire Facility
END:VEVENT
BEGIN:VEVENT
DTSTART;VALUE=DATE:20251204
DTEND;VALUE=DATE:20251205
DTSTAMP:20260419T151229
CREATED:20241015T011724Z
LAST-MODIFIED:20241015T011724Z
UID:10001051-1764806400-1764892799@skihicomplex.com
SUMMARY:Unavailable
DESCRIPTION:
URL:https://skihicomplex.com/event/unavailable/
LOCATION:Outcalt Event & Conference at SLV Ski Hi Complex
CATEGORIES:Entire Facility
END:VEVENT
BEGIN:VEVENT
DTSTART;TZID=America/Denver:20251120T110000
DTEND;TZID=America/Denver:20251120T130000
DTSTAMP:20260419T151229
CREATED:20241007T175401Z
LAST-MODIFIED:20241009T175356Z
UID:10000683-1763636400-1763643600@skihicomplex.com
SUMMARY:Commodity Food Distribution
DESCRIPTION:This event is hosted outside on the South side of the Ski Hi Complex on Sherman Ave.
URL:https://skihicomplex.com/event/commodity-supplemental-food-assistance-program/2025-11-20/
LOCATION:Outcalt Event & Conference at SLV Ski Hi Complex
CATEGORIES:Rodeo Arena
ATTACH;FMTTYPE=image/png:https://eadn-wc05-13503014.nxedge.io/wp-content/uploads/2024/10/CareandShare.FinalLogo-2023-2C.png
END:VEVENT
BEGIN:VEVENT
DTSTART;TZID=America/Denver:20251119T093000
DTEND;TZID=America/Denver:20251119T120000
DTSTAMP:20260419T151229
CREATED:20250226T201925Z
LAST-MODIFIED:20250226T201925Z
UID:10001103-1763544600-1763553600@skihicomplex.com
SUMMARY:All Valley Law Enforcement Meeting
DESCRIPTION:
URL:https://skihicomplex.com/event/all-valley-law-enforcement-meeting-2/2025-11-19/
LOCATION:Outcalt Event & Conference at SLV Ski Hi Complex
CATEGORIES:Meeting Room - Orange
END:VEVENT
BEGIN:VEVENT
DTSTART;TZID=America/Denver:20251016T110000
DTEND;TZID=America/Denver:20251016T130000
DTSTAMP:20260419T151229
CREATED:20241007T175401Z
LAST-MODIFIED:20241009T175356Z
UID:10000682-1760612400-1760619600@skihicomplex.com
SUMMARY:Commodity Food Distribution
DESCRIPTION:This event is hosted outside on the South side of the Ski Hi Complex on Sherman Ave.
URL:https://skihicomplex.com/event/commodity-supplemental-food-assistance-program/2025-10-16/
LOCATION:Outcalt Event & Conference at SLV Ski Hi Complex
CATEGORIES:Rodeo Arena
ATTACH;FMTTYPE=image/png:https://eadn-wc05-13503014.nxedge.io/wp-content/uploads/2024/10/CareandShare.FinalLogo-2023-2C.png
END:VEVENT
BEGIN:VEVENT
DTSTART;TZID=America/Denver:20251015T093000
DTEND;TZID=America/Denver:20251015T120000
DTSTAMP:20260419T151229
CREATED:20250226T201925Z
LAST-MODIFIED:20250226T201925Z
UID:10001102-1760520600-1760529600@skihicomplex.com
SUMMARY:All Valley Law Enforcement Meeting
DESCRIPTION:
URL:https://skihicomplex.com/event/all-valley-law-enforcement-meeting-2/2025-10-15/
LOCATION:Outcalt Event & Conference at SLV Ski Hi Complex
CATEGORIES:Meeting Room - Orange
END:VEVENT
BEGIN:VEVENT
DTSTART;TZID=America/Denver:20250918T110000
DTEND;TZID=America/Denver:20250918T130000
DTSTAMP:20260419T151229
CREATED:20241007T175401Z
LAST-MODIFIED:20241009T175356Z
UID:10000681-1758193200-1758200400@skihicomplex.com
SUMMARY:Commodity Food Distribution
DESCRIPTION:This event is hosted outside on the South side of the Ski Hi Complex on Sherman Ave.
URL:https://skihicomplex.com/event/commodity-supplemental-food-assistance-program/2025-09-18/
LOCATION:Outcalt Event & Conference at SLV Ski Hi Complex
CATEGORIES:Rodeo Arena
ATTACH;FMTTYPE=image/png:https://eadn-wc05-13503014.nxedge.io/wp-content/uploads/2024/10/CareandShare.FinalLogo-2023-2C.png
END:VEVENT
BEGIN:VEVENT
DTSTART;TZID=America/Denver:20250910T093000
DTEND;TZID=America/Denver:20250910T120000
DTSTAMP:20260419T151229
CREATED:20250226T201925Z
LAST-MODIFIED:20250226T201925Z
UID:10001101-1757496600-1757505600@skihicomplex.com
SUMMARY:All Valley Law Enforcement Meeting
DESCRIPTION:
URL:https://skihicomplex.com/event/all-valley-law-enforcement-meeting-2/2025-09-10/
LOCATION:Outcalt Event & Conference at SLV Ski Hi Complex
CATEGORIES:Meeting Room - Orange
END:VEVENT
BEGIN:VEVENT
DTSTART;VALUE=DATE:20250822
DTEND;VALUE=DATE:20250824
DTSTAMP:20260419T151229
CREATED:20241015T011559Z
LAST-MODIFIED:20241015T011559Z
UID:10001049-1755820800-1755993599@skihicomplex.com
SUMMARY:Private Event
DESCRIPTION:
URL:https://skihicomplex.com/event/private-event-30/
LOCATION:Outcalt Event & Conference at SLV Ski Hi Complex
CATEGORIES:Event Center
END:VEVENT
BEGIN:VEVENT
DTSTART;TZID=America/Denver:20250821T110000
DTEND;TZID=America/Denver:20250821T130000
DTSTAMP:20260419T151229
CREATED:20241007T175401Z
LAST-MODIFIED:20241009T175356Z
UID:10000680-1755774000-1755781200@skihicomplex.com
SUMMARY:Commodity Food Distribution
DESCRIPTION:This event is hosted outside on the South side of the Ski Hi Complex on Sherman Ave.
URL:https://skihicomplex.com/event/commodity-supplemental-food-assistance-program/2025-08-21/
LOCATION:Outcalt Event & Conference at SLV Ski Hi Complex
CATEGORIES:Rodeo Arena
ATTACH;FMTTYPE=image/png:https://eadn-wc05-13503014.nxedge.io/wp-content/uploads/2024/10/CareandShare.FinalLogo-2023-2C.png
END:VEVENT
BEGIN:VEVENT
DTSTART;TZID=America/Denver:20250820T093000
DTEND;TZID=America/Denver:20250820T120000
DTSTAMP:20260419T151229
CREATED:20250226T201925Z
LAST-MODIFIED:20250226T201925Z
UID:10001100-1755682200-1755691200@skihicomplex.com
SUMMARY:All Valley Law Enforcement Meeting
DESCRIPTION:
URL:https://skihicomplex.com/event/all-valley-law-enforcement-meeting-2/2025-08-20/
LOCATION:Outcalt Event & Conference at SLV Ski Hi Complex
CATEGORIES:Meeting Room - Orange
END:VEVENT
BEGIN:VEVENT
DTSTART;VALUE=DATE:20250815
DTEND;VALUE=DATE:20250817
DTSTAMP:20260419T151229
CREATED:20241015T011535Z
LAST-MODIFIED:20241015T011535Z
UID:10001048-1755216000-1755388799@skihicomplex.com
SUMMARY:Private Event
DESCRIPTION:
URL:https://skihicomplex.com/event/private-event-29/
LOCATION:Outcalt Event & Conference at SLV Ski Hi Complex
CATEGORIES:Event Center
END:VEVENT
BEGIN:VEVENT
DTSTART;VALUE=DATE:20250731
DTEND;VALUE=DATE:20250811
DTSTAMP:20260419T151229
CREATED:20250430T190309Z
LAST-MODIFIED:20250430T190309Z
UID:10001206-1753920000-1754870399@skihicomplex.com
SUMMARY:Unavailable
DESCRIPTION:
URL:https://skihicomplex.com/event/unavailable-11/
LOCATION:Outcalt Event & Conference at SLV Ski Hi Complex
CATEGORIES:Meeting Room - Green
END:VEVENT
BEGIN:VEVENT
DTSTART;VALUE=DATE:20250731
DTEND;VALUE=DATE:20250811
DTSTAMP:20260419T151229
CREATED:20250430T190245Z
LAST-MODIFIED:20250430T190245Z
UID:10001205-1753920000-1754870399@skihicomplex.com
SUMMARY:Unavailable
DESCRIPTION:
URL:https://skihicomplex.com/event/unavailable-10/
LOCATION:Outcalt Event & Conference at SLV Ski Hi Complex
CATEGORIES:Meeting Room - Yellow
END:VEVENT
BEGIN:VEVENT
DTSTART;VALUE=DATE:20250731
DTEND;VALUE=DATE:20250811
DTSTAMP:20260419T151229
CREATED:20250430T190221Z
LAST-MODIFIED:20250430T190221Z
UID:10001204-1753920000-1754870399@skihicomplex.com
SUMMARY:Unavailable
DESCRIPTION:
URL:https://skihicomplex.com/event/unavailable-9/
LOCATION:Outcalt Event & Conference at SLV Ski Hi Complex
CATEGORIES:Meeting Room - Orange
END:VEVENT
BEGIN:VEVENT
DTSTART;VALUE=DATE:20250729
DTEND;VALUE=DATE:20250730
DTSTAMP:20260419T151229
CREATED:20250618T222129Z
LAST-MODIFIED:20250618T222129Z
UID:10001250-1753747200-1753833599@skihicomplex.com
SUMMARY:Private Event
DESCRIPTION:
URL:https://skihicomplex.com/event/private-event-87/
LOCATION:Outcalt Event & Conference at SLV Ski Hi Complex
CATEGORIES:Meeting Room - Orange
END:VEVENT
BEGIN:VEVENT
DTSTART;VALUE=DATE:20250727
DTEND;VALUE=DATE:20250728
DTSTAMP:20260419T151229
CREATED:20250618T222059Z
LAST-MODIFIED:20250618T222059Z
UID:10001249-1753574400-1753660799@skihicomplex.com
SUMMARY:Monte Vista Police Department - National Night Out
DESCRIPTION:
URL:https://skihicomplex.com/event/monte-vista-police-department-national-night-out/
LOCATION:Outcalt Event & Conference at SLV Ski Hi Complex
CATEGORIES:Event Center
END:VEVENT
BEGIN:VEVENT
DTSTART;VALUE=DATE:20250726
DTEND;VALUE=DATE:20250727
DTSTAMP:20260419T151229
CREATED:20250430T190135Z
LAST-MODIFIED:20250430T190135Z
UID:10001203-1753488000-1753574399@skihicomplex.com
SUMMARY:Private Event
DESCRIPTION:
URL:https://skihicomplex.com/event/private-event-66/
LOCATION:Outcalt Event & Conference at SLV Ski Hi Complex
CATEGORIES:Meeting Room - Yellow
END:VEVENT
BEGIN:VEVENT
DTSTART;VALUE=DATE:20250726
DTEND;VALUE=DATE:20250727
DTSTAMP:20260419T151229
CREATED:20250430T190114Z
LAST-MODIFIED:20250430T190114Z
UID:10001202-1753488000-1753574399@skihicomplex.com
SUMMARY:Private Event
DESCRIPTION:
URL:https://skihicomplex.com/event/private-event-65/
LOCATION:Outcalt Event & Conference at SLV Ski Hi Complex
CATEGORIES:Meeting Room - Orange
END:VEVENT
BEGIN:VEVENT
DTSTART;VALUE=DATE:20250726
DTEND;VALUE=DATE:20250727
DTSTAMP:20260419T151229
CREATED:20250226T210303Z
LAST-MODIFIED:20250226T210303Z
UID:10001122-1753488000-1753574399@skihicomplex.com
SUMMARY:Private Event
DESCRIPTION:
URL:https://skihicomplex.com/event/private-event-46/
LOCATION:Outcalt Event & Conference at SLV Ski Hi Complex
CATEGORIES:Banquet Room
END:VEVENT
BEGIN:VEVENT
DTSTART;VALUE=DATE:20250721
DTEND;VALUE=DATE:20250722
DTSTAMP:20260419T151229
CREATED:20250618T221915Z
LAST-MODIFIED:20250618T221915Z
UID:10001247-1753056000-1753142399@skihicomplex.com
SUMMARY:Private Event
DESCRIPTION:
URL:https://skihicomplex.com/event/private-event-86/
LOCATION:Outcalt Event & Conference at SLV Ski Hi Complex
CATEGORIES:Meeting Room - Yellow
END:VEVENT
BEGIN:VEVENT
DTSTART;VALUE=DATE:20250719
DTEND;VALUE=DATE:20250720
DTSTAMP:20260419T151229
CREATED:20250618T222003Z
LAST-MODIFIED:20250618T222003Z
UID:10001248-1752883200-1752969599@skihicomplex.com
SUMMARY:Mosca Hooper Conservation District Field Day
DESCRIPTION:
URL:https://skihicomplex.com/event/mosca-hooper-conservation-district-field-day/
LOCATION:Outcalt Event & Conference at SLV Ski Hi Complex
CATEGORIES:Meeting Room - Green
END:VEVENT
BEGIN:VEVENT
DTSTART;TZID=America/Denver:20250718T173000
DTEND;TZID=America/Denver:20250718T230000
DTSTAMP:20260419T151229
CREATED:20250311T165604Z
LAST-MODIFIED:20250311T165604Z
UID:10001146-1752859800-1752879600@skihicomplex.com
SUMMARY:Bolos & Boots
DESCRIPTION:
URL:https://skihicomplex.com/event/bolos-boots/
LOCATION:Outcalt Event & Conference at SLV Ski Hi Complex
CATEGORIES:Banquet Room
ATTACH;FMTTYPE=application/pdf:https://eadn-wc05-13503014.nxedge.io/wp-content/uploads/2025/03/Bolos-and-Boots-Flyer-Updated.pdf
END:VEVENT
BEGIN:VEVENT
DTSTART;TZID=America/Denver:20250717T110000
DTEND;TZID=America/Denver:20250717T130000
DTSTAMP:20260419T151229
CREATED:20241007T175401Z
LAST-MODIFIED:20241009T175356Z
UID:10000679-1752750000-1752757200@skihicomplex.com
SUMMARY:Commodity Food Distribution
DESCRIPTION:This event is hosted outside on the South side of the Ski Hi Complex on Sherman Ave.
URL:https://skihicomplex.com/event/commodity-supplemental-food-assistance-program/2025-07-17/
LOCATION:Outcalt Event & Conference at SLV Ski Hi Complex
CATEGORIES:Rodeo Arena
ATTACH;FMTTYPE=image/png:https://eadn-wc05-13503014.nxedge.io/wp-content/uploads/2024/10/CareandShare.FinalLogo-2023-2C.png
END:VEVENT
END:VCALENDAR