BEGIN:VCALENDAR
VERSION:2.0
PRODID:-//Outcalt Event Center Ski Hi Event Complex - ECPv6.15.17.1//NONSGML v1.0//EN
CALSCALE:GREGORIAN
METHOD:PUBLISH
X-ORIGINAL-URL:https://skihicomplex.com
X-WR-CALDESC:Events for Outcalt Event Center Ski Hi Event Complex
REFRESH-INTERVAL;VALUE=DURATION:PT1H
X-Robots-Tag:noindex
X-PUBLISHED-TTL:PT1H
BEGIN:VTIMEZONE
TZID:America/Denver
BEGIN:DAYLIGHT
TZOFFSETFROM:-0700
TZOFFSETTO:-0600
TZNAME:MDT
DTSTART:20240310T090000
END:DAYLIGHT
BEGIN:STANDARD
TZOFFSETFROM:-0600
TZOFFSETTO:-0700
TZNAME:MST
DTSTART:20241103T080000
END:STANDARD
BEGIN:DAYLIGHT
TZOFFSETFROM:-0700
TZOFFSETTO:-0600
TZNAME:MDT
DTSTART:20250309T090000
END:DAYLIGHT
BEGIN:STANDARD
TZOFFSETFROM:-0600
TZOFFSETTO:-0700
TZNAME:MST
DTSTART:20251102T080000
END:STANDARD
BEGIN:DAYLIGHT
TZOFFSETFROM:-0700
TZOFFSETTO:-0600
TZNAME:MDT
DTSTART:20260308T090000
END:DAYLIGHT
BEGIN:STANDARD
TZOFFSETFROM:-0600
TZOFFSETTO:-0700
TZNAME:MST
DTSTART:20261101T080000
END:STANDARD
END:VTIMEZONE
BEGIN:VEVENT
DTSTART;VALUE=DATE:20250402
DTEND;VALUE=DATE:20250403
DTSTAMP:20260420T115903
CREATED:20250217T170322Z
LAST-MODIFIED:20250217T170322Z
UID:10001087-1743552000-1743638399@skihicomplex.com
SUMMARY:Heart of Saguache (Youth Event)
DESCRIPTION:
URL:https://skihicomplex.com/event/heart-of-saguache-youth-event-3/
LOCATION:Outcalt Event & Conference at SLV Ski Hi Complex
CATEGORIES:Meeting Room - Yellow
END:VEVENT
BEGIN:VEVENT
DTSTART;VALUE=DATE:20250405
DTEND;VALUE=DATE:20250406
DTSTAMP:20260420T115903
CREATED:20250413T050801Z
LAST-MODIFIED:20250413T050801Z
UID:10001150-1743811200-1743897599@skihicomplex.com
SUMMARY:NRA Banquet
DESCRIPTION:
URL:https://skihicomplex.com/event/nra-banquet-3/
LOCATION:Outcalt Event & Conference at SLV Ski Hi Complex
CATEGORIES:Meeting Room - Yellow
END:VEVENT
BEGIN:VEVENT
DTSTART;VALUE=DATE:20250408
DTEND;VALUE=DATE:20250409
DTSTAMP:20260420T115903
CREATED:20250413T051127Z
LAST-MODIFIED:20250413T051127Z
UID:10001154-1744070400-1744156799@skihicomplex.com
SUMMARY:Private Event
DESCRIPTION:
URL:https://skihicomplex.com/event/private-event-47/
LOCATION:Outcalt Event & Conference at SLV Ski Hi Complex
CATEGORIES:Meeting Room - Yellow
END:VEVENT
BEGIN:VEVENT
DTSTART;VALUE=DATE:20250409
DTEND;VALUE=DATE:20250410
DTSTAMP:20260420T115903
CREATED:20250413T051148Z
LAST-MODIFIED:20250413T051148Z
UID:10001155-1744156800-1744243199@skihicomplex.com
SUMMARY:Private Event
DESCRIPTION:
URL:https://skihicomplex.com/event/private-event-48/
LOCATION:Outcalt Event & Conference at SLV Ski Hi Complex
CATEGORIES:Meeting Room - Yellow
END:VEVENT
BEGIN:VEVENT
DTSTART;VALUE=DATE:20250410
DTEND;VALUE=DATE:20250411
DTSTAMP:20260420T115903
CREATED:20250413T051310Z
LAST-MODIFIED:20250413T051310Z
UID:10001158-1744243200-1744329599@skihicomplex.com
SUMMARY:Private Event
DESCRIPTION:
URL:https://skihicomplex.com/event/private-event-49/
LOCATION:Outcalt Event & Conference at SLV Ski Hi Complex
CATEGORIES:Meeting Room - Yellow
END:VEVENT
BEGIN:VEVENT
DTSTART;VALUE=DATE:20250414
DTEND;VALUE=DATE:20250415
DTSTAMP:20260420T115903
CREATED:20250413T051509Z
LAST-MODIFIED:20250413T051509Z
UID:10001162-1744588800-1744675199@skihicomplex.com
SUMMARY:ServSafe Class
DESCRIPTION:
URL:https://skihicomplex.com/event/servsafe-class-2/
LOCATION:Outcalt Event & Conference at SLV Ski Hi Complex
CATEGORIES:Meeting Room - Yellow
END:VEVENT
BEGIN:VEVENT
DTSTART;TZID=America/Denver:20250414T190000
DTEND;TZID=America/Denver:20250414T210000
DTSTAMP:20260420T115903
CREATED:20241007T174237Z
LAST-MODIFIED:20241010T180540Z
UID:10000984-1744657200-1744664400@skihicomplex.com
SUMMARY:San Luis Valley Fair Board Meeting
DESCRIPTION:
URL:https://skihicomplex.com/event/san-luis-valley-fair-board-meeting/2025-04-14/
LOCATION:Outcalt Event & Conference at SLV Ski Hi Complex
CATEGORIES:Meeting Room - Yellow
END:VEVENT
BEGIN:VEVENT
DTSTART;VALUE=DATE:20250416
DTEND;VALUE=DATE:20250417
DTSTAMP:20260420T115903
CREATED:20250413T051628Z
LAST-MODIFIED:20250413T051628Z
UID:10001165-1744761600-1744847999@skihicomplex.com
SUMMARY:Solar Development Workshop
DESCRIPTION:
URL:https://skihicomplex.com/event/solar-development-workshop-2/
LOCATION:Outcalt Event & Conference at SLV Ski Hi Complex
CATEGORIES:Meeting Room - Yellow
END:VEVENT
BEGIN:VEVENT
DTSTART;VALUE=DATE:20250419
DTEND;VALUE=DATE:20250420
DTSTAMP:20260420T115903
CREATED:20250413T051922Z
LAST-MODIFIED:20250413T051922Z
UID:10001168-1745020800-1745107199@skihicomplex.com
SUMMARY:Private Event
DESCRIPTION:
URL:https://skihicomplex.com/event/private-event-53/
LOCATION:Outcalt Event & Conference at SLV Ski Hi Complex
CATEGORIES:Meeting Room - Yellow
END:VEVENT
BEGIN:VEVENT
DTSTART;VALUE=DATE:20250426
DTEND;VALUE=DATE:20250427
DTSTAMP:20260420T115903
CREATED:20250413T052208Z
LAST-MODIFIED:20250413T052208Z
UID:10001171-1745625600-1745711999@skihicomplex.com
SUMMARY:Private Event
DESCRIPTION:
URL:https://skihicomplex.com/event/private-event-55/
LOCATION:Outcalt Event & Conference at SLV Ski Hi Complex
CATEGORIES:Meeting Room - Yellow
END:VEVENT
END:VCALENDAR