BEGIN:VCALENDAR
VERSION:2.0
PRODID:-//Outcalt Event Center Ski Hi Event Complex - ECPv6.15.17.1//NONSGML v1.0//EN
CALSCALE:GREGORIAN
METHOD:PUBLISH
X-ORIGINAL-URL:https://skihicomplex.com
X-WR-CALDESC:Events for Outcalt Event Center Ski Hi Event Complex
REFRESH-INTERVAL;VALUE=DURATION:PT1H
X-Robots-Tag:noindex
X-PUBLISHED-TTL:PT1H
BEGIN:VTIMEZONE
TZID:America/Denver
BEGIN:DAYLIGHT
TZOFFSETFROM:-0700
TZOFFSETTO:-0600
TZNAME:MDT
DTSTART:20270314T090000
END:DAYLIGHT
BEGIN:STANDARD
TZOFFSETFROM:-0600
TZOFFSETTO:-0700
TZNAME:MST
DTSTART:20271107T080000
END:STANDARD
BEGIN:DAYLIGHT
TZOFFSETFROM:-0700
TZOFFSETTO:-0600
TZNAME:MDT
DTSTART:20280312T090000
END:DAYLIGHT
BEGIN:STANDARD
TZOFFSETFROM:-0600
TZOFFSETTO:-0700
TZNAME:MST
DTSTART:20281105T080000
END:STANDARD
BEGIN:DAYLIGHT
TZOFFSETFROM:-0700
TZOFFSETTO:-0600
TZNAME:MDT
DTSTART:20290311T090000
END:DAYLIGHT
BEGIN:STANDARD
TZOFFSETFROM:-0600
TZOFFSETTO:-0700
TZNAME:MST
DTSTART:20291104T080000
END:STANDARD
BEGIN:DAYLIGHT
TZOFFSETFROM:-0700
TZOFFSETTO:-0600
TZNAME:MDT
DTSTART:20300310T090000
END:DAYLIGHT
BEGIN:STANDARD
TZOFFSETFROM:-0600
TZOFFSETTO:-0700
TZNAME:MST
DTSTART:20301103T080000
END:STANDARD
END:VTIMEZONE
BEGIN:VEVENT
DTSTART;TZID=America/Denver:20280615T110000
DTEND;TZID=America/Denver:20280615T130000
DTSTAMP:20260419T170559
CREATED:20241007T175401Z
LAST-MODIFIED:20241009T175356Z
UID:10000714-1844679600-1844686800@skihicomplex.com
SUMMARY:Commodity Food Distribution
DESCRIPTION:This event is hosted outside on the South side of the Ski Hi Complex on Sherman Ave.
URL:https://skihicomplex.com/event/commodity-supplemental-food-assistance-program/2028-06-15/
LOCATION:Outcalt Event & Conference at SLV Ski Hi Complex
CATEGORIES:Rodeo Arena
ATTACH;FMTTYPE=image/png:https://eadn-wc05-13503014.nxedge.io/wp-content/uploads/2024/10/CareandShare.FinalLogo-2023-2C.png
END:VEVENT
BEGIN:VEVENT
DTSTART;TZID=America/Denver:20280720T110000
DTEND;TZID=America/Denver:20280720T130000
DTSTAMP:20260419T170559
CREATED:20241007T175401Z
LAST-MODIFIED:20241009T175356Z
UID:10000715-1847703600-1847710800@skihicomplex.com
SUMMARY:Commodity Food Distribution
DESCRIPTION:This event is hosted outside on the South side of the Ski Hi Complex on Sherman Ave.
URL:https://skihicomplex.com/event/commodity-supplemental-food-assistance-program/2028-07-20/
LOCATION:Outcalt Event & Conference at SLV Ski Hi Complex
CATEGORIES:Rodeo Arena
ATTACH;FMTTYPE=image/png:https://eadn-wc05-13503014.nxedge.io/wp-content/uploads/2024/10/CareandShare.FinalLogo-2023-2C.png
END:VEVENT
BEGIN:VEVENT
DTSTART;TZID=America/Denver:20280817T110000
DTEND;TZID=America/Denver:20280817T130000
DTSTAMP:20260419T170559
CREATED:20241007T175401Z
LAST-MODIFIED:20241009T175356Z
UID:10000716-1850122800-1850130000@skihicomplex.com
SUMMARY:Commodity Food Distribution
DESCRIPTION:This event is hosted outside on the South side of the Ski Hi Complex on Sherman Ave.
URL:https://skihicomplex.com/event/commodity-supplemental-food-assistance-program/2028-08-17/
LOCATION:Outcalt Event & Conference at SLV Ski Hi Complex
CATEGORIES:Rodeo Arena
ATTACH;FMTTYPE=image/png:https://eadn-wc05-13503014.nxedge.io/wp-content/uploads/2024/10/CareandShare.FinalLogo-2023-2C.png
END:VEVENT
BEGIN:VEVENT
DTSTART;TZID=America/Denver:20280921T110000
DTEND;TZID=America/Denver:20280921T130000
DTSTAMP:20260419T170559
CREATED:20241007T175401Z
LAST-MODIFIED:20241009T175356Z
UID:10000717-1853146800-1853154000@skihicomplex.com
SUMMARY:Commodity Food Distribution
DESCRIPTION:This event is hosted outside on the South side of the Ski Hi Complex on Sherman Ave.
URL:https://skihicomplex.com/event/commodity-supplemental-food-assistance-program/2028-09-21/
LOCATION:Outcalt Event & Conference at SLV Ski Hi Complex
CATEGORIES:Rodeo Arena
ATTACH;FMTTYPE=image/png:https://eadn-wc05-13503014.nxedge.io/wp-content/uploads/2024/10/CareandShare.FinalLogo-2023-2C.png
END:VEVENT
BEGIN:VEVENT
DTSTART;TZID=America/Denver:20281019T110000
DTEND;TZID=America/Denver:20281019T130000
DTSTAMP:20260419T170559
CREATED:20241007T175401Z
LAST-MODIFIED:20241009T175356Z
UID:10000718-1855566000-1855573200@skihicomplex.com
SUMMARY:Commodity Food Distribution
DESCRIPTION:This event is hosted outside on the South side of the Ski Hi Complex on Sherman Ave.
URL:https://skihicomplex.com/event/commodity-supplemental-food-assistance-program/2028-10-19/
LOCATION:Outcalt Event & Conference at SLV Ski Hi Complex
CATEGORIES:Rodeo Arena
ATTACH;FMTTYPE=image/png:https://eadn-wc05-13503014.nxedge.io/wp-content/uploads/2024/10/CareandShare.FinalLogo-2023-2C.png
END:VEVENT
BEGIN:VEVENT
DTSTART;TZID=America/Denver:20281116T110000
DTEND;TZID=America/Denver:20281116T130000
DTSTAMP:20260419T170559
CREATED:20241007T175401Z
LAST-MODIFIED:20241009T175356Z
UID:10000719-1857985200-1857992400@skihicomplex.com
SUMMARY:Commodity Food Distribution
DESCRIPTION:This event is hosted outside on the South side of the Ski Hi Complex on Sherman Ave.
URL:https://skihicomplex.com/event/commodity-supplemental-food-assistance-program/2028-11-16/
LOCATION:Outcalt Event & Conference at SLV Ski Hi Complex
CATEGORIES:Rodeo Arena
ATTACH;FMTTYPE=image/png:https://eadn-wc05-13503014.nxedge.io/wp-content/uploads/2024/10/CareandShare.FinalLogo-2023-2C.png
END:VEVENT
BEGIN:VEVENT
DTSTART;TZID=America/Denver:20281221T110000
DTEND;TZID=America/Denver:20281221T130000
DTSTAMP:20260419T170559
CREATED:20241007T175401Z
LAST-MODIFIED:20241009T175356Z
UID:10000720-1861009200-1861016400@skihicomplex.com
SUMMARY:Commodity Food Distribution
DESCRIPTION:This event is hosted outside on the South side of the Ski Hi Complex on Sherman Ave.
URL:https://skihicomplex.com/event/commodity-supplemental-food-assistance-program/2028-12-21/
LOCATION:Outcalt Event & Conference at SLV Ski Hi Complex
CATEGORIES:Rodeo Arena
ATTACH;FMTTYPE=image/png:https://eadn-wc05-13503014.nxedge.io/wp-content/uploads/2024/10/CareandShare.FinalLogo-2023-2C.png
END:VEVENT
BEGIN:VEVENT
DTSTART;TZID=America/Denver:20290118T110000
DTEND;TZID=America/Denver:20290118T130000
DTSTAMP:20260419T170559
CREATED:20241007T175401Z
LAST-MODIFIED:20241009T175356Z
UID:10000721-1863428400-1863435600@skihicomplex.com
SUMMARY:Commodity Food Distribution
DESCRIPTION:This event is hosted outside on the South side of the Ski Hi Complex on Sherman Ave.
URL:https://skihicomplex.com/event/commodity-supplemental-food-assistance-program/2029-01-18/
LOCATION:Outcalt Event & Conference at SLV Ski Hi Complex
CATEGORIES:Rodeo Arena
ATTACH;FMTTYPE=image/png:https://eadn-wc05-13503014.nxedge.io/wp-content/uploads/2024/10/CareandShare.FinalLogo-2023-2C.png
END:VEVENT
BEGIN:VEVENT
DTSTART;TZID=America/Denver:20290215T110000
DTEND;TZID=America/Denver:20290215T130000
DTSTAMP:20260419T170559
CREATED:20241007T175401Z
LAST-MODIFIED:20241009T175356Z
UID:10000722-1865847600-1865854800@skihicomplex.com
SUMMARY:Commodity Food Distribution
DESCRIPTION:This event is hosted outside on the South side of the Ski Hi Complex on Sherman Ave.
URL:https://skihicomplex.com/event/commodity-supplemental-food-assistance-program/2029-02-15/
LOCATION:Outcalt Event & Conference at SLV Ski Hi Complex
CATEGORIES:Rodeo Arena
ATTACH;FMTTYPE=image/png:https://eadn-wc05-13503014.nxedge.io/wp-content/uploads/2024/10/CareandShare.FinalLogo-2023-2C.png
END:VEVENT
BEGIN:VEVENT
DTSTART;TZID=America/Denver:20290315T110000
DTEND;TZID=America/Denver:20290315T130000
DTSTAMP:20260419T170559
CREATED:20241007T175401Z
LAST-MODIFIED:20241009T175356Z
UID:10000723-1868266800-1868274000@skihicomplex.com
SUMMARY:Commodity Food Distribution
DESCRIPTION:This event is hosted outside on the South side of the Ski Hi Complex on Sherman Ave.
URL:https://skihicomplex.com/event/commodity-supplemental-food-assistance-program/2029-03-15/
LOCATION:Outcalt Event & Conference at SLV Ski Hi Complex
CATEGORIES:Rodeo Arena
ATTACH;FMTTYPE=image/png:https://eadn-wc05-13503014.nxedge.io/wp-content/uploads/2024/10/CareandShare.FinalLogo-2023-2C.png
END:VEVENT
BEGIN:VEVENT
DTSTART;TZID=America/Denver:20290419T110000
DTEND;TZID=America/Denver:20290419T130000
DTSTAMP:20260419T170559
CREATED:20241007T175401Z
LAST-MODIFIED:20241009T175356Z
UID:10000724-1871290800-1871298000@skihicomplex.com
SUMMARY:Commodity Food Distribution
DESCRIPTION:This event is hosted outside on the South side of the Ski Hi Complex on Sherman Ave.
URL:https://skihicomplex.com/event/commodity-supplemental-food-assistance-program/2029-04-19/
LOCATION:Outcalt Event & Conference at SLV Ski Hi Complex
CATEGORIES:Rodeo Arena
ATTACH;FMTTYPE=image/png:https://eadn-wc05-13503014.nxedge.io/wp-content/uploads/2024/10/CareandShare.FinalLogo-2023-2C.png
END:VEVENT
BEGIN:VEVENT
DTSTART;TZID=America/Denver:20290517T110000
DTEND;TZID=America/Denver:20290517T130000
DTSTAMP:20260419T170559
CREATED:20241007T175401Z
LAST-MODIFIED:20241009T175356Z
UID:10000725-1873710000-1873717200@skihicomplex.com
SUMMARY:Commodity Food Distribution
DESCRIPTION:This event is hosted outside on the South side of the Ski Hi Complex on Sherman Ave.
URL:https://skihicomplex.com/event/commodity-supplemental-food-assistance-program/2029-05-17/
LOCATION:Outcalt Event & Conference at SLV Ski Hi Complex
CATEGORIES:Rodeo Arena
ATTACH;FMTTYPE=image/png:https://eadn-wc05-13503014.nxedge.io/wp-content/uploads/2024/10/CareandShare.FinalLogo-2023-2C.png
END:VEVENT
BEGIN:VEVENT
DTSTART;TZID=America/Denver:20290621T110000
DTEND;TZID=America/Denver:20290621T130000
DTSTAMP:20260419T170559
CREATED:20241007T175401Z
LAST-MODIFIED:20241009T175356Z
UID:10000726-1876734000-1876741200@skihicomplex.com
SUMMARY:Commodity Food Distribution
DESCRIPTION:This event is hosted outside on the South side of the Ski Hi Complex on Sherman Ave.
URL:https://skihicomplex.com/event/commodity-supplemental-food-assistance-program/2029-06-21/
LOCATION:Outcalt Event & Conference at SLV Ski Hi Complex
CATEGORIES:Rodeo Arena
ATTACH;FMTTYPE=image/png:https://eadn-wc05-13503014.nxedge.io/wp-content/uploads/2024/10/CareandShare.FinalLogo-2023-2C.png
END:VEVENT
BEGIN:VEVENT
DTSTART;TZID=America/Denver:20290719T110000
DTEND;TZID=America/Denver:20290719T130000
DTSTAMP:20260419T170559
CREATED:20241007T175401Z
LAST-MODIFIED:20241009T175356Z
UID:10000727-1879153200-1879160400@skihicomplex.com
SUMMARY:Commodity Food Distribution
DESCRIPTION:This event is hosted outside on the South side of the Ski Hi Complex on Sherman Ave.
URL:https://skihicomplex.com/event/commodity-supplemental-food-assistance-program/2029-07-19/
LOCATION:Outcalt Event & Conference at SLV Ski Hi Complex
CATEGORIES:Rodeo Arena
ATTACH;FMTTYPE=image/png:https://eadn-wc05-13503014.nxedge.io/wp-content/uploads/2024/10/CareandShare.FinalLogo-2023-2C.png
END:VEVENT
BEGIN:VEVENT
DTSTART;TZID=America/Denver:20290816T110000
DTEND;TZID=America/Denver:20290816T130000
DTSTAMP:20260419T170559
CREATED:20241007T175401Z
LAST-MODIFIED:20241009T175356Z
UID:10000728-1881572400-1881579600@skihicomplex.com
SUMMARY:Commodity Food Distribution
DESCRIPTION:This event is hosted outside on the South side of the Ski Hi Complex on Sherman Ave.
URL:https://skihicomplex.com/event/commodity-supplemental-food-assistance-program/2029-08-16/
LOCATION:Outcalt Event & Conference at SLV Ski Hi Complex
CATEGORIES:Rodeo Arena
ATTACH;FMTTYPE=image/png:https://eadn-wc05-13503014.nxedge.io/wp-content/uploads/2024/10/CareandShare.FinalLogo-2023-2C.png
END:VEVENT
BEGIN:VEVENT
DTSTART;TZID=America/Denver:20290920T110000
DTEND;TZID=America/Denver:20290920T130000
DTSTAMP:20260419T170559
CREATED:20241007T175401Z
LAST-MODIFIED:20241009T175356Z
UID:10000729-1884596400-1884603600@skihicomplex.com
SUMMARY:Commodity Food Distribution
DESCRIPTION:This event is hosted outside on the South side of the Ski Hi Complex on Sherman Ave.
URL:https://skihicomplex.com/event/commodity-supplemental-food-assistance-program/2029-09-20/
LOCATION:Outcalt Event & Conference at SLV Ski Hi Complex
CATEGORIES:Rodeo Arena
ATTACH;FMTTYPE=image/png:https://eadn-wc05-13503014.nxedge.io/wp-content/uploads/2024/10/CareandShare.FinalLogo-2023-2C.png
END:VEVENT
END:VCALENDAR