BEGIN:VCALENDAR
VERSION:2.0
PRODID:-//Outcalt Event Center Ski Hi Event Complex - ECPv6.15.17.1//NONSGML v1.0//EN
CALSCALE:GREGORIAN
METHOD:PUBLISH
X-WR-CALNAME:Outcalt Event Center Ski Hi Event Complex
X-ORIGINAL-URL:https://skihicomplex.com
X-WR-CALDESC:Events for Outcalt Event Center Ski Hi Event Complex
REFRESH-INTERVAL;VALUE=DURATION:PT1H
X-Robots-Tag:noindex
X-PUBLISHED-TTL:PT1H
BEGIN:VTIMEZONE
TZID:America/Denver
BEGIN:DAYLIGHT
TZOFFSETFROM:-0700
TZOFFSETTO:-0600
TZNAME:MDT
DTSTART:20230312T090000
END:DAYLIGHT
BEGIN:STANDARD
TZOFFSETFROM:-0600
TZOFFSETTO:-0700
TZNAME:MST
DTSTART:20231105T080000
END:STANDARD
BEGIN:DAYLIGHT
TZOFFSETFROM:-0700
TZOFFSETTO:-0600
TZNAME:MDT
DTSTART:20240310T090000
END:DAYLIGHT
BEGIN:STANDARD
TZOFFSETFROM:-0600
TZOFFSETTO:-0700
TZNAME:MST
DTSTART:20241103T080000
END:STANDARD
BEGIN:DAYLIGHT
TZOFFSETFROM:-0700
TZOFFSETTO:-0600
TZNAME:MDT
DTSTART:20250309T090000
END:DAYLIGHT
BEGIN:STANDARD
TZOFFSETFROM:-0600
TZOFFSETTO:-0700
TZNAME:MST
DTSTART:20251102T080000
END:STANDARD
END:VTIMEZONE
BEGIN:VEVENT
DTSTART;VALUE=DATE:20241109
DTEND;VALUE=DATE:20241110
DTSTAMP:20260419T222307
CREATED:20241015T004043Z
LAST-MODIFIED:20241015T004113Z
UID:10001018-1731110400-1731196799@skihicomplex.com
SUMMARY:Private Event
DESCRIPTION:
URL:https://skihicomplex.com/event/private-event-13/
LOCATION:Outcalt Event & Conference at SLV Ski Hi Complex
CATEGORIES:Meeting Room - Orange
END:VEVENT
BEGIN:VEVENT
DTSTART;VALUE=DATE:20241106
DTEND;VALUE=DATE:20241108
DTSTAMP:20260419T222307
CREATED:20241010T175416Z
LAST-MODIFIED:20241010T175416Z
UID:10000977-1730851200-1731023999@skihicomplex.com
SUMMARY:Private Event
DESCRIPTION:
URL:https://skihicomplex.com/event/private-event-11/
LOCATION:Outcalt Event & Conference at SLV Ski Hi Complex
CATEGORIES:Meeting Room - Orange
END:VEVENT
BEGIN:VEVENT
DTSTART;VALUE=DATE:20241105
DTEND;VALUE=DATE:20241106
DTSTAMP:20260419T222307
CREATED:20241010T175223Z
LAST-MODIFIED:20241010T183351Z
UID:10000976-1730764800-1730851199@skihicomplex.com
SUMMARY:Private Event
DESCRIPTION:
URL:https://skihicomplex.com/event/private-event-10/2024-11-05/
LOCATION:Outcalt Event & Conference at SLV Ski Hi Complex
CATEGORIES:Meeting Room - Orange
END:VEVENT
BEGIN:VEVENT
DTSTART;TZID=America/Denver:20241104T173000
DTEND;TZID=America/Denver:20241104T193000
DTSTAMP:20260419T222307
CREATED:20241010T172915Z
LAST-MODIFIED:20241014T223054Z
UID:10000775-1730741400-1730748600@skihicomplex.com
SUMMARY:Managing Ag Stress Together
DESCRIPTION:
URL:https://skihicomplex.com/event/managing-ag-stress-together/
LOCATION:Outcalt Event & Conference at SLV Ski Hi Complex
CATEGORIES:Meeting Room - Orange
ATTACH;FMTTYPE=application/pdf:https://eadn-wc05-13503014.nxedge.io/wp-content/uploads/2024/10/Managing-Ag-Stress-Together-workshop-flyer.pdf
END:VEVENT
BEGIN:VEVENT
DTSTART;VALUE=DATE:20241029
DTEND;VALUE=DATE:20241030
DTSTAMP:20260419T222307
CREATED:20241010T172705Z
LAST-MODIFIED:20241010T172705Z
UID:10000772-1730160000-1730246399@skihicomplex.com
SUMMARY:Private Event
DESCRIPTION:
URL:https://skihicomplex.com/event/private-event-9/
LOCATION:Outcalt Event & Conference at SLV Ski Hi Complex
CATEGORIES:Meeting Room - Orange
END:VEVENT
BEGIN:VEVENT
DTSTART;TZID=America/Denver:20241028T183000
DTEND;TZID=America/Denver:20241028T210000
DTSTAMP:20260419T222307
CREATED:20241010T172840Z
LAST-MODIFIED:20241014T223148Z
UID:10000774-1730140200-1730149200@skihicomplex.com
SUMMARY:Ag Business & Strategies Workshop
DESCRIPTION:
URL:https://skihicomplex.com/event/ag-business-strategies-workshop/
LOCATION:Outcalt Event & Conference at SLV Ski Hi Complex
CATEGORIES:Meeting Room - Orange
ATTACH;FMTTYPE=application/pdf:https://eadn-wc05-13503014.nxedge.io/wp-content/uploads/2024/10/Ag-Commodity-Strategies-Outlooks-4.pdf
END:VEVENT
BEGIN:VEVENT
DTSTART;TZID=America/Denver:20241028T113000
DTEND;TZID=America/Denver:20241028T143000
DTSTAMP:20260419T222307
CREATED:20241010T172745Z
LAST-MODIFIED:20241014T223234Z
UID:10000773-1730115000-1730125800@skihicomplex.com
SUMMARY:Dry Bean Workshop
DESCRIPTION:
URL:https://skihicomplex.com/event/dry-bean-workshop/
LOCATION:Outcalt Event & Conference at SLV Ski Hi Complex
CATEGORIES:Meeting Room - Orange
ATTACH;FMTTYPE=application/pdf:https://eadn-wc05-13503014.nxedge.io/wp-content/uploads/2024/10/SLV-Dry-Beans-Workshop-Flyer-3.pdf
END:VEVENT
BEGIN:VEVENT
DTSTART;TZID=America/Denver:20241025T090000
DTEND;TZID=America/Denver:20241025T150000
DTSTAMP:20260419T222307
CREATED:20241008T204401Z
LAST-MODIFIED:20241008T204401Z
UID:10000737-1729846800-1729868400@skihicomplex.com
SUMMARY:Water Information Workshop
DESCRIPTION:San Luis Valley ditch and surface water users discussion.
URL:https://skihicomplex.com/event/water-information-workshop/
LOCATION:Outcalt Event & Conference at SLV Ski Hi Complex
CATEGORIES:Meeting Room - Orange
END:VEVENT
BEGIN:VEVENT
DTSTART;TZID=America/Denver:20241021T170000
DTEND;TZID=America/Denver:20241021T200000
DTSTAMP:20260419T222307
CREATED:20241008T203453Z
LAST-MODIFIED:20241008T203453Z
UID:10000733-1729530000-1729540800@skihicomplex.com
SUMMARY:Farm Bureau Annual Meeting
DESCRIPTION:
URL:https://skihicomplex.com/event/farm-bureau-annual-meeting-2/
LOCATION:Outcalt Event & Conference at SLV Ski Hi Complex
CATEGORIES:Meeting Room - Orange
END:VEVENT
BEGIN:VEVENT
DTSTART;TZID=America/Denver:20241021T170000
DTEND;TZID=America/Denver:20241021T200000
DTSTAMP:20260419T222307
CREATED:20241008T203301Z
LAST-MODIFIED:20241008T203301Z
UID:10000732-1729530000-1729540800@skihicomplex.com
SUMMARY:Farm Bureau Annual Meeting
DESCRIPTION:
URL:https://skihicomplex.com/event/farm-bureau-annual-meeting/
LOCATION:Outcalt Event & Conference at SLV Ski Hi Complex
CATEGORIES:Meeting Room - Orange,Meeting Room - Yellow
END:VEVENT
BEGIN:VEVENT
DTSTART;TZID=America/Denver:20241015T100000
DTEND;TZID=America/Denver:20241015T120000
DTSTAMP:20260419T222307
CREATED:20241007T174350Z
LAST-MODIFIED:20250217T160945Z
UID:10000669-1728986400-1728993600@skihicomplex.com
SUMMARY:All Valley Law Enforcement Meeting
DESCRIPTION:
URL:https://skihicomplex.com/event/all-valley-law-enforcement-meeting/2024-10-15/
LOCATION:Outcalt Event & Conference at SLV Ski Hi Complex
CATEGORIES:Meeting Room - Orange
END:VEVENT
BEGIN:VEVENT
DTSTART;TZID=America/Denver:20241008T070000
DTEND;TZID=America/Denver:20241008T083000
DTSTAMP:20260419T222307
CREATED:20240924T195419Z
LAST-MODIFIED:20240924T195419Z
UID:10000544-1728370800-1728376200@skihicomplex.com
SUMMARY:Upper Rio Grande Economic Development Meeting
DESCRIPTION:Orange Room – Upper Rio Grande Economic Development Meeting – 7 am – 8:30 am
URL:https://skihicomplex.com/event/upper-rio-grande-economic-development-meeting/
LOCATION:Outcalt Event & Conference at SLV Ski Hi Complex
CATEGORIES:Meeting Room - Orange
END:VEVENT
BEGIN:VEVENT
DTSTART;VALUE=DATE:20241003
DTEND;VALUE=DATE:20241004
DTSTAMP:20260419T222307
CREATED:20240924T195051Z
LAST-MODIFIED:20241007T173112Z
UID:10000540-1727913600-1727999999@skihicomplex.com
SUMMARY:Private Event
DESCRIPTION:
URL:https://skihicomplex.com/event/private-event-3/
LOCATION:Outcalt Event & Conference at SLV Ski Hi Complex
CATEGORIES:Meeting Room - Orange
END:VEVENT
BEGIN:VEVENT
DTSTART;VALUE=DATE:20241001
DTEND;VALUE=DATE:20241002
DTSTAMP:20260419T222307
CREATED:20240924T194919Z
LAST-MODIFIED:20241007T172538Z
UID:10000538-1727740800-1727827199@skihicomplex.com
SUMMARY:Private Event
DESCRIPTION:
URL:https://skihicomplex.com/event/private-event-2/
CATEGORIES:Meeting Room - Orange
END:VEVENT
BEGIN:VEVENT
DTSTART;TZID=America/Denver:20240224T080000
DTEND;TZID=America/Denver:20240224T220000
DTSTAMP:20260419T222307
CREATED:20240319T210316Z
LAST-MODIFIED:20240319T210401Z
UID:10000537-1708761600-1708812000@skihicomplex.com
SUMMARY:Private Event
DESCRIPTION:
URL:https://skihicomplex.com/event/private-event/
CATEGORIES:Meeting Room - Orange
END:VEVENT
END:VCALENDAR