BEGIN:VCALENDAR
VERSION:2.0
PRODID:-//Outcalt Event Center Ski Hi Event Complex - ECPv6.15.17.1//NONSGML v1.0//EN
CALSCALE:GREGORIAN
METHOD:PUBLISH
X-ORIGINAL-URL:https://skihicomplex.com
X-WR-CALDESC:Events for Outcalt Event Center Ski Hi Event Complex
REFRESH-INTERVAL;VALUE=DURATION:PT1H
X-Robots-Tag:noindex
X-PUBLISHED-TTL:PT1H
BEGIN:VTIMEZONE
TZID:America/Denver
BEGIN:DAYLIGHT
TZOFFSETFROM:-0700
TZOFFSETTO:-0600
TZNAME:MDT
DTSTART:20230312T090000
END:DAYLIGHT
BEGIN:STANDARD
TZOFFSETFROM:-0600
TZOFFSETTO:-0700
TZNAME:MST
DTSTART:20231105T080000
END:STANDARD
BEGIN:DAYLIGHT
TZOFFSETFROM:-0700
TZOFFSETTO:-0600
TZNAME:MDT
DTSTART:20240310T090000
END:DAYLIGHT
BEGIN:STANDARD
TZOFFSETFROM:-0600
TZOFFSETTO:-0700
TZNAME:MST
DTSTART:20241103T080000
END:STANDARD
BEGIN:DAYLIGHT
TZOFFSETFROM:-0700
TZOFFSETTO:-0600
TZNAME:MDT
DTSTART:20250309T090000
END:DAYLIGHT
BEGIN:STANDARD
TZOFFSETFROM:-0600
TZOFFSETTO:-0700
TZNAME:MST
DTSTART:20251102T080000
END:STANDARD
END:VTIMEZONE
BEGIN:VEVENT
DTSTART;TZID=America/Denver:20241118T180000
DTEND;TZID=America/Denver:20241118T203000
DTSTAMP:20260420T224422
CREATED:20241114T194238Z
LAST-MODIFIED:20241114T194238Z
UID:10001054-1731952800-1731961800@skihicomplex.com
SUMMARY:Rio Grande County Public Hearing - Community Aquatic Center
DESCRIPTION:
URL:https://skihicomplex.com/event/rio-grande-county-public-hearing-community-aquatic-center-2/
LOCATION:Outcalt Event & Conference at SLV Ski Hi Complex
CATEGORIES:Meeting Room - Green
END:VEVENT
END:VCALENDAR