BEGIN:VCALENDAR
VERSION:2.0
PRODID:-//Outcalt Event Center Ski Hi Event Complex - ECPv6.15.17.1//NONSGML v1.0//EN
CALSCALE:GREGORIAN
METHOD:PUBLISH
X-ORIGINAL-URL:https://skihicomplex.com
X-WR-CALDESC:Events for Outcalt Event Center Ski Hi Event Complex
REFRESH-INTERVAL;VALUE=DURATION:PT1H
X-Robots-Tag:noindex
X-PUBLISHED-TTL:PT1H
BEGIN:VTIMEZONE
TZID:America/Denver
BEGIN:DAYLIGHT
TZOFFSETFROM:-0700
TZOFFSETTO:-0600
TZNAME:MDT
DTSTART:20230312T090000
END:DAYLIGHT
BEGIN:STANDARD
TZOFFSETFROM:-0600
TZOFFSETTO:-0700
TZNAME:MST
DTSTART:20231105T080000
END:STANDARD
BEGIN:DAYLIGHT
TZOFFSETFROM:-0700
TZOFFSETTO:-0600
TZNAME:MDT
DTSTART:20240310T090000
END:DAYLIGHT
BEGIN:STANDARD
TZOFFSETFROM:-0600
TZOFFSETTO:-0700
TZNAME:MST
DTSTART:20241103T080000
END:STANDARD
BEGIN:DAYLIGHT
TZOFFSETFROM:-0700
TZOFFSETTO:-0600
TZNAME:MDT
DTSTART:20250309T090000
END:DAYLIGHT
BEGIN:STANDARD
TZOFFSETFROM:-0600
TZOFFSETTO:-0700
TZNAME:MST
DTSTART:20251102T080000
END:STANDARD
END:VTIMEZONE
BEGIN:VEVENT
DTSTART;TZID=America/Denver:20241107T170000
DTEND;TZID=America/Denver:20241107T190000
DTSTAMP:20260421T133756
CREATED:20241010T174434Z
LAST-MODIFIED:20241017T155836Z
UID:10000879-1730998800-1731006000@skihicomplex.com
SUMMARY:Open Walking
DESCRIPTION:
URL:https://skihicomplex.com/event/open-walking/2024-11-07/
LOCATION:Outcalt Event & Conference at SLV Ski Hi Complex
CATEGORIES:Event Center
ATTACH;FMTTYPE=image/png:https://eadn-wc05-13503014.nxedge.io/wp-content/uploads/2024/10/Open-Walking-24-25.png
END:VEVENT
BEGIN:VEVENT
DTSTART;TZID=America/Denver:20241109T083000
DTEND;TZID=America/Denver:20241109T120000
DTSTAMP:20260421T133756
CREATED:20241009T202252Z
LAST-MODIFIED:20241009T204744Z
UID:10000763-1731141000-1731153600@skihicomplex.com
SUMMARY:MV Recreation - Youth Basketball Games
DESCRIPTION:
URL:https://skihicomplex.com/event/mv-recreation-youth-basketball-games-2/2024-11-09/
LOCATION:Outcalt Event & Conference at SLV Ski Hi Complex
CATEGORIES:Event Center
ATTACH;FMTTYPE=image/png:https://eadn-wc05-13503014.nxedge.io/wp-content/uploads/2024/10/MV-Recreation-Dept.png
END:VEVENT
BEGIN:VEVENT
DTSTART;TZID=America/Denver:20241112T070000
DTEND;TZID=America/Denver:20241112T100000
DTSTAMP:20260421T133756
CREATED:20241010T173756Z
LAST-MODIFIED:20241016T224605Z
UID:10000781-1731394800-1731405600@skihicomplex.com
SUMMARY:Opening Walking
DESCRIPTION:
URL:https://skihicomplex.com/event/opening-walking/2024-11-12/
LOCATION:Outcalt Event & Conference at SLV Ski Hi Complex
CATEGORIES:Event Center
ATTACH;FMTTYPE=image/png:https://eadn-wc05-13503014.nxedge.io/wp-content/uploads/2024/10/Open-Walking-24-25.png
END:VEVENT
BEGIN:VEVENT
DTSTART;TZID=America/Denver:20241112T163000
DTEND;TZID=America/Denver:20241112T200000
DTSTAMP:20260421T133756
CREATED:20241009T195019Z
LAST-MODIFIED:20241009T195019Z
UID:10000749-1731429000-1731441600@skihicomplex.com
SUMMARY:MV Recreation - Youth Basketball Practice
DESCRIPTION:
URL:https://skihicomplex.com/event/mv-recreation-youth-basketball-practice-2/2024-11-12/
LOCATION:Outcalt Event & Conference at SLV Ski Hi Complex
CATEGORIES:Event Center
ATTACH;FMTTYPE=image/png:https://eadn-wc05-13503014.nxedge.io/wp-content/uploads/2024/10/MV-Recreation-Dept.png
END:VEVENT
BEGIN:VEVENT
DTSTART;TZID=America/Denver:20241112T170000
DTEND;TZID=America/Denver:20241112T190000
DTSTAMP:20260421T133756
CREATED:20241010T174434Z
LAST-MODIFIED:20241017T155836Z
UID:10000881-1731430800-1731438000@skihicomplex.com
SUMMARY:Open Walking
DESCRIPTION:
URL:https://skihicomplex.com/event/open-walking/2024-11-12/
LOCATION:Outcalt Event & Conference at SLV Ski Hi Complex
CATEGORIES:Event Center
ATTACH;FMTTYPE=image/png:https://eadn-wc05-13503014.nxedge.io/wp-content/uploads/2024/10/Open-Walking-24-25.png
END:VEVENT
BEGIN:VEVENT
DTSTART;TZID=America/Denver:20241113T070000
DTEND;TZID=America/Denver:20241113T100000
DTSTAMP:20260421T133756
CREATED:20241010T173756Z
LAST-MODIFIED:20241016T224605Z
UID:10000782-1731481200-1731492000@skihicomplex.com
SUMMARY:Opening Walking
DESCRIPTION:
URL:https://skihicomplex.com/event/opening-walking/2024-11-13/
LOCATION:Outcalt Event & Conference at SLV Ski Hi Complex
CATEGORIES:Event Center
ATTACH;FMTTYPE=image/png:https://eadn-wc05-13503014.nxedge.io/wp-content/uploads/2024/10/Open-Walking-24-25.png
END:VEVENT
BEGIN:VEVENT
DTSTART;TZID=America/Denver:20241113T170000
DTEND;TZID=America/Denver:20241113T190000
DTSTAMP:20260421T133756
CREATED:20241010T174434Z
LAST-MODIFIED:20241017T155836Z
UID:10000882-1731517200-1731524400@skihicomplex.com
SUMMARY:Open Walking
DESCRIPTION:
URL:https://skihicomplex.com/event/open-walking/2024-11-13/
LOCATION:Outcalt Event & Conference at SLV Ski Hi Complex
CATEGORIES:Event Center
ATTACH;FMTTYPE=image/png:https://eadn-wc05-13503014.nxedge.io/wp-content/uploads/2024/10/Open-Walking-24-25.png
END:VEVENT
BEGIN:VEVENT
DTSTART;TZID=America/Denver:20241113T180000
DTEND;TZID=America/Denver:20241113T203000
DTSTAMP:20260421T133756
CREATED:20241009T195333Z
LAST-MODIFIED:20241016T224919Z
UID:10001012-1731520800-1731529800@skihicomplex.com
SUMMARY:MV Recreation - Youth Basketball Games
DESCRIPTION:
URL:https://skihicomplex.com/event/mv-recreation-youth-basketball-games/2024-11-13/
LOCATION:Outcalt Event & Conference at SLV Ski Hi Complex
CATEGORIES:Event Center
ATTACH;FMTTYPE=image/png:https://eadn-wc05-13503014.nxedge.io/wp-content/uploads/2024/10/MV-Recreation-Dept.png
END:VEVENT
BEGIN:VEVENT
DTSTART;TZID=America/Denver:20241114T070000
DTEND;TZID=America/Denver:20241114T100000
DTSTAMP:20260421T133756
CREATED:20241010T173756Z
LAST-MODIFIED:20241016T224605Z
UID:10000783-1731567600-1731578400@skihicomplex.com
SUMMARY:Opening Walking
DESCRIPTION:
URL:https://skihicomplex.com/event/opening-walking/2024-11-14/
LOCATION:Outcalt Event & Conference at SLV Ski Hi Complex
CATEGORIES:Event Center
ATTACH;FMTTYPE=image/png:https://eadn-wc05-13503014.nxedge.io/wp-content/uploads/2024/10/Open-Walking-24-25.png
END:VEVENT
BEGIN:VEVENT
DTSTART;TZID=America/Denver:20241114T163000
DTEND;TZID=America/Denver:20241114T200000
DTSTAMP:20260421T133756
CREATED:20241009T202022Z
LAST-MODIFIED:20241009T202022Z
UID:10000756-1731601800-1731614400@skihicomplex.com
SUMMARY:MV Recreation - Youth Basketball Practice
DESCRIPTION:
URL:https://skihicomplex.com/event/mv-recreation-youth-basketball-practice-3/2024-11-14/
LOCATION:Outcalt Event & Conference at SLV Ski Hi Complex
CATEGORIES:Event Center
ATTACH;FMTTYPE=image/png:https://eadn-wc05-13503014.nxedge.io/wp-content/uploads/2024/10/MV-Recreation-Dept.png
END:VEVENT
BEGIN:VEVENT
DTSTART;TZID=America/Denver:20241114T170000
DTEND;TZID=America/Denver:20241114T190000
DTSTAMP:20260421T133756
CREATED:20241010T174434Z
LAST-MODIFIED:20241017T155836Z
UID:10000883-1731603600-1731610800@skihicomplex.com
SUMMARY:Open Walking
DESCRIPTION:
URL:https://skihicomplex.com/event/open-walking/2024-11-14/
LOCATION:Outcalt Event & Conference at SLV Ski Hi Complex
CATEGORIES:Event Center
ATTACH;FMTTYPE=image/png:https://eadn-wc05-13503014.nxedge.io/wp-content/uploads/2024/10/Open-Walking-24-25.png
END:VEVENT
BEGIN:VEVENT
DTSTART;TZID=America/Denver:20241116T083000
DTEND;TZID=America/Denver:20241116T120000
DTSTAMP:20260421T133756
CREATED:20241009T202252Z
LAST-MODIFIED:20241009T204744Z
UID:10000764-1731745800-1731758400@skihicomplex.com
SUMMARY:MV Recreation - Youth Basketball Games
DESCRIPTION:
URL:https://skihicomplex.com/event/mv-recreation-youth-basketball-games-2/2024-11-16/
LOCATION:Outcalt Event & Conference at SLV Ski Hi Complex
CATEGORIES:Event Center
ATTACH;FMTTYPE=image/png:https://eadn-wc05-13503014.nxedge.io/wp-content/uploads/2024/10/MV-Recreation-Dept.png
END:VEVENT
BEGIN:VEVENT
DTSTART;TZID=America/Denver:20241118T070000
DTEND;TZID=America/Denver:20241118T100000
DTSTAMP:20260421T133756
CREATED:20241010T173756Z
LAST-MODIFIED:20241016T224605Z
UID:10000784-1731913200-1731924000@skihicomplex.com
SUMMARY:Opening Walking
DESCRIPTION:
URL:https://skihicomplex.com/event/opening-walking/2024-11-18/
LOCATION:Outcalt Event & Conference at SLV Ski Hi Complex
CATEGORIES:Event Center
ATTACH;FMTTYPE=image/png:https://eadn-wc05-13503014.nxedge.io/wp-content/uploads/2024/10/Open-Walking-24-25.png
END:VEVENT
BEGIN:VEVENT
DTSTART;TZID=America/Denver:20241118T163000
DTEND;TZID=America/Denver:20241118T200000
DTSTAMP:20260421T133756
CREATED:20241009T194553Z
LAST-MODIFIED:20241016T224828Z
UID:10000742-1731947400-1731960000@skihicomplex.com
SUMMARY:MV Recreation - Youth Basketball Practice
DESCRIPTION:
URL:https://skihicomplex.com/event/mv-recreation-youth-basketball-practice/2024-11-18/
LOCATION:Outcalt Event & Conference at SLV Ski Hi Complex
CATEGORIES:Event Center
ATTACH;FMTTYPE=image/png:https://eadn-wc05-13503014.nxedge.io/wp-content/uploads/2024/10/MV-Recreation-Dept.png
END:VEVENT
BEGIN:VEVENT
DTSTART;TZID=America/Denver:20241118T170000
DTEND;TZID=America/Denver:20241118T190000
DTSTAMP:20260421T133756
CREATED:20241010T174434Z
LAST-MODIFIED:20241017T155836Z
UID:10000884-1731949200-1731956400@skihicomplex.com
SUMMARY:Open Walking
DESCRIPTION:
URL:https://skihicomplex.com/event/open-walking/2024-11-18/
LOCATION:Outcalt Event & Conference at SLV Ski Hi Complex
CATEGORIES:Event Center
ATTACH;FMTTYPE=image/png:https://eadn-wc05-13503014.nxedge.io/wp-content/uploads/2024/10/Open-Walking-24-25.png
END:VEVENT
BEGIN:VEVENT
DTSTART;TZID=America/Denver:20241119T070000
DTEND;TZID=America/Denver:20241119T100000
DTSTAMP:20260421T133756
CREATED:20241010T173756Z
LAST-MODIFIED:20241016T224605Z
UID:10000785-1731999600-1732010400@skihicomplex.com
SUMMARY:Opening Walking
DESCRIPTION:
URL:https://skihicomplex.com/event/opening-walking/2024-11-19/
LOCATION:Outcalt Event & Conference at SLV Ski Hi Complex
CATEGORIES:Event Center
ATTACH;FMTTYPE=image/png:https://eadn-wc05-13503014.nxedge.io/wp-content/uploads/2024/10/Open-Walking-24-25.png
END:VEVENT
BEGIN:VEVENT
DTSTART;TZID=America/Denver:20241119T163000
DTEND;TZID=America/Denver:20241119T200000
DTSTAMP:20260421T133756
CREATED:20241009T195019Z
LAST-MODIFIED:20241009T195019Z
UID:10000750-1732033800-1732046400@skihicomplex.com
SUMMARY:MV Recreation - Youth Basketball Practice
DESCRIPTION:
URL:https://skihicomplex.com/event/mv-recreation-youth-basketball-practice-2/2024-11-19/
LOCATION:Outcalt Event & Conference at SLV Ski Hi Complex
CATEGORIES:Event Center
ATTACH;FMTTYPE=image/png:https://eadn-wc05-13503014.nxedge.io/wp-content/uploads/2024/10/MV-Recreation-Dept.png
END:VEVENT
BEGIN:VEVENT
DTSTART;TZID=America/Denver:20241119T170000
DTEND;TZID=America/Denver:20241119T190000
DTSTAMP:20260421T133756
CREATED:20241010T174434Z
LAST-MODIFIED:20241017T155836Z
UID:10000885-1732035600-1732042800@skihicomplex.com
SUMMARY:Open Walking
DESCRIPTION:
URL:https://skihicomplex.com/event/open-walking/2024-11-19/
LOCATION:Outcalt Event & Conference at SLV Ski Hi Complex
CATEGORIES:Event Center
ATTACH;FMTTYPE=image/png:https://eadn-wc05-13503014.nxedge.io/wp-content/uploads/2024/10/Open-Walking-24-25.png
END:VEVENT
BEGIN:VEVENT
DTSTART;TZID=America/Denver:20241120T070000
DTEND;TZID=America/Denver:20241120T100000
DTSTAMP:20260421T133756
CREATED:20241010T173756Z
LAST-MODIFIED:20241016T224605Z
UID:10000786-1732086000-1732096800@skihicomplex.com
SUMMARY:Opening Walking
DESCRIPTION:
URL:https://skihicomplex.com/event/opening-walking/2024-11-20/
LOCATION:Outcalt Event & Conference at SLV Ski Hi Complex
CATEGORIES:Event Center
ATTACH;FMTTYPE=image/png:https://eadn-wc05-13503014.nxedge.io/wp-content/uploads/2024/10/Open-Walking-24-25.png
END:VEVENT
BEGIN:VEVENT
DTSTART;TZID=America/Denver:20241120T170000
DTEND;TZID=America/Denver:20241120T190000
DTSTAMP:20260421T133756
CREATED:20241010T174434Z
LAST-MODIFIED:20241017T155836Z
UID:10000886-1732122000-1732129200@skihicomplex.com
SUMMARY:Open Walking
DESCRIPTION:
URL:https://skihicomplex.com/event/open-walking/2024-11-20/
LOCATION:Outcalt Event & Conference at SLV Ski Hi Complex
CATEGORIES:Event Center
ATTACH;FMTTYPE=image/png:https://eadn-wc05-13503014.nxedge.io/wp-content/uploads/2024/10/Open-Walking-24-25.png
END:VEVENT
BEGIN:VEVENT
DTSTART;TZID=America/Denver:20241120T173000
DTEND;TZID=America/Denver:20241120T183000
DTSTAMP:20260421T133756
CREATED:20240924T195236Z
LAST-MODIFIED:20241106T192719Z
UID:10000551-1732123800-1732127400@skihicomplex.com
SUMMARY:Mini Cheerleaders Practice
DESCRIPTION:Event Center – Mini Cheerleaders Practice – 5:30 pm – 6:30 pm
URL:https://skihicomplex.com/event/mini-cheerleaders-practice/2024-11-20/
LOCATION:Outcalt Event & Conference at SLV Ski Hi Complex
CATEGORIES:Event Center
END:VEVENT
BEGIN:VEVENT
DTSTART;TZID=America/Denver:20241120T180000
DTEND;TZID=America/Denver:20241120T203000
DTSTAMP:20260421T133756
CREATED:20241009T195333Z
LAST-MODIFIED:20241016T224919Z
UID:10001013-1732125600-1732134600@skihicomplex.com
SUMMARY:MV Recreation - Youth Basketball Games
DESCRIPTION:
URL:https://skihicomplex.com/event/mv-recreation-youth-basketball-games/2024-11-20/
LOCATION:Outcalt Event & Conference at SLV Ski Hi Complex
CATEGORIES:Event Center
ATTACH;FMTTYPE=image/png:https://eadn-wc05-13503014.nxedge.io/wp-content/uploads/2024/10/MV-Recreation-Dept.png
END:VEVENT
BEGIN:VEVENT
DTSTART;TZID=America/Denver:20241121T070000
DTEND;TZID=America/Denver:20241121T100000
DTSTAMP:20260421T133756
CREATED:20241010T173756Z
LAST-MODIFIED:20241016T224605Z
UID:10000787-1732172400-1732183200@skihicomplex.com
SUMMARY:Opening Walking
DESCRIPTION:
URL:https://skihicomplex.com/event/opening-walking/2024-11-21/
LOCATION:Outcalt Event & Conference at SLV Ski Hi Complex
CATEGORIES:Event Center
ATTACH;FMTTYPE=image/png:https://eadn-wc05-13503014.nxedge.io/wp-content/uploads/2024/10/Open-Walking-24-25.png
END:VEVENT
BEGIN:VEVENT
DTSTART;TZID=America/Denver:20241121T163000
DTEND;TZID=America/Denver:20241121T200000
DTSTAMP:20260421T133756
CREATED:20241009T202022Z
LAST-MODIFIED:20241009T202022Z
UID:10000757-1732206600-1732219200@skihicomplex.com
SUMMARY:MV Recreation - Youth Basketball Practice
DESCRIPTION:
URL:https://skihicomplex.com/event/mv-recreation-youth-basketball-practice-3/2024-11-21/
LOCATION:Outcalt Event & Conference at SLV Ski Hi Complex
CATEGORIES:Event Center
ATTACH;FMTTYPE=image/png:https://eadn-wc05-13503014.nxedge.io/wp-content/uploads/2024/10/MV-Recreation-Dept.png
END:VEVENT
BEGIN:VEVENT
DTSTART;TZID=America/Denver:20241121T170000
DTEND;TZID=America/Denver:20241121T190000
DTSTAMP:20260421T133756
CREATED:20241010T174434Z
LAST-MODIFIED:20241017T155836Z
UID:10000887-1732208400-1732215600@skihicomplex.com
SUMMARY:Open Walking
DESCRIPTION:
URL:https://skihicomplex.com/event/open-walking/2024-11-21/
LOCATION:Outcalt Event & Conference at SLV Ski Hi Complex
CATEGORIES:Event Center
ATTACH;FMTTYPE=image/png:https://eadn-wc05-13503014.nxedge.io/wp-content/uploads/2024/10/Open-Walking-24-25.png
END:VEVENT
BEGIN:VEVENT
DTSTART;TZID=America/Denver:20241123T083000
DTEND;TZID=America/Denver:20241123T120000
DTSTAMP:20260421T133756
CREATED:20241009T202252Z
LAST-MODIFIED:20241009T204744Z
UID:10000765-1732350600-1732363200@skihicomplex.com
SUMMARY:MV Recreation - Youth Basketball Games
DESCRIPTION:
URL:https://skihicomplex.com/event/mv-recreation-youth-basketball-games-2/2024-11-23/
LOCATION:Outcalt Event & Conference at SLV Ski Hi Complex
CATEGORIES:Event Center
ATTACH;FMTTYPE=image/png:https://eadn-wc05-13503014.nxedge.io/wp-content/uploads/2024/10/MV-Recreation-Dept.png
END:VEVENT
BEGIN:VEVENT
DTSTART;TZID=America/Denver:20241125T070000
DTEND;TZID=America/Denver:20241125T100000
DTSTAMP:20260421T133756
CREATED:20241010T173756Z
LAST-MODIFIED:20241016T224605Z
UID:10000788-1732518000-1732528800@skihicomplex.com
SUMMARY:Opening Walking
DESCRIPTION:
URL:https://skihicomplex.com/event/opening-walking/2024-11-25/
LOCATION:Outcalt Event & Conference at SLV Ski Hi Complex
CATEGORIES:Event Center
ATTACH;FMTTYPE=image/png:https://eadn-wc05-13503014.nxedge.io/wp-content/uploads/2024/10/Open-Walking-24-25.png
END:VEVENT
BEGIN:VEVENT
DTSTART;TZID=America/Denver:20241125T163000
DTEND;TZID=America/Denver:20241125T200000
DTSTAMP:20260421T133756
CREATED:20241009T194553Z
LAST-MODIFIED:20241016T224828Z
UID:10000743-1732552200-1732564800@skihicomplex.com
SUMMARY:MV Recreation - Youth Basketball Practice
DESCRIPTION:
URL:https://skihicomplex.com/event/mv-recreation-youth-basketball-practice/2024-11-25/
LOCATION:Outcalt Event & Conference at SLV Ski Hi Complex
CATEGORIES:Event Center
ATTACH;FMTTYPE=image/png:https://eadn-wc05-13503014.nxedge.io/wp-content/uploads/2024/10/MV-Recreation-Dept.png
END:VEVENT
BEGIN:VEVENT
DTSTART;TZID=America/Denver:20241125T170000
DTEND;TZID=America/Denver:20241125T190000
DTSTAMP:20260421T133756
CREATED:20241010T174434Z
LAST-MODIFIED:20241017T155836Z
UID:10000888-1732554000-1732561200@skihicomplex.com
SUMMARY:Open Walking
DESCRIPTION:
URL:https://skihicomplex.com/event/open-walking/2024-11-25/
LOCATION:Outcalt Event & Conference at SLV Ski Hi Complex
CATEGORIES:Event Center
ATTACH;FMTTYPE=image/png:https://eadn-wc05-13503014.nxedge.io/wp-content/uploads/2024/10/Open-Walking-24-25.png
END:VEVENT
BEGIN:VEVENT
DTSTART;TZID=America/Denver:20241126T070000
DTEND;TZID=America/Denver:20241126T100000
DTSTAMP:20260421T133757
CREATED:20241010T173756Z
LAST-MODIFIED:20241016T224605Z
UID:10000789-1732604400-1732615200@skihicomplex.com
SUMMARY:Opening Walking
DESCRIPTION:
URL:https://skihicomplex.com/event/opening-walking/2024-11-26/
LOCATION:Outcalt Event & Conference at SLV Ski Hi Complex
CATEGORIES:Event Center
ATTACH;FMTTYPE=image/png:https://eadn-wc05-13503014.nxedge.io/wp-content/uploads/2024/10/Open-Walking-24-25.png
END:VEVENT
END:VCALENDAR