BEGIN:VCALENDAR
VERSION:2.0
PRODID:-//Outcalt Event Center Ski Hi Event Complex - ECPv6.15.17.1//NONSGML v1.0//EN
CALSCALE:GREGORIAN
METHOD:PUBLISH
X-WR-CALNAME:Outcalt Event Center Ski Hi Event Complex
X-ORIGINAL-URL:https://skihicomplex.com
X-WR-CALDESC:Events for Outcalt Event Center Ski Hi Event Complex
REFRESH-INTERVAL;VALUE=DURATION:PT1H
X-Robots-Tag:noindex
X-PUBLISHED-TTL:PT1H
BEGIN:VTIMEZONE
TZID:America/Denver
BEGIN:DAYLIGHT
TZOFFSETFROM:-0700
TZOFFSETTO:-0600
TZNAME:MDT
DTSTART:20240310T090000
END:DAYLIGHT
BEGIN:STANDARD
TZOFFSETFROM:-0600
TZOFFSETTO:-0700
TZNAME:MST
DTSTART:20241103T080000
END:STANDARD
BEGIN:DAYLIGHT
TZOFFSETFROM:-0700
TZOFFSETTO:-0600
TZNAME:MDT
DTSTART:20250309T090000
END:DAYLIGHT
BEGIN:STANDARD
TZOFFSETFROM:-0600
TZOFFSETTO:-0700
TZNAME:MST
DTSTART:20251102T080000
END:STANDARD
BEGIN:DAYLIGHT
TZOFFSETFROM:-0700
TZOFFSETTO:-0600
TZNAME:MDT
DTSTART:20260308T090000
END:DAYLIGHT
BEGIN:STANDARD
TZOFFSETFROM:-0600
TZOFFSETTO:-0700
TZNAME:MST
DTSTART:20261101T080000
END:STANDARD
END:VTIMEZONE
BEGIN:VEVENT
DTSTART;TZID=America/Denver:20250123T070000
DTEND;TZID=America/Denver:20250123T100000
DTSTAMP:20260420T215413
CREATED:20241010T173756Z
LAST-MODIFIED:20241016T224605Z
UID:10000819-1737615600-1737626400@skihicomplex.com
SUMMARY:Opening Walking
DESCRIPTION:
URL:https://skihicomplex.com/event/opening-walking/2025-01-23/
LOCATION:Outcalt Event & Conference at SLV Ski Hi Complex
CATEGORIES:Event Center
ATTACH;FMTTYPE=image/png:https://eadn-wc05-13503014.nxedge.io/wp-content/uploads/2024/10/Open-Walking-24-25.png
END:VEVENT
BEGIN:VEVENT
DTSTART;TZID=America/Denver:20250122T180000
DTEND;TZID=America/Denver:20250122T203000
DTSTAMP:20260420T215413
CREATED:20241009T195333Z
LAST-MODIFIED:20241016T224919Z
UID:10001017-1737568800-1737577800@skihicomplex.com
SUMMARY:MV Recreation - Youth Basketball Games
DESCRIPTION:
URL:https://skihicomplex.com/event/mv-recreation-youth-basketball-games/2025-01-22/
LOCATION:Outcalt Event & Conference at SLV Ski Hi Complex
CATEGORIES:Event Center
ATTACH;FMTTYPE=image/png:https://eadn-wc05-13503014.nxedge.io/wp-content/uploads/2024/10/MV-Recreation-Dept.png
END:VEVENT
BEGIN:VEVENT
DTSTART;TZID=America/Denver:20250122T170000
DTEND;TZID=America/Denver:20250122T190000
DTSTAMP:20260420T215413
CREATED:20241010T174434Z
LAST-MODIFIED:20241017T155836Z
UID:10000918-1737565200-1737572400@skihicomplex.com
SUMMARY:Open Walking
DESCRIPTION:
URL:https://skihicomplex.com/event/open-walking/2025-01-22/
LOCATION:Outcalt Event & Conference at SLV Ski Hi Complex
CATEGORIES:Event Center
ATTACH;FMTTYPE=image/png:https://eadn-wc05-13503014.nxedge.io/wp-content/uploads/2024/10/Open-Walking-24-25.png
END:VEVENT
BEGIN:VEVENT
DTSTART;TZID=America/Denver:20250122T070000
DTEND;TZID=America/Denver:20250122T100000
DTSTAMP:20260420T215413
CREATED:20241010T173756Z
LAST-MODIFIED:20241016T224605Z
UID:10000818-1737529200-1737540000@skihicomplex.com
SUMMARY:Opening Walking
DESCRIPTION:
URL:https://skihicomplex.com/event/opening-walking/2025-01-22/
LOCATION:Outcalt Event & Conference at SLV Ski Hi Complex
CATEGORIES:Event Center
ATTACH;FMTTYPE=image/png:https://eadn-wc05-13503014.nxedge.io/wp-content/uploads/2024/10/Open-Walking-24-25.png
END:VEVENT
BEGIN:VEVENT
DTSTART;TZID=America/Denver:20250121T170000
DTEND;TZID=America/Denver:20250121T190000
DTSTAMP:20260420T215413
CREATED:20241010T174434Z
LAST-MODIFIED:20241017T155836Z
UID:10000917-1737478800-1737486000@skihicomplex.com
SUMMARY:Open Walking
DESCRIPTION:
URL:https://skihicomplex.com/event/open-walking/2025-01-21/
LOCATION:Outcalt Event & Conference at SLV Ski Hi Complex
CATEGORIES:Event Center
ATTACH;FMTTYPE=image/png:https://eadn-wc05-13503014.nxedge.io/wp-content/uploads/2024/10/Open-Walking-24-25.png
END:VEVENT
BEGIN:VEVENT
DTSTART;TZID=America/Denver:20250121T070000
DTEND;TZID=America/Denver:20250121T100000
DTSTAMP:20260420T215413
CREATED:20241010T173756Z
LAST-MODIFIED:20241016T224605Z
UID:10000817-1737442800-1737453600@skihicomplex.com
SUMMARY:Opening Walking
DESCRIPTION:
URL:https://skihicomplex.com/event/opening-walking/2025-01-21/
LOCATION:Outcalt Event & Conference at SLV Ski Hi Complex
CATEGORIES:Event Center
ATTACH;FMTTYPE=image/png:https://eadn-wc05-13503014.nxedge.io/wp-content/uploads/2024/10/Open-Walking-24-25.png
END:VEVENT
BEGIN:VEVENT
DTSTART;TZID=America/Denver:20250120T170000
DTEND;TZID=America/Denver:20250120T190000
DTSTAMP:20260420T215413
CREATED:20241010T174434Z
LAST-MODIFIED:20241017T155836Z
UID:10000916-1737392400-1737399600@skihicomplex.com
SUMMARY:Open Walking
DESCRIPTION:
URL:https://skihicomplex.com/event/open-walking/2025-01-20/
LOCATION:Outcalt Event & Conference at SLV Ski Hi Complex
CATEGORIES:Event Center
ATTACH;FMTTYPE=image/png:https://eadn-wc05-13503014.nxedge.io/wp-content/uploads/2024/10/Open-Walking-24-25.png
END:VEVENT
BEGIN:VEVENT
DTSTART;TZID=America/Denver:20250120T163000
DTEND;TZID=America/Denver:20250120T200000
DTSTAMP:20260420T215413
CREATED:20241009T194553Z
LAST-MODIFIED:20241016T224828Z
UID:10000746-1737390600-1737403200@skihicomplex.com
SUMMARY:MV Recreation - Youth Basketball Practice
DESCRIPTION:
URL:https://skihicomplex.com/event/mv-recreation-youth-basketball-practice/2025-01-20/
LOCATION:Outcalt Event & Conference at SLV Ski Hi Complex
CATEGORIES:Event Center
ATTACH;FMTTYPE=image/png:https://eadn-wc05-13503014.nxedge.io/wp-content/uploads/2024/10/MV-Recreation-Dept.png
END:VEVENT
BEGIN:VEVENT
DTSTART;TZID=America/Denver:20250120T070000
DTEND;TZID=America/Denver:20250120T100000
DTSTAMP:20260420T215413
CREATED:20241010T173756Z
LAST-MODIFIED:20241016T224605Z
UID:10000816-1737356400-1737367200@skihicomplex.com
SUMMARY:Opening Walking
DESCRIPTION:
URL:https://skihicomplex.com/event/opening-walking/2025-01-20/
LOCATION:Outcalt Event & Conference at SLV Ski Hi Complex
CATEGORIES:Event Center
ATTACH;FMTTYPE=image/png:https://eadn-wc05-13503014.nxedge.io/wp-content/uploads/2024/10/Open-Walking-24-25.png
END:VEVENT
BEGIN:VEVENT
DTSTART;TZID=America/Denver:20250118T083000
DTEND;TZID=America/Denver:20250118T120000
DTSTAMP:20260420T215413
CREATED:20241009T202252Z
LAST-MODIFIED:20241009T204744Z
UID:10000768-1737189000-1737201600@skihicomplex.com
SUMMARY:MV Recreation - Youth Basketball Games
DESCRIPTION:
URL:https://skihicomplex.com/event/mv-recreation-youth-basketball-games-2/2025-01-18/
LOCATION:Outcalt Event & Conference at SLV Ski Hi Complex
CATEGORIES:Event Center
ATTACH;FMTTYPE=image/png:https://eadn-wc05-13503014.nxedge.io/wp-content/uploads/2024/10/MV-Recreation-Dept.png
END:VEVENT
BEGIN:VEVENT
DTSTART;TZID=America/Denver:20250116T170000
DTEND;TZID=America/Denver:20250116T190000
DTSTAMP:20260420T215413
CREATED:20241010T174434Z
LAST-MODIFIED:20241017T155836Z
UID:10000915-1737046800-1737054000@skihicomplex.com
SUMMARY:Open Walking
DESCRIPTION:
URL:https://skihicomplex.com/event/open-walking/2025-01-16/
LOCATION:Outcalt Event & Conference at SLV Ski Hi Complex
CATEGORIES:Event Center
ATTACH;FMTTYPE=image/png:https://eadn-wc05-13503014.nxedge.io/wp-content/uploads/2024/10/Open-Walking-24-25.png
END:VEVENT
BEGIN:VEVENT
DTSTART;TZID=America/Denver:20250116T163000
DTEND;TZID=America/Denver:20250116T200000
DTSTAMP:20260420T215413
CREATED:20241009T202022Z
LAST-MODIFIED:20241009T202022Z
UID:10000759-1737045000-1737057600@skihicomplex.com
SUMMARY:MV Recreation - Youth Basketball Practice
DESCRIPTION:
URL:https://skihicomplex.com/event/mv-recreation-youth-basketball-practice-3/2025-01-16/
LOCATION:Outcalt Event & Conference at SLV Ski Hi Complex
CATEGORIES:Event Center
ATTACH;FMTTYPE=image/png:https://eadn-wc05-13503014.nxedge.io/wp-content/uploads/2024/10/MV-Recreation-Dept.png
END:VEVENT
BEGIN:VEVENT
DTSTART;TZID=America/Denver:20250116T070000
DTEND;TZID=America/Denver:20250116T100000
DTSTAMP:20260420T215413
CREATED:20241010T173756Z
LAST-MODIFIED:20241016T224605Z
UID:10000815-1737010800-1737021600@skihicomplex.com
SUMMARY:Opening Walking
DESCRIPTION:
URL:https://skihicomplex.com/event/opening-walking/2025-01-16/
LOCATION:Outcalt Event & Conference at SLV Ski Hi Complex
CATEGORIES:Event Center
ATTACH;FMTTYPE=image/png:https://eadn-wc05-13503014.nxedge.io/wp-content/uploads/2024/10/Open-Walking-24-25.png
END:VEVENT
BEGIN:VEVENT
DTSTART;TZID=America/Denver:20250115T180000
DTEND;TZID=America/Denver:20250115T203000
DTSTAMP:20260420T215413
CREATED:20241009T195333Z
LAST-MODIFIED:20241016T224919Z
UID:10001016-1736964000-1736973000@skihicomplex.com
SUMMARY:MV Recreation - Youth Basketball Games
DESCRIPTION:
URL:https://skihicomplex.com/event/mv-recreation-youth-basketball-games/2025-01-15/
LOCATION:Outcalt Event & Conference at SLV Ski Hi Complex
CATEGORIES:Event Center
ATTACH;FMTTYPE=image/png:https://eadn-wc05-13503014.nxedge.io/wp-content/uploads/2024/10/MV-Recreation-Dept.png
END:VEVENT
BEGIN:VEVENT
DTSTART;TZID=America/Denver:20250115T170000
DTEND;TZID=America/Denver:20250115T190000
DTSTAMP:20260420T215413
CREATED:20241010T174434Z
LAST-MODIFIED:20241017T155836Z
UID:10000914-1736960400-1736967600@skihicomplex.com
SUMMARY:Open Walking
DESCRIPTION:
URL:https://skihicomplex.com/event/open-walking/2025-01-15/
LOCATION:Outcalt Event & Conference at SLV Ski Hi Complex
CATEGORIES:Event Center
ATTACH;FMTTYPE=image/png:https://eadn-wc05-13503014.nxedge.io/wp-content/uploads/2024/10/Open-Walking-24-25.png
END:VEVENT
BEGIN:VEVENT
DTSTART;TZID=America/Denver:20250115T070000
DTEND;TZID=America/Denver:20250115T100000
DTSTAMP:20260420T215413
CREATED:20241010T173756Z
LAST-MODIFIED:20241016T224605Z
UID:10000814-1736924400-1736935200@skihicomplex.com
SUMMARY:Opening Walking
DESCRIPTION:
URL:https://skihicomplex.com/event/opening-walking/2025-01-15/
LOCATION:Outcalt Event & Conference at SLV Ski Hi Complex
CATEGORIES:Event Center
ATTACH;FMTTYPE=image/png:https://eadn-wc05-13503014.nxedge.io/wp-content/uploads/2024/10/Open-Walking-24-25.png
END:VEVENT
BEGIN:VEVENT
DTSTART;TZID=America/Denver:20250114T170000
DTEND;TZID=America/Denver:20250114T190000
DTSTAMP:20260420T215413
CREATED:20241010T174434Z
LAST-MODIFIED:20241017T155836Z
UID:10000913-1736874000-1736881200@skihicomplex.com
SUMMARY:Open Walking
DESCRIPTION:
URL:https://skihicomplex.com/event/open-walking/2025-01-14/
LOCATION:Outcalt Event & Conference at SLV Ski Hi Complex
CATEGORIES:Event Center
ATTACH;FMTTYPE=image/png:https://eadn-wc05-13503014.nxedge.io/wp-content/uploads/2024/10/Open-Walking-24-25.png
END:VEVENT
BEGIN:VEVENT
DTSTART;TZID=America/Denver:20250114T070000
DTEND;TZID=America/Denver:20250114T100000
DTSTAMP:20260420T215413
CREATED:20241010T173756Z
LAST-MODIFIED:20241016T224605Z
UID:10000813-1736838000-1736848800@skihicomplex.com
SUMMARY:Opening Walking
DESCRIPTION:
URL:https://skihicomplex.com/event/opening-walking/2025-01-14/
LOCATION:Outcalt Event & Conference at SLV Ski Hi Complex
CATEGORIES:Event Center
ATTACH;FMTTYPE=image/png:https://eadn-wc05-13503014.nxedge.io/wp-content/uploads/2024/10/Open-Walking-24-25.png
END:VEVENT
BEGIN:VEVENT
DTSTART;TZID=America/Denver:20250113T170000
DTEND;TZID=America/Denver:20250113T190000
DTSTAMP:20260420T215413
CREATED:20241010T174434Z
LAST-MODIFIED:20241017T155836Z
UID:10000912-1736787600-1736794800@skihicomplex.com
SUMMARY:Open Walking
DESCRIPTION:
URL:https://skihicomplex.com/event/open-walking/2025-01-13/
LOCATION:Outcalt Event & Conference at SLV Ski Hi Complex
CATEGORIES:Event Center
ATTACH;FMTTYPE=image/png:https://eadn-wc05-13503014.nxedge.io/wp-content/uploads/2024/10/Open-Walking-24-25.png
END:VEVENT
BEGIN:VEVENT
DTSTART;TZID=America/Denver:20250113T163000
DTEND;TZID=America/Denver:20250113T200000
DTSTAMP:20260420T215413
CREATED:20241009T194553Z
LAST-MODIFIED:20241016T224828Z
UID:10000745-1736785800-1736798400@skihicomplex.com
SUMMARY:MV Recreation - Youth Basketball Practice
DESCRIPTION:
URL:https://skihicomplex.com/event/mv-recreation-youth-basketball-practice/2025-01-13/
LOCATION:Outcalt Event & Conference at SLV Ski Hi Complex
CATEGORIES:Event Center
ATTACH;FMTTYPE=image/png:https://eadn-wc05-13503014.nxedge.io/wp-content/uploads/2024/10/MV-Recreation-Dept.png
END:VEVENT
BEGIN:VEVENT
DTSTART;TZID=America/Denver:20250113T070000
DTEND;TZID=America/Denver:20250113T100000
DTSTAMP:20260420T215413
CREATED:20241010T173756Z
LAST-MODIFIED:20241016T224605Z
UID:10000812-1736751600-1736762400@skihicomplex.com
SUMMARY:Opening Walking
DESCRIPTION:
URL:https://skihicomplex.com/event/opening-walking/2025-01-13/
LOCATION:Outcalt Event & Conference at SLV Ski Hi Complex
CATEGORIES:Event Center
ATTACH;FMTTYPE=image/png:https://eadn-wc05-13503014.nxedge.io/wp-content/uploads/2024/10/Open-Walking-24-25.png
END:VEVENT
BEGIN:VEVENT
DTSTART;TZID=America/Denver:20250111T083000
DTEND;TZID=America/Denver:20250111T120000
DTSTAMP:20260420T215413
CREATED:20241009T202252Z
LAST-MODIFIED:20241009T204744Z
UID:10000767-1736584200-1736596800@skihicomplex.com
SUMMARY:MV Recreation - Youth Basketball Games
DESCRIPTION:
URL:https://skihicomplex.com/event/mv-recreation-youth-basketball-games-2/2025-01-11/
LOCATION:Outcalt Event & Conference at SLV Ski Hi Complex
CATEGORIES:Event Center
ATTACH;FMTTYPE=image/png:https://eadn-wc05-13503014.nxedge.io/wp-content/uploads/2024/10/MV-Recreation-Dept.png
END:VEVENT
BEGIN:VEVENT
DTSTART;TZID=America/Denver:20250109T170000
DTEND;TZID=America/Denver:20250109T190000
DTSTAMP:20260420T215413
CREATED:20241010T174434Z
LAST-MODIFIED:20241017T155836Z
UID:10000911-1736442000-1736449200@skihicomplex.com
SUMMARY:Open Walking
DESCRIPTION:
URL:https://skihicomplex.com/event/open-walking/2025-01-09/
LOCATION:Outcalt Event & Conference at SLV Ski Hi Complex
CATEGORIES:Event Center
ATTACH;FMTTYPE=image/png:https://eadn-wc05-13503014.nxedge.io/wp-content/uploads/2024/10/Open-Walking-24-25.png
END:VEVENT
BEGIN:VEVENT
DTSTART;TZID=America/Denver:20250109T163000
DTEND;TZID=America/Denver:20250109T200000
DTSTAMP:20260420T215413
CREATED:20241009T202022Z
LAST-MODIFIED:20241009T202022Z
UID:10000758-1736440200-1736452800@skihicomplex.com
SUMMARY:MV Recreation - Youth Basketball Practice
DESCRIPTION:
URL:https://skihicomplex.com/event/mv-recreation-youth-basketball-practice-3/2025-01-09/
LOCATION:Outcalt Event & Conference at SLV Ski Hi Complex
CATEGORIES:Event Center
ATTACH;FMTTYPE=image/png:https://eadn-wc05-13503014.nxedge.io/wp-content/uploads/2024/10/MV-Recreation-Dept.png
END:VEVENT
BEGIN:VEVENT
DTSTART;TZID=America/Denver:20250109T070000
DTEND;TZID=America/Denver:20250109T100000
DTSTAMP:20260420T215413
CREATED:20241010T173756Z
LAST-MODIFIED:20241016T224605Z
UID:10000811-1736406000-1736416800@skihicomplex.com
SUMMARY:Opening Walking
DESCRIPTION:
URL:https://skihicomplex.com/event/opening-walking/2025-01-09/
LOCATION:Outcalt Event & Conference at SLV Ski Hi Complex
CATEGORIES:Event Center
ATTACH;FMTTYPE=image/png:https://eadn-wc05-13503014.nxedge.io/wp-content/uploads/2024/10/Open-Walking-24-25.png
END:VEVENT
BEGIN:VEVENT
DTSTART;TZID=America/Denver:20250108T180000
DTEND;TZID=America/Denver:20250108T203000
DTSTAMP:20260420T215413
CREATED:20241009T195333Z
LAST-MODIFIED:20241016T224919Z
UID:10001015-1736359200-1736368200@skihicomplex.com
SUMMARY:MV Recreation - Youth Basketball Games
DESCRIPTION:
URL:https://skihicomplex.com/event/mv-recreation-youth-basketball-games/2025-01-08/
LOCATION:Outcalt Event & Conference at SLV Ski Hi Complex
CATEGORIES:Event Center
ATTACH;FMTTYPE=image/png:https://eadn-wc05-13503014.nxedge.io/wp-content/uploads/2024/10/MV-Recreation-Dept.png
END:VEVENT
BEGIN:VEVENT
DTSTART;TZID=America/Denver:20250108T170000
DTEND;TZID=America/Denver:20250108T190000
DTSTAMP:20260420T215413
CREATED:20241010T174434Z
LAST-MODIFIED:20241017T155836Z
UID:10000910-1736355600-1736362800@skihicomplex.com
SUMMARY:Open Walking
DESCRIPTION:
URL:https://skihicomplex.com/event/open-walking/2025-01-08/
LOCATION:Outcalt Event & Conference at SLV Ski Hi Complex
CATEGORIES:Event Center
ATTACH;FMTTYPE=image/png:https://eadn-wc05-13503014.nxedge.io/wp-content/uploads/2024/10/Open-Walking-24-25.png
END:VEVENT
BEGIN:VEVENT
DTSTART;TZID=America/Denver:20250108T070000
DTEND;TZID=America/Denver:20250108T100000
DTSTAMP:20260420T215413
CREATED:20241010T173756Z
LAST-MODIFIED:20241016T224605Z
UID:10000810-1736319600-1736330400@skihicomplex.com
SUMMARY:Opening Walking
DESCRIPTION:
URL:https://skihicomplex.com/event/opening-walking/2025-01-08/
LOCATION:Outcalt Event & Conference at SLV Ski Hi Complex
CATEGORIES:Event Center
ATTACH;FMTTYPE=image/png:https://eadn-wc05-13503014.nxedge.io/wp-content/uploads/2024/10/Open-Walking-24-25.png
END:VEVENT
BEGIN:VEVENT
DTSTART;TZID=America/Denver:20250107T170000
DTEND;TZID=America/Denver:20250107T190000
DTSTAMP:20260420T215413
CREATED:20241010T174434Z
LAST-MODIFIED:20241017T155836Z
UID:10000909-1736269200-1736276400@skihicomplex.com
SUMMARY:Open Walking
DESCRIPTION:
URL:https://skihicomplex.com/event/open-walking/2025-01-07/
LOCATION:Outcalt Event & Conference at SLV Ski Hi Complex
CATEGORIES:Event Center
ATTACH;FMTTYPE=image/png:https://eadn-wc05-13503014.nxedge.io/wp-content/uploads/2024/10/Open-Walking-24-25.png
END:VEVENT
BEGIN:VEVENT
DTSTART;TZID=America/Denver:20250107T070000
DTEND;TZID=America/Denver:20250107T100000
DTSTAMP:20260420T215413
CREATED:20241010T173756Z
LAST-MODIFIED:20241016T224605Z
UID:10000809-1736233200-1736244000@skihicomplex.com
SUMMARY:Opening Walking
DESCRIPTION:
URL:https://skihicomplex.com/event/opening-walking/2025-01-07/
LOCATION:Outcalt Event & Conference at SLV Ski Hi Complex
CATEGORIES:Event Center
ATTACH;FMTTYPE=image/png:https://eadn-wc05-13503014.nxedge.io/wp-content/uploads/2024/10/Open-Walking-24-25.png
END:VEVENT
END:VCALENDAR