BEGIN:VCALENDAR
VERSION:2.0
PRODID:-//Outcalt Event Center Ski Hi Event Complex - ECPv6.15.17.1//NONSGML v1.0//EN
CALSCALE:GREGORIAN
METHOD:PUBLISH
X-ORIGINAL-URL:https://skihicomplex.com
X-WR-CALDESC:Events for Outcalt Event Center Ski Hi Event Complex
REFRESH-INTERVAL;VALUE=DURATION:PT1H
X-Robots-Tag:noindex
X-PUBLISHED-TTL:PT1H
BEGIN:VTIMEZONE
TZID:America/Denver
BEGIN:DAYLIGHT
TZOFFSETFROM:-0700
TZOFFSETTO:-0600
TZNAME:MDT
DTSTART:20240310T090000
END:DAYLIGHT
BEGIN:STANDARD
TZOFFSETFROM:-0600
TZOFFSETTO:-0700
TZNAME:MST
DTSTART:20241103T080000
END:STANDARD
BEGIN:DAYLIGHT
TZOFFSETFROM:-0700
TZOFFSETTO:-0600
TZNAME:MDT
DTSTART:20250309T090000
END:DAYLIGHT
BEGIN:STANDARD
TZOFFSETFROM:-0600
TZOFFSETTO:-0700
TZNAME:MST
DTSTART:20251102T080000
END:STANDARD
BEGIN:DAYLIGHT
TZOFFSETFROM:-0700
TZOFFSETTO:-0600
TZNAME:MDT
DTSTART:20260308T090000
END:DAYLIGHT
BEGIN:STANDARD
TZOFFSETFROM:-0600
TZOFFSETTO:-0700
TZNAME:MST
DTSTART:20261101T080000
END:STANDARD
END:VTIMEZONE
BEGIN:VEVENT
DTSTART;VALUE=DATE:20250822
DTEND;VALUE=DATE:20250824
DTSTAMP:20260419T193646
CREATED:20241015T011559Z
LAST-MODIFIED:20241015T011559Z
UID:10001049-1755820800-1755993599@skihicomplex.com
SUMMARY:Private Event
DESCRIPTION:
URL:https://skihicomplex.com/event/private-event-30/
LOCATION:Outcalt Event & Conference at SLV Ski Hi Complex
CATEGORIES:Event Center
END:VEVENT
BEGIN:VEVENT
DTSTART;VALUE=DATE:20250815
DTEND;VALUE=DATE:20250817
DTSTAMP:20260419T193646
CREATED:20241015T011535Z
LAST-MODIFIED:20241015T011535Z
UID:10001048-1755216000-1755388799@skihicomplex.com
SUMMARY:Private Event
DESCRIPTION:
URL:https://skihicomplex.com/event/private-event-29/
LOCATION:Outcalt Event & Conference at SLV Ski Hi Complex
CATEGORIES:Event Center
END:VEVENT
BEGIN:VEVENT
DTSTART;VALUE=DATE:20250727
DTEND;VALUE=DATE:20250728
DTSTAMP:20260419T193646
CREATED:20250618T222059Z
LAST-MODIFIED:20250618T222059Z
UID:10001249-1753574400-1753660799@skihicomplex.com
SUMMARY:Monte Vista Police Department - National Night Out
DESCRIPTION:
URL:https://skihicomplex.com/event/monte-vista-police-department-national-night-out/
LOCATION:Outcalt Event & Conference at SLV Ski Hi Complex
CATEGORIES:Event Center
END:VEVENT
BEGIN:VEVENT
DTSTART;TZID=America/Denver:20250712T220000
DTEND;TZID=America/Denver:20250713T020000
DTSTAMP:20260419T193646
CREATED:20250618T213409Z
LAST-MODIFIED:20250618T213556Z
UID:10001228-1752357600-1752372000@skihicomplex.com
SUMMARY:SKI-HI STAMPEDE  - Nightly Dance Featuring The Justin Kemp Band
DESCRIPTION:Come dance the night away with some good country music! Rodeo and Concert tickets are your entry to the dance or you can just come on in for a $10 cover charge!
URL:https://skihicomplex.com/event/ski-hi-stampede-nightly-dance-featuring-the-justin-kemp-band/2025-07-12/
LOCATION:Outcalt Event & Conference at SLV Ski Hi Complex
CATEGORIES:Event Center
ATTACH;FMTTYPE=image/png:https://eadn-wc05-13503014.nxedge.io/wp-content/uploads/2025/06/Blue-Stampede-Logo.png
END:VEVENT
BEGIN:VEVENT
DTSTART;TZID=America/Denver:20250711T220000
DTEND;TZID=America/Denver:20250712T020000
DTSTAMP:20260419T193646
CREATED:20250618T213409Z
LAST-MODIFIED:20250618T213556Z
UID:10001227-1752271200-1752285600@skihicomplex.com
SUMMARY:SKI-HI STAMPEDE  - Nightly Dance Featuring The Justin Kemp Band
DESCRIPTION:Come dance the night away with some good country music! Rodeo and Concert tickets are your entry to the dance or you can just come on in for a $10 cover charge!
URL:https://skihicomplex.com/event/ski-hi-stampede-nightly-dance-featuring-the-justin-kemp-band/2025-07-11/
LOCATION:Outcalt Event & Conference at SLV Ski Hi Complex
CATEGORIES:Event Center
ATTACH;FMTTYPE=image/png:https://eadn-wc05-13503014.nxedge.io/wp-content/uploads/2025/06/Blue-Stampede-Logo.png
END:VEVENT
BEGIN:VEVENT
DTSTART;TZID=America/Denver:20250710T220000
DTEND;TZID=America/Denver:20250711T020000
DTSTAMP:20260419T193646
CREATED:20250618T213409Z
LAST-MODIFIED:20250618T213556Z
UID:10001226-1752184800-1752199200@skihicomplex.com
SUMMARY:SKI-HI STAMPEDE  - Nightly Dance Featuring The Justin Kemp Band
DESCRIPTION:Come dance the night away with some good country music! Rodeo and Concert tickets are your entry to the dance or you can just come on in for a $10 cover charge!
URL:https://skihicomplex.com/event/ski-hi-stampede-nightly-dance-featuring-the-justin-kemp-band/2025-07-10/
LOCATION:Outcalt Event & Conference at SLV Ski Hi Complex
CATEGORIES:Event Center
ATTACH;FMTTYPE=image/png:https://eadn-wc05-13503014.nxedge.io/wp-content/uploads/2025/06/Blue-Stampede-Logo.png
END:VEVENT
BEGIN:VEVENT
DTSTART;VALUE=DATE:20250705
DTEND;VALUE=DATE:20250710
DTSTAMP:20260419T193646
CREATED:20250226T205551Z
LAST-MODIFIED:20250226T205551Z
UID:10001117-1751673600-1752105599@skihicomplex.com
SUMMARY:Unavailable
DESCRIPTION:
URL:https://skihicomplex.com/event/unavailable-3/
LOCATION:Outcalt Event & Conference at SLV Ski Hi Complex
CATEGORIES:Event Center
END:VEVENT
BEGIN:VEVENT
DTSTART;VALUE=DATE:20250620
DTEND;VALUE=DATE:20250622
DTSTAMP:20260419T193646
CREATED:20250226T210004Z
LAST-MODIFIED:20250226T210004Z
UID:10001121-1750377600-1750550399@skihicomplex.com
SUMMARY:Private Event
DESCRIPTION:
URL:https://skihicomplex.com/event/private-event-45/
LOCATION:Outcalt Event & Conference at SLV Ski Hi Complex
CATEGORIES:Event Center
END:VEVENT
BEGIN:VEVENT
DTSTART;VALUE=DATE:20250613
DTEND;VALUE=DATE:20250615
DTSTAMP:20260419T193646
CREATED:20250528T181923Z
LAST-MODIFIED:20250528T181923Z
UID:10001217-1749772800-1749945599@skihicomplex.com
SUMMARY:Private Event
DESCRIPTION:
URL:https://skihicomplex.com/event/private-event-74/
LOCATION:Outcalt Event & Conference at SLV Ski Hi Complex
CATEGORIES:Event Center
END:VEVENT
BEGIN:VEVENT
DTSTART;VALUE=DATE:20250610
DTEND;VALUE=DATE:20250611
DTSTAMP:20260419T193646
CREATED:20250618T221159Z
LAST-MODIFIED:20250618T221159Z
UID:10001236-1749513600-1749599999@skihicomplex.com
SUMMARY:Private Event
DESCRIPTION:
URL:https://skihicomplex.com/event/private-event-79/
LOCATION:Outcalt Event & Conference at SLV Ski Hi Complex
CATEGORIES:Event Center
END:VEVENT
BEGIN:VEVENT
DTSTART;TZID=America/Denver:20250606T190000
DTEND;TZID=America/Denver:20250606T230000
DTSTAMP:20260419T193646
CREATED:20250506T154244Z
LAST-MODIFIED:20250522T142040Z
UID:10001207-1749236400-1749250800@skihicomplex.com
SUMMARY:Dance - Featuring: The Buckshot Band
DESCRIPTION:
URL:https://skihicomplex.com/event/dance-featuring-the-buckshot-band/
LOCATION:Outcalt Event & Conference at SLV Ski Hi Complex
CATEGORIES:Event Center
ATTACH;FMTTYPE=image/png:https://eadn-wc05-13503014.nxedge.io/wp-content/uploads/2025/05/Ski-Hi-complex-presents.png
END:VEVENT
BEGIN:VEVENT
DTSTART;VALUE=DATE:20250530
DTEND;VALUE=DATE:20250602
DTSTAMP:20260419T193646
CREATED:20250226T204743Z
LAST-MODIFIED:20250528T182238Z
UID:10001111-1748563200-1748822399@skihicomplex.com
SUMMARY:Private Event
DESCRIPTION:
URL:https://skihicomplex.com/event/private-event-42/
LOCATION:Outcalt Event & Conference at SLV Ski Hi Complex
CATEGORIES:Event Center
END:VEVENT
BEGIN:VEVENT
DTSTART;VALUE=DATE:20250503
DTEND;VALUE=DATE:20250504
DTSTAMP:20260419T193646
CREATED:20250430T185615Z
LAST-MODIFIED:20250430T185615Z
UID:10001199-1746230400-1746316799@skihicomplex.com
SUMMARY:Private Event
DESCRIPTION:
URL:https://skihicomplex.com/event/private-event-63/
LOCATION:Outcalt Event & Conference at SLV Ski Hi Complex
CATEGORIES:Event Center
END:VEVENT
BEGIN:VEVENT
DTSTART;TZID=America/Denver:20250501T170000
DTEND;TZID=America/Denver:20250501T190000
DTSTAMP:20260419T193646
CREATED:20241010T174434Z
LAST-MODIFIED:20241017T155836Z
UID:10000975-1746118800-1746126000@skihicomplex.com
SUMMARY:Open Walking
DESCRIPTION:
URL:https://skihicomplex.com/event/open-walking/2025-05-01/
LOCATION:Outcalt Event & Conference at SLV Ski Hi Complex
CATEGORIES:Event Center
ATTACH;FMTTYPE=image/png:https://eadn-wc05-13503014.nxedge.io/wp-content/uploads/2024/10/Open-Walking-24-25.png
END:VEVENT
BEGIN:VEVENT
DTSTART;TZID=America/Denver:20250501T070000
DTEND;TZID=America/Denver:20250501T100000
DTSTAMP:20260419T193646
CREATED:20241010T173756Z
LAST-MODIFIED:20241016T224605Z
UID:10000875-1746082800-1746093600@skihicomplex.com
SUMMARY:Opening Walking
DESCRIPTION:
URL:https://skihicomplex.com/event/opening-walking/2025-05-01/
LOCATION:Outcalt Event & Conference at SLV Ski Hi Complex
CATEGORIES:Event Center
ATTACH;FMTTYPE=image/png:https://eadn-wc05-13503014.nxedge.io/wp-content/uploads/2024/10/Open-Walking-24-25.png
END:VEVENT
BEGIN:VEVENT
DTSTART;TZID=America/Denver:20250430T170000
DTEND;TZID=America/Denver:20250430T190000
DTSTAMP:20260419T193646
CREATED:20241010T174434Z
LAST-MODIFIED:20241017T155836Z
UID:10000974-1746032400-1746039600@skihicomplex.com
SUMMARY:Open Walking
DESCRIPTION:
URL:https://skihicomplex.com/event/open-walking/2025-04-30/
LOCATION:Outcalt Event & Conference at SLV Ski Hi Complex
CATEGORIES:Event Center
ATTACH;FMTTYPE=image/png:https://eadn-wc05-13503014.nxedge.io/wp-content/uploads/2024/10/Open-Walking-24-25.png
END:VEVENT
BEGIN:VEVENT
DTSTART;TZID=America/Denver:20250430T070000
DTEND;TZID=America/Denver:20250430T100000
DTSTAMP:20260419T193646
CREATED:20241010T173756Z
LAST-MODIFIED:20241016T224605Z
UID:10000874-1745996400-1746007200@skihicomplex.com
SUMMARY:Opening Walking
DESCRIPTION:
URL:https://skihicomplex.com/event/opening-walking/2025-04-30/
LOCATION:Outcalt Event & Conference at SLV Ski Hi Complex
CATEGORIES:Event Center
ATTACH;FMTTYPE=image/png:https://eadn-wc05-13503014.nxedge.io/wp-content/uploads/2024/10/Open-Walking-24-25.png
END:VEVENT
BEGIN:VEVENT
DTSTART;TZID=America/Denver:20250429T170000
DTEND;TZID=America/Denver:20250429T190000
DTSTAMP:20260419T193646
CREATED:20241010T174434Z
LAST-MODIFIED:20241017T155836Z
UID:10000973-1745946000-1745953200@skihicomplex.com
SUMMARY:Open Walking
DESCRIPTION:
URL:https://skihicomplex.com/event/open-walking/2025-04-29/
LOCATION:Outcalt Event & Conference at SLV Ski Hi Complex
CATEGORIES:Event Center
ATTACH;FMTTYPE=image/png:https://eadn-wc05-13503014.nxedge.io/wp-content/uploads/2024/10/Open-Walking-24-25.png
END:VEVENT
BEGIN:VEVENT
DTSTART;TZID=America/Denver:20250429T070000
DTEND;TZID=America/Denver:20250429T100000
DTSTAMP:20260419T193646
CREATED:20241010T173756Z
LAST-MODIFIED:20241016T224605Z
UID:10000873-1745910000-1745920800@skihicomplex.com
SUMMARY:Opening Walking
DESCRIPTION:
URL:https://skihicomplex.com/event/opening-walking/2025-04-29/
LOCATION:Outcalt Event & Conference at SLV Ski Hi Complex
CATEGORIES:Event Center
ATTACH;FMTTYPE=image/png:https://eadn-wc05-13503014.nxedge.io/wp-content/uploads/2024/10/Open-Walking-24-25.png
END:VEVENT
BEGIN:VEVENT
DTSTART;TZID=America/Denver:20250428T170000
DTEND;TZID=America/Denver:20250428T190000
DTSTAMP:20260419T193646
CREATED:20241010T174434Z
LAST-MODIFIED:20241017T155836Z
UID:10000972-1745859600-1745866800@skihicomplex.com
SUMMARY:Open Walking
DESCRIPTION:
URL:https://skihicomplex.com/event/open-walking/2025-04-28/
LOCATION:Outcalt Event & Conference at SLV Ski Hi Complex
CATEGORIES:Event Center
ATTACH;FMTTYPE=image/png:https://eadn-wc05-13503014.nxedge.io/wp-content/uploads/2024/10/Open-Walking-24-25.png
END:VEVENT
BEGIN:VEVENT
DTSTART;TZID=America/Denver:20250428T070000
DTEND;TZID=America/Denver:20250428T100000
DTSTAMP:20260419T193646
CREATED:20241010T173756Z
LAST-MODIFIED:20241016T224605Z
UID:10000872-1745823600-1745834400@skihicomplex.com
SUMMARY:Opening Walking
DESCRIPTION:
URL:https://skihicomplex.com/event/opening-walking/2025-04-28/
LOCATION:Outcalt Event & Conference at SLV Ski Hi Complex
CATEGORIES:Event Center
ATTACH;FMTTYPE=image/png:https://eadn-wc05-13503014.nxedge.io/wp-content/uploads/2024/10/Open-Walking-24-25.png
END:VEVENT
BEGIN:VEVENT
DTSTART;TZID=America/Denver:20250427T160000
DTEND;TZID=America/Denver:20250427T180000
DTSTAMP:20260419T193646
CREATED:20250430T185439Z
LAST-MODIFIED:20250430T185439Z
UID:10001195-1745769600-1745776800@skihicomplex.com
SUMMARY:Dance Lessons
DESCRIPTION:
URL:https://skihicomplex.com/event/dance-lessons-6/
LOCATION:Outcalt Event & Conference at SLV Ski Hi Complex
CATEGORIES:Event Center
END:VEVENT
BEGIN:VEVENT
DTSTART;TZID=America/Denver:20250424T170000
DTEND;TZID=America/Denver:20250424T190000
DTSTAMP:20260419T193646
CREATED:20241010T174434Z
LAST-MODIFIED:20241017T155836Z
UID:10000971-1745514000-1745521200@skihicomplex.com
SUMMARY:Open Walking
DESCRIPTION:
URL:https://skihicomplex.com/event/open-walking/2025-04-24/
LOCATION:Outcalt Event & Conference at SLV Ski Hi Complex
CATEGORIES:Event Center
ATTACH;FMTTYPE=image/png:https://eadn-wc05-13503014.nxedge.io/wp-content/uploads/2024/10/Open-Walking-24-25.png
END:VEVENT
BEGIN:VEVENT
DTSTART;TZID=America/Denver:20250424T070000
DTEND;TZID=America/Denver:20250424T100000
DTSTAMP:20260419T193646
CREATED:20241010T173756Z
LAST-MODIFIED:20241016T224605Z
UID:10000871-1745478000-1745488800@skihicomplex.com
SUMMARY:Opening Walking
DESCRIPTION:
URL:https://skihicomplex.com/event/opening-walking/2025-04-24/
LOCATION:Outcalt Event & Conference at SLV Ski Hi Complex
CATEGORIES:Event Center
ATTACH;FMTTYPE=image/png:https://eadn-wc05-13503014.nxedge.io/wp-content/uploads/2024/10/Open-Walking-24-25.png
END:VEVENT
BEGIN:VEVENT
DTSTART;TZID=America/Denver:20250423T170000
DTEND;TZID=America/Denver:20250423T190000
DTSTAMP:20260419T193646
CREATED:20241010T174434Z
LAST-MODIFIED:20241017T155836Z
UID:10000970-1745427600-1745434800@skihicomplex.com
SUMMARY:Open Walking
DESCRIPTION:
URL:https://skihicomplex.com/event/open-walking/2025-04-23/
LOCATION:Outcalt Event & Conference at SLV Ski Hi Complex
CATEGORIES:Event Center
ATTACH;FMTTYPE=image/png:https://eadn-wc05-13503014.nxedge.io/wp-content/uploads/2024/10/Open-Walking-24-25.png
END:VEVENT
BEGIN:VEVENT
DTSTART;TZID=America/Denver:20250423T070000
DTEND;TZID=America/Denver:20250423T100000
DTSTAMP:20260419T193646
CREATED:20241010T173756Z
LAST-MODIFIED:20241016T224605Z
UID:10000870-1745391600-1745402400@skihicomplex.com
SUMMARY:Opening Walking
DESCRIPTION:
URL:https://skihicomplex.com/event/opening-walking/2025-04-23/
LOCATION:Outcalt Event & Conference at SLV Ski Hi Complex
CATEGORIES:Event Center
ATTACH;FMTTYPE=image/png:https://eadn-wc05-13503014.nxedge.io/wp-content/uploads/2024/10/Open-Walking-24-25.png
END:VEVENT
BEGIN:VEVENT
DTSTART;VALUE=DATE:20250423
DTEND;VALUE=DATE:20250425
DTSTAMP:20260419T193646
CREATED:20241015T010857Z
LAST-MODIFIED:20241015T010857Z
UID:10001042-1745366400-1745539199@skihicomplex.com
SUMMARY:Monte Vista Coop Progressive Safety Days
DESCRIPTION:
URL:https://skihicomplex.com/event/monte-vista-coop-progressive-safety-days/
LOCATION:Outcalt Event & Conference at SLV Ski Hi Complex
CATEGORIES:Event Center
END:VEVENT
BEGIN:VEVENT
DTSTART;TZID=America/Denver:20250422T170000
DTEND;TZID=America/Denver:20250422T190000
DTSTAMP:20260419T193646
CREATED:20241010T174434Z
LAST-MODIFIED:20241017T155836Z
UID:10000969-1745341200-1745348400@skihicomplex.com
SUMMARY:Open Walking
DESCRIPTION:
URL:https://skihicomplex.com/event/open-walking/2025-04-22/
LOCATION:Outcalt Event & Conference at SLV Ski Hi Complex
CATEGORIES:Event Center
ATTACH;FMTTYPE=image/png:https://eadn-wc05-13503014.nxedge.io/wp-content/uploads/2024/10/Open-Walking-24-25.png
END:VEVENT
BEGIN:VEVENT
DTSTART;TZID=America/Denver:20250422T070000
DTEND;TZID=America/Denver:20250422T100000
DTSTAMP:20260419T193646
CREATED:20241010T173756Z
LAST-MODIFIED:20241016T224605Z
UID:10000869-1745305200-1745316000@skihicomplex.com
SUMMARY:Opening Walking
DESCRIPTION:
URL:https://skihicomplex.com/event/opening-walking/2025-04-22/
LOCATION:Outcalt Event & Conference at SLV Ski Hi Complex
CATEGORIES:Event Center
ATTACH;FMTTYPE=image/png:https://eadn-wc05-13503014.nxedge.io/wp-content/uploads/2024/10/Open-Walking-24-25.png
END:VEVENT
BEGIN:VEVENT
DTSTART;TZID=America/Denver:20250421T170000
DTEND;TZID=America/Denver:20250421T190000
DTSTAMP:20260419T193646
CREATED:20241010T174434Z
LAST-MODIFIED:20241017T155836Z
UID:10000968-1745254800-1745262000@skihicomplex.com
SUMMARY:Open Walking
DESCRIPTION:
URL:https://skihicomplex.com/event/open-walking/2025-04-21/
LOCATION:Outcalt Event & Conference at SLV Ski Hi Complex
CATEGORIES:Event Center
ATTACH;FMTTYPE=image/png:https://eadn-wc05-13503014.nxedge.io/wp-content/uploads/2024/10/Open-Walking-24-25.png
END:VEVENT
END:VCALENDAR