BEGIN:VCALENDAR
VERSION:2.0
PRODID:-//Outcalt Event Center Ski Hi Event Complex - ECPv6.15.17.1//NONSGML v1.0//EN
CALSCALE:GREGORIAN
METHOD:PUBLISH
X-WR-CALNAME:Outcalt Event Center Ski Hi Event Complex
X-ORIGINAL-URL:https://skihicomplex.com
X-WR-CALDESC:Events for Outcalt Event Center Ski Hi Event Complex
REFRESH-INTERVAL;VALUE=DURATION:PT1H
X-Robots-Tag:noindex
X-PUBLISHED-TTL:PT1H
BEGIN:VTIMEZONE
TZID:America/Denver
BEGIN:DAYLIGHT
TZOFFSETFROM:-0700
TZOFFSETTO:-0600
TZNAME:MDT
DTSTART:20240310T090000
END:DAYLIGHT
BEGIN:STANDARD
TZOFFSETFROM:-0600
TZOFFSETTO:-0700
TZNAME:MST
DTSTART:20241103T080000
END:STANDARD
BEGIN:DAYLIGHT
TZOFFSETFROM:-0700
TZOFFSETTO:-0600
TZNAME:MDT
DTSTART:20250309T090000
END:DAYLIGHT
BEGIN:STANDARD
TZOFFSETFROM:-0600
TZOFFSETTO:-0700
TZNAME:MST
DTSTART:20251102T080000
END:STANDARD
BEGIN:DAYLIGHT
TZOFFSETFROM:-0700
TZOFFSETTO:-0600
TZNAME:MDT
DTSTART:20260308T090000
END:DAYLIGHT
BEGIN:STANDARD
TZOFFSETFROM:-0600
TZOFFSETTO:-0700
TZNAME:MST
DTSTART:20261101T080000
END:STANDARD
END:VTIMEZONE
BEGIN:VEVENT
DTSTART;VALUE=DATE:20250726
DTEND;VALUE=DATE:20250727
DTSTAMP:20260419T193631
CREATED:20250226T210303Z
LAST-MODIFIED:20250226T210303Z
UID:10001122-1753488000-1753574399@skihicomplex.com
SUMMARY:Private Event
DESCRIPTION:
URL:https://skihicomplex.com/event/private-event-46/
LOCATION:Outcalt Event & Conference at SLV Ski Hi Complex
CATEGORIES:Banquet Room
END:VEVENT
BEGIN:VEVENT
DTSTART;TZID=America/Denver:20250718T173000
DTEND;TZID=America/Denver:20250718T230000
DTSTAMP:20260419T193631
CREATED:20250311T165604Z
LAST-MODIFIED:20250311T165604Z
UID:10001146-1752859800-1752879600@skihicomplex.com
SUMMARY:Bolos & Boots
DESCRIPTION:
URL:https://skihicomplex.com/event/bolos-boots/
LOCATION:Outcalt Event & Conference at SLV Ski Hi Complex
CATEGORIES:Banquet Room
ATTACH;FMTTYPE=application/pdf:https://eadn-wc05-13503014.nxedge.io/wp-content/uploads/2025/03/Bolos-and-Boots-Flyer-Updated.pdf
END:VEVENT
BEGIN:VEVENT
DTSTART;VALUE=DATE:20250711
DTEND;VALUE=DATE:20250714
DTSTAMP:20260419T193631
CREATED:20250618T220701Z
LAST-MODIFIED:20250618T220701Z
UID:10001235-1752192000-1752451199@skihicomplex.com
SUMMARY:Unavailable
DESCRIPTION:
URL:https://skihicomplex.com/event/unavailable-12/
LOCATION:Outcalt Event & Conference at SLV Ski Hi Complex
CATEGORIES:Banquet Room
END:VEVENT
BEGIN:VEVENT
DTSTART;TZID=America/Denver:20250710T170000
DTEND;TZID=America/Denver:20250710T190000
DTSTAMP:20260419T193631
CREATED:20250618T212806Z
LAST-MODIFIED:20250618T212837Z
UID:10001224-1752166800-1752174000@skihicomplex.com
SUMMARY:Monte Vista Rotary Chuckwagon Dinner
DESCRIPTION:Join us for us before the SLV Ski Hi Stampede Concert for a hearty meal provided by the Monte Vista Rotary! Tickets available for purchase at the door or the Monte Vista Information Center.
URL:https://skihicomplex.com/event/monte-vista-rotary-chuckwagon-dinner/
LOCATION:Outcalt Event & Conference at SLV Ski Hi Complex
CATEGORIES:Banquet Room
ATTACH;FMTTYPE=image/png:https://eadn-wc05-13503014.nxedge.io/wp-content/uploads/2025/06/Rotary.png
END:VEVENT
BEGIN:VEVENT
DTSTART;VALUE=DATE:20250627
DTEND;VALUE=DATE:20250629
DTSTAMP:20260419T193631
CREATED:20250413T055135Z
LAST-MODIFIED:20250413T055135Z
UID:10001194-1750982400-1751155199@skihicomplex.com
SUMMARY:Private Event
DESCRIPTION:
URL:https://skihicomplex.com/event/private-event-58/
LOCATION:Outcalt Event & Conference at SLV Ski Hi Complex
CATEGORIES:Banquet Room
END:VEVENT
BEGIN:VEVENT
DTSTART;VALUE=DATE:20250623
DTEND;VALUE=DATE:20250624
DTSTAMP:20260419T193631
CREATED:20250528T181945Z
LAST-MODIFIED:20250528T181945Z
UID:10001218-1750636800-1750723199@skihicomplex.com
SUMMARY:Private Event
DESCRIPTION:
URL:https://skihicomplex.com/event/private-event-75/
LOCATION:Outcalt Event & Conference at SLV Ski Hi Complex
CATEGORIES:Banquet Room
END:VEVENT
BEGIN:VEVENT
DTSTART;VALUE=DATE:20250621
DTEND;VALUE=DATE:20250622
DTSTAMP:20260419T193631
CREATED:20241015T011114Z
LAST-MODIFIED:20241015T011114Z
UID:10001046-1750464000-1750550399@skihicomplex.com
SUMMARY:Rocky Mountain Elk Foundation Banquet
DESCRIPTION:
URL:https://skihicomplex.com/event/rocky-mountain-elk-foundation-banquet/
LOCATION:Outcalt Event & Conference at SLV Ski Hi Complex
CATEGORIES:Banquet Room
END:VEVENT
BEGIN:VEVENT
DTSTART;VALUE=DATE:20250612
DTEND;VALUE=DATE:20250614
DTSTAMP:20260419T193631
CREATED:20250413T055008Z
LAST-MODIFIED:20250413T055008Z
UID:10001192-1749686400-1749859199@skihicomplex.com
SUMMARY:SLV AHEC - Neonatal Symposium
DESCRIPTION:
URL:https://skihicomplex.com/event/slv-ahec-neonatal-symposium/
LOCATION:Outcalt Event & Conference at SLV Ski Hi Complex
CATEGORIES:Banquet Room
END:VEVENT
BEGIN:VEVENT
DTSTART;VALUE=DATE:20250611
DTEND;VALUE=DATE:20250612
DTSTAMP:20260419T193631
CREATED:20250413T054843Z
LAST-MODIFIED:20250413T054843Z
UID:10001191-1749600000-1749686399@skihicomplex.com
SUMMARY:Wenta Nip Customer Appreciation
DESCRIPTION:
URL:https://skihicomplex.com/event/wenta-nip-customer-appreciation/
LOCATION:Outcalt Event & Conference at SLV Ski Hi Complex
CATEGORIES:Banquet Room
END:VEVENT
BEGIN:VEVENT
DTSTART;VALUE=DATE:20250610
DTEND;VALUE=DATE:20250611
DTSTAMP:20260419T193631
CREATED:20250226T205219Z
LAST-MODIFIED:20250226T205219Z
UID:10001113-1749513600-1749599999@skihicomplex.com
SUMMARY:SLV Rural Electrical Coop Annual Meeting
DESCRIPTION:
URL:https://skihicomplex.com/event/slv-rural-electrical-coop-annual-meeting/
LOCATION:Outcalt Event & Conference at SLV Ski Hi Complex
CATEGORIES:Banquet Room
END:VEVENT
BEGIN:VEVENT
DTSTART;VALUE=DATE:20250603
DTEND;VALUE=DATE:20250604
DTSTAMP:20260419T193631
CREATED:20241015T011014Z
LAST-MODIFIED:20241015T011014Z
UID:10001044-1748908800-1748995199@skihicomplex.com
SUMMARY:Monte Vista Coop Annual Meeting
DESCRIPTION:
URL:https://skihicomplex.com/event/monte-vista-coop-annual-meeting/
LOCATION:Outcalt Event & Conference at SLV Ski Hi Complex
CATEGORIES:Banquet Room
END:VEVENT
BEGIN:VEVENT
DTSTART;VALUE=DATE:20250524
DTEND;VALUE=DATE:20250525
DTSTAMP:20260419T193631
CREATED:20250226T204658Z
LAST-MODIFIED:20250226T204658Z
UID:10001110-1748044800-1748131199@skihicomplex.com
SUMMARY:Private Event
DESCRIPTION:
URL:https://skihicomplex.com/event/private-event-41/
LOCATION:Outcalt Event & Conference at SLV Ski Hi Complex
CATEGORIES:Banquet Room
END:VEVENT
BEGIN:VEVENT
DTSTART;TZID=America/Denver:20250518T160000
DTEND;TZID=America/Denver:20250518T180000
DTSTAMP:20260419T193631
CREATED:20250413T053732Z
LAST-MODIFIED:20250413T053732Z
UID:10001184-1747584000-1747591200@skihicomplex.com
SUMMARY:Dance Lessons
DESCRIPTION:
URL:https://skihicomplex.com/event/dance-lessons-5/
LOCATION:Outcalt Event & Conference at SLV Ski Hi Complex
CATEGORIES:Banquet Room
ATTACH;FMTTYPE=application/pdf:https://eadn-wc05-13503014.nxedge.io/wp-content/uploads/2025/04/Ski-Hi-Complex-Dance-Lessons-1-1.pdf
END:VEVENT
BEGIN:VEVENT
DTSTART;VALUE=DATE:20250517
DTEND;VALUE=DATE:20250518
DTSTAMP:20260419T193631
CREATED:20250413T053508Z
LAST-MODIFIED:20250413T053508Z
UID:10001182-1747440000-1747526399@skihicomplex.com
SUMMARY:Private Event
DESCRIPTION:
URL:https://skihicomplex.com/event/private-event-56/
LOCATION:Outcalt Event & Conference at SLV Ski Hi Complex
CATEGORIES:Banquet Room
END:VEVENT
BEGIN:VEVENT
DTSTART;VALUE=DATE:20250515
DTEND;VALUE=DATE:20250516
DTSTAMP:20260419T193631
CREATED:20250227T185729Z
LAST-MODIFIED:20250227T185729Z
UID:10001123-1747267200-1747353599@skihicomplex.com
SUMMARY:Recipe for Hope Fundraiser - Invitation Only
DESCRIPTION:
URL:https://skihicomplex.com/event/recipe-for-hope-fundraiser-invitation-only/
LOCATION:Outcalt Event & Conference at SLV Ski Hi Complex
CATEGORIES:Banquet Room
END:VEVENT
BEGIN:VEVENT
DTSTART;VALUE=DATE:20250514
DTEND;VALUE=DATE:20250515
DTSTAMP:20260419T193631
CREATED:20250413T053448Z
LAST-MODIFIED:20250413T053448Z
UID:10001181-1747180800-1747267199@skihicomplex.com
SUMMARY:Unavailable
DESCRIPTION:
URL:https://skihicomplex.com/event/unavailable-8/
LOCATION:Outcalt Event & Conference at SLV Ski Hi Complex
CATEGORIES:Banquet Room
END:VEVENT
BEGIN:VEVENT
DTSTART;TZID=America/Denver:20250509T090000
DTEND;TZID=America/Denver:20250509T140000
DTSTAMP:20260419T193631
CREATED:20250413T053050Z
LAST-MODIFIED:20250413T053050Z
UID:10001177-1746781200-1746799200@skihicomplex.com
SUMMARY:Celebrating Aging Conference
DESCRIPTION:
URL:https://skihicomplex.com/event/celebrating-aging-conference/
LOCATION:Outcalt Event & Conference at SLV Ski Hi Complex
CATEGORIES:Banquet Room
ATTACH;FMTTYPE=image/png:https://eadn-wc05-13503014.nxedge.io/wp-content/uploads/2025/04/2025-Celebrating-Aging-Conference-Poster.png
END:VEVENT
BEGIN:VEVENT
DTSTART;VALUE=DATE:20250507
DTEND;VALUE=DATE:20250508
DTSTAMP:20260419T193631
CREATED:20250413T052827Z
LAST-MODIFIED:20250413T052827Z
UID:10001175-1746576000-1746662399@skihicomplex.com
SUMMARY:SLV BOCES - Teacher of the Year Banquet
DESCRIPTION:
URL:https://skihicomplex.com/event/slv-boces-teacher-of-the-year-banquet/
LOCATION:Outcalt Event & Conference at SLV Ski Hi Complex
CATEGORIES:Banquet Room
END:VEVENT
BEGIN:VEVENT
DTSTART;TZID=America/Denver:20250504T160000
DTEND;TZID=America/Denver:20250504T180000
DTSTAMP:20260419T193631
CREATED:20250413T053654Z
LAST-MODIFIED:20250413T053654Z
UID:10001183-1746374400-1746381600@skihicomplex.com
SUMMARY:Dance Lessons
DESCRIPTION:
URL:https://skihicomplex.com/event/dance-lessons-4/
LOCATION:Outcalt Event & Conference at SLV Ski Hi Complex
CATEGORIES:Banquet Room
ATTACH;FMTTYPE=application/pdf:https://eadn-wc05-13503014.nxedge.io/wp-content/uploads/2025/04/Ski-Hi-Complex-Dance-Lessons-1.pdf
END:VEVENT
BEGIN:VEVENT
DTSTART;VALUE=DATE:20250503
DTEND;VALUE=DATE:20250504
DTSTAMP:20260419T193631
CREATED:20250430T185555Z
LAST-MODIFIED:20250430T185555Z
UID:10001198-1746230400-1746316799@skihicomplex.com
SUMMARY:Private Event
DESCRIPTION:
URL:https://skihicomplex.com/event/private-event-62/
LOCATION:Outcalt Event & Conference at SLV Ski Hi Complex
CATEGORIES:Banquet Room
END:VEVENT
BEGIN:VEVENT
DTSTART;TZID=America/Denver:20250427T110000
DTEND;TZID=America/Denver:20250427T140000
DTSTAMP:20260419T193631
CREATED:20250413T052404Z
LAST-MODIFIED:20250413T052404Z
UID:10001172-1745751600-1745762400@skihicomplex.com
SUMMARY:LOR Foundation - Resource Fair
DESCRIPTION:
URL:https://skihicomplex.com/event/lor-foundation-resource-fair/
LOCATION:Outcalt Event & Conference at SLV Ski Hi Complex
CATEGORIES:Banquet Room
END:VEVENT
BEGIN:VEVENT
DTSTART;TZID=America/Denver:20250421T180000
DTEND;TZID=America/Denver:20250421T200000
DTSTAMP:20260419T193631
CREATED:20250413T051957Z
LAST-MODIFIED:20250413T051957Z
UID:10001169-1745258400-1745265600@skihicomplex.com
SUMMARY:Rio Grande County Public Hearing - Aquatic Center
DESCRIPTION:
URL:https://skihicomplex.com/event/rio-grande-county-public-hearing-aquatic-center/
LOCATION:Outcalt Event & Conference at SLV Ski Hi Complex
CATEGORIES:Banquet Room
END:VEVENT
BEGIN:VEVENT
DTSTART;TZID=America/Denver:20250417T180000
DTEND;TZID=America/Denver:20250417T210000
DTSTAMP:20260419T193631
CREATED:20250305T161801Z
LAST-MODIFIED:20250305T161801Z
UID:10001125-1744912800-1744923600@skihicomplex.com
SUMMARY:Mountainfilm on Tour - Monte Vista
DESCRIPTION:
URL:https://skihicomplex.com/event/mountainfilm-on-tour-monte-vista/
LOCATION:Outcalt Event & Conference at SLV Ski Hi Complex
CATEGORIES:Banquet Room
ATTACH;FMTTYPE=image/jpeg:https://eadn-wc05-13503014.nxedge.io/wp-content/uploads/2025/03/FacebookCoverPhoto-MonteVista.jpg
END:VEVENT
BEGIN:VEVENT
DTSTART;VALUE=DATE:20250412
DTEND;VALUE=DATE:20250414
DTSTAMP:20260419T193631
CREATED:20241015T010746Z
LAST-MODIFIED:20241015T010746Z
UID:10001040-1744416000-1744588799@skihicomplex.com
SUMMARY:Monte Vista High School After Prom
DESCRIPTION:
URL:https://skihicomplex.com/event/monte-vista-high-school-after-prom/
LOCATION:Outcalt Event & Conference at SLV Ski Hi Complex
CATEGORIES:Banquet Room
END:VEVENT
BEGIN:VEVENT
DTSTART;VALUE=DATE:20250411
DTEND;VALUE=DATE:20250412
DTSTAMP:20260419T193631
CREATED:20250413T051424Z
LAST-MODIFIED:20250413T051424Z
UID:10001160-1744329600-1744415999@skihicomplex.com
SUMMARY:Nightingale Nursing Awards
DESCRIPTION:
URL:https://skihicomplex.com/event/nightingale-nursing-awards/
LOCATION:Outcalt Event & Conference at SLV Ski Hi Complex
CATEGORIES:Banquet Room
END:VEVENT
BEGIN:VEVENT
DTSTART;TZID=America/Denver:20250406T160000
DTEND;TZID=America/Denver:20250406T180000
DTSTAMP:20260419T193631
CREATED:20250217T170720Z
LAST-MODIFIED:20250217T170720Z
UID:10001090-1743955200-1743962400@skihicomplex.com
SUMMARY:Dance Lessons
DESCRIPTION:
URL:https://skihicomplex.com/event/dance-lessons-3/
LOCATION:Outcalt Event & Conference at SLV Ski Hi Complex
CATEGORIES:Banquet Room
ATTACH;FMTTYPE=application/pdf:https://eadn-wc05-13503014.nxedge.io/wp-content/uploads/2025/02/Ski-Hi-Complex-Dance-Lessons-2.pdf
END:VEVENT
BEGIN:VEVENT
DTSTART;VALUE=DATE:20250405
DTEND;VALUE=DATE:20250406
DTSTAMP:20260419T193631
CREATED:20250413T050646Z
LAST-MODIFIED:20250413T050646Z
UID:10001147-1743811200-1743897599@skihicomplex.com
SUMMARY:NRA Banquet
DESCRIPTION:
URL:https://skihicomplex.com/event/nra-banquet/
LOCATION:Outcalt Event & Conference at SLV Ski Hi Complex
CATEGORIES:Banquet Room
END:VEVENT
BEGIN:VEVENT
DTSTART;VALUE=DATE:20250404
DTEND;VALUE=DATE:20250405
DTSTAMP:20260419T193631
CREATED:20250413T050717Z
LAST-MODIFIED:20250413T050717Z
UID:10001148-1743724800-1743811199@skihicomplex.com
SUMMARY:Unavailable 
DESCRIPTION:
URL:https://skihicomplex.com/event/unavailable-7/
LOCATION:Outcalt Event & Conference at SLV Ski Hi Complex
CATEGORIES:Banquet Room
END:VEVENT
BEGIN:VEVENT
DTSTART;VALUE=DATE:20250403
DTEND;VALUE=DATE:20250404
DTSTAMP:20260419T193631
CREATED:20250217T170458Z
LAST-MODIFIED:20250217T170458Z
UID:10001089-1743638400-1743724799@skihicomplex.com
SUMMARY:Farm Credit of Southern Colorado Customer Appreciation Event
DESCRIPTION:
URL:https://skihicomplex.com/event/farm-credit-of-southern-colorado-customer-appreciation-event/
LOCATION:Outcalt Event & Conference at SLV Ski Hi Complex
CATEGORIES:Banquet Room
END:VEVENT
BEGIN:VEVENT
DTSTART;VALUE=DATE:20250402
DTEND;VALUE=DATE:20250403
DTSTAMP:20260419T193631
CREATED:20250217T170228Z
LAST-MODIFIED:20250217T170228Z
UID:10001085-1743552000-1743638399@skihicomplex.com
SUMMARY:Heart of Saguache (Youth Event)
DESCRIPTION:
URL:https://skihicomplex.com/event/heart-of-saguache-youth-event/
LOCATION:Outcalt Event & Conference at SLV Ski Hi Complex
CATEGORIES:Banquet Room
END:VEVENT
END:VCALENDAR